{"text_format":"1","workbook":"xlsx","n_sheets":9,"sheets":["Background","Game Introduction","Schedule Requirements","Build Your Schedule","Error Summary","Error Details","Optimization Approach","OS Statistics","checker"],"not_rendered":{"charts":0,"images":1,"macros":1,"external_links":0,"defined_names":57,"comments":0,"pivot_tables":0},"unopened":[],"bounds":{"document_bytes":16777216,"sheet_cells":100000,"rows_first":2000,"rows_last":500,"rows_between":2000,"halvings":0,"cell_chars":16384,"cell_head_chars":4096},"cells_cut":0,"cells_raw":0,"read":"whole","date_system":"1900"}

{"sheet":"Background","index":0,"n_rows":14,"n_cols":2,"rows_kept":14,"cut":false,"hidden":false,"merged":[]}
[]
[]
[]
[]
[]
[null,"Creating Schedules for Medical Residents: Manual and Optimization-Based Approaches"]
[]
[null,"Background"]
[null,"The purpose of this game is to demonstrate how complicated scheduling problems can be (such as assigning medical residency to shifts in an emergency department), to give you hands-on experience in the difficulty of building such schedules manually, and to contrast this with the ease with which many such problems can be solved by using an optimization-based approach."]
[null,"Scheduling Medical Residents in a Pediatric Emergency Department"]
[null,"      Residents are physicians who have completed medical school but are not yet qualified to practice medicine independently. Residency, which lasts from three to seven years, is a period in which residents provide care for patients while receiving additional training from and supervision by more senior physicians (known as attendings)."]
[null,"      Residents are typically assigned to different rotations on a monthly basis. One such rotation for residents training in pediatric medicine is the staffing of the pediatric emergency department."]
[null,"      In the pediatric ED at the University of MIchigan C.S. Mott Children's Hospital, the day is divided into seven overlapping shifts, each of which must be staffed by a resident. There are many different rules that specify which residents are eligible to work which shift (for example interns, or first year residents, are the least experienced and therefore cannot work certain times of day; each resident has specific days of week in which they are engaged in other training activities and therefore cannot work in the ED, etc.), how many shifts each resident should work, and more.  The shift scheduling problem is to assign a resident to each shift within the month while ensuring that all of the rules are met, attempting to accommodate personal preferences and ensuring that both patient care and educational needs are met. "]
[null,"      It is typical across most residency programs for the Chief Resident (a resident who remains in his or her residency program for an extra year in a more advanced role) to be in charge of building the shift schedule, typically with very little computerized support. \nIn the worksheets that follow, you will walk through a greatly-simplified version of this scheduling process, seeing how time-consuming and frustrating it is to build a shift schedule by hand and how difficult it is to ensure that all requirements are met. \nThe final worksheet will then present an optimization-based approach which, in contrast, can generate a feasible schedule -- one that satisfies all of the specified requirements -- in a matter of moments. "]

{"sheet":"Game Introduction","index":1,"n_rows":13,"n_cols":2,"rows_kept":13,"cut":false,"hidden":false,"merged":[]}
[]
[null,"The Game"]
[null,"Your challenge is to build a feasible shift schedule for a month in the Pediatric Emergency Department. For each shift, you will need to assign one of the residents currently on rotation, while ensuring that all of the given rules (a small subset of the true set of rules) are followed."]
[]
[null,"How to Play"]
[null,"1. Read the \"Schedule Requirements\" tab and make note of the rules that you must follow to create a feasible schedule."]
[null,"2. In the \"Build Your Schedule\" tab, type the name of the resident you wish to assign to each shift. "]
[null,"3. When you've finished creating your schedule, click the \"Check For Errors\" button in the same tab to see whether or not your schedule is feasible."]
[null,"4. When you click the \"Check For Errors\" button, two new tabs will appear: \"Error Summary\" and \"Error Details\"."]
[null,"5. First, go to the \"Error Summary\" tab. This will show you a summary of the rules and identify whether any errors were made."]
[null,"6. If there were, click the \"See Error Details\" button or go to the \"Error Details\" tab to get detailed information about where your errors occurred."]
[null,"7. After identifying the errors, you can go back to the \"Build Your Schedule\" tab to fix the errors and improve your schedule."]
[null,"8.  From either of the two \"Error\" tabs, you can click the \"Use Optimization to Build a Schedule\" button to automatically create a schedule using optimization-based techniques. However, the \"Optimization-based technique\" cannot be used with Macs or any computer that does not have Opensolver. To install the free Opensolve extension for Excel, see the CHEPS web site."]

{"sheet":"Schedule Requirements","index":2,"n_rows":14,"n_cols":2,"rows_kept":14,"cut":false,"hidden":false,"merged":[[13,1,13,3],[8,1,8,3],[9,1,9,3],[10,1,10,3],[11,1,11,3],[12,1,12,3],[1,1,1,3],[2,1,2,3],[4,1,4,3],[5,1,5,3],[6,1,6,3]]}
[]
[null,"Schedule Requirements"]
[null,"The following is a greatly-simplified version of the set of rules that the Chief Resident must satisfy when building a schedule. "]
[]
[null,"Definitions"]
[null,"Night Shifts: The (8p-5a) and (11p-8a) shifts are considered night shifts"]
[null,"Interns: First year residents are referred to as interns"]
[]
[null,"Rules"]
[null,"Every shift needs a resident."]
[null,"Each resident must be assigned to between 12 and 16 shifts, with 2 to 5 of these shifts being night shifts."]
[null,"Residents must have at least a ten-hour break after their most recent shift before they can work again."]
[null,"Interns cannot work the first shift (7a-4p) or the last shift (11p-8a) of the day."]
[null,"Each resident has a specific day of week he or she cannot work. This is specified under \"Resident Requirements\" in the \"Build Your Schedule\" tab. "]

{"sheet":"Build Your Schedule","index":3,"n_rows":39,"n_cols":37,"rows_kept":39,"cut":false,"hidden":false,"merged":[[13,2,13,3],[8,2,8,3],[9,2,9,3],[10,2,10,3],[11,2,11,3],[12,2,12,3],[3,1,3,4],[4,2,4,3],[5,2,5,3],[6,2,6,3],[7,2,7,3],[38,1,38,4],[35,1,35,4],[31,1,31,4],[36,1,36,4],[37,1,37,4],[32,1,32,4],[33,1,33,4],[34,1,34,4],[30,1,30,4],[14,2,14,3],[15,2,15,3],[16,2,16,3],[17,2,17,3],[18,2,18,3],[19,2,19,3],[20,2,20,3],[22,1,22,3],[1,7,1,16],[26,3,26,4],[27,3,27,4],[28,3,28,4],[29,3,29,4],[21,1,21,4],[23,1,23,2],[24,1,24,2],[25,1,25,2],[26,1,26,2],[27,1,27,2],[28,1,28,2],[29,1,29,2],[23,3,23,4],[24,3,24,4],[25,3,25,4]]}
[]
[null,null,null,null,null,null,null,"June Schedule (Insert resident names in the cells below)"]
[null,null,null,null,null,null,null,"Mon","Tue","Wed","Thu","Fri","Sat","Sun","Mon","Tue","Wed","Thu","Fri","Sat","Sun","Mon","Tue","Wed","Thu","Fri","Sat","Sun","Mon","Tue","Wed","Thu","Fri","Sat","Sun","Mon","Tue"]
[null,"Resident Requirements",null,null,null,null,"Day Shift","2015-06-01","2015-06-02","2015-06-03","2015-06-04","2015-06-05","2015-06-06","2015-06-07","2015-06-08","2015-06-09","2015-06-10","2015-06-11","2015-06-12","2015-06-13","2015-06-14","2015-06-15","2015-06-16","2015-06-17","2015-06-18","2015-06-19","2015-06-20","2015-06-21","2015-06-22","2015-06-23","2015-06-24","2015-06-25","2015-06-26","2015-06-27","2015-06-28","2015-06-29","2015-06-30"]
[null,"Name","Is Intern?",null,"Cannot Work on…",null,"7a-4p"]
[null,"Adamson","Yes",null,"Wednesdays",null,"9a-6p"]
[null,"Almanza",null,null,"Thursdays",null,"12p-9p"]
[null,"Chase","Yes",null,"Mondays",null,"4p-1a"]
[null,"Dunn","Yes",null,"Wednesdays",null,"5p-2a"]
[null,"Elder",null,null,"Saturdays",null,"8p-5a"]
[null,"Ellington",null,null,"Wednesdays",null,"11p-8a"]
[null,"Haynes","Yes",null,"Fridays",null,"Night Shift"]
[null,"Kahn","Yes",null,"Wednesdays"]
[null,"Mollison","Yes",null,"Tuesdays"]
[null,"Quick","Yes",null,"Wednesdays"]
[null,"Stumpos","Yes",null,"Tuesdays"]
[null,"Vidal",null,null,"Wednesdays"]
[null,"West",null,null,"Fridays"]
[null,"Xiong",null,null,"Tuesdays"]
[null,"Yee",null,null,"Wednesdays"]
[null,"Zamora",null,null,"Thursdays"]
[null,"Ten-Hour Rest Rules"]
[null,"Initial Shift",null,null,"Next Eligible Shift"]
[null,"7a-4p",null,"7a-4p (next day)"]
[null,"9a-6p",null,"7a-4p (next day)"]
[null,"12p-9p",null,"7a-4p (next day)"]
[null,"4p-1a",null,"12p-9p (next day)"]
[null,"5p-2a",null,"12p-9p (next day)"]
[null,"8p-5a",null,"4p-1a (next day)"]
[null,"11p-8a",null,"8p-5a (next day)"]
[null,"Shifts Requirements"]
[null,"All Residents…"]
[null,"...must work at least 12 shifts"]
[null,"...cannot work more than 16 shifts"]
[null,"...must work at least 2 night shifts"]
[null,"…cannot work more than 5 night shifts"]
[null,"All Interns…"]
[null,"…cannot work the first shift (7a-4p)"]
[null,"…cannot work the last shift (11p-8a)"]

{"sheet":"Error Summary","index":4,"n_rows":15,"n_cols":3,"rows_kept":15,"cut":false,"hidden":true,"merged":[[14,2,15,2],[14,1,15,1]]}
[]
[null,"List of Errors","Number of Violations"]
[null,"Number of Shifts Without a Resident",{"$f":"COUNTBLANK('Build Your Schedule'!H5:AK11)","v":210}]
[null,"Number of Misspellings",{"$f":"SUM('Error Details'!C23:AF29)","v":0}]
[null,"Number of Residents…."]
[null,"…not reaching at least 12 shifts",{"$f":"COUNTIF('Error Details'!F3:G18,\">\"&0)","v":16}]
[null,"…exceeding more than 16 shifts",{"$f":"COUNTIF('Error Details'!H3:I18,\">\"&0)","v":0}]
[null,"…not reaching at least 2 night shifts",{"$f":"COUNTIF('Error Details'!L3:M18,\">\"&0)","v":16}]
[null,"…exceeding more than 5 night shifts",{"$f":"COUNTIF('Error Details'!N3:O18,\">\"&0)","v":0}]
[null,"…working within 10 hours of previous shift",{"$f":"SUM('Error Details'!C33:AF39,'Error Details'!C42:AF48,'Error Details'!C51:AF57,'Error Details'!C60:AF66,'Error Details'!C69:AF75,'Error Details'!C78:AF84,'Error Details'!C87:AF93,'Error Details'!C96:AF102,'Error Details'!C105:AF111,'Error Details'!C114:AF120,'Error Details'!C123:AF129,'Error Details'!C132:AF138,'Error Details'!C141:AF147,'Error Details'!C150:AF156,'Error Details'!C159:AF165,'Error Details'!C168:AF174)","v":0}]
[null,"…working on required day off",{"$f":"SUM('Error Details'!T3:T18)","v":0}]
[null,"Number of Interns…"]
[null,"...on morning shift",{"$f":"SUM('Error Details'!P3,'Error Details'!P5,'Error Details'!P6,'Error Details'!P9,'Error Details'!P10,'Error Details'!P11,'Error Details'!P12,'Error Details'!P13)","v":0}]
[null,"...on night shift",{"$f":"SUM('Error Details'!R3,'Error Details'!R5,'Error Details'!R6,'Error Details'!R9,'Error Details'!R10,'Error Details'!R11,'Error Details'!R12,'Error Details'!R13)","v":0}]
[null,"Total Violations",{"$f":"SUM(C13:C14,C6:C11,C3:C4)","v":242}]

{"sheet":"Error Details","index":5,"n_rows":174,"n_cols":32,"rows_kept":174,"cut":false,"hidden":true,"merged":[[17,13,17,14],[1,1,1,2],[1,3,1,4],[1,5,1,6],[1,7,1,8],[16,11,16,12],[17,11,17,12],[2,13,2,14],[3,13,3,14],[4,13,4,14],[5,13,5,14],[6,13,6,14],[7,13,7,14],[8,13,8,14],[9,13,9,14],[10,13,10,14],[11,13,11,14],[12,13,12,14],[13,13,13,14],[14,13,14,14],[15,13,15,14],[16,9,16,10],[17,9,17,10],[10,9,10,10],[17,21,17,22],[2,11,2,12],[3,11,3,12],[4,11,4,12],[5,11,5,12],[6,11,6,12],[7,11,7,12],[8,11,8,12],[9,11,9,12],[10,11,10,12],[11,11,11,12],[12,11,12,12],[13,11,13,12],[14,11,14,12],[15,11,15,12],[16,19,16,20],[17,19,17,20],[2,21,2,22],[3,21,3,22],[4,21,4,22],[5,21,5,22],[6,21,6,22],[7,21,7,22],[16,13,16,14],[8,21,8,22],[9,21,9,22],[10,21,10,22],[11,21,11,22],[12,21,12,22],[13,21,13,22],[14,21,14,22],[15,21,15,22],[16,17,16,18],[16,21,16,22],[9,15,9,16],[17,17,17,18],[2,19,2,20],[3,19,3,20],[4,19,4,20],[5,19,5,20],[6,19,6,20],[7,19,7,20],[8,19,8,20],[9,19,9,20],[10,19,10,20],[11,19,11,20],[12,19,12,20],[13,19,13,20],[14,19,14,20],[15,19,15,20],[12,9,12,10],[13,9,13,10],[14,9,14,10],[15,9,15,10],[16,15,16,16],[17,15,17,16],[2,17,2,18],[4,17,4,18],[5,17,5,18],[6,17,6,18],[7,17,7,18],[3,17,3,18],[8,17,8,18],[9,17,9,18],[10,17,10,18],[11,17,11,18],[12,17,12,18],[13,17,13,18],[14,17,14,18],[15,17,15,18],[2,15,2,16],[3,15,3,16],[7,15,7,16],[8,15,8,16],[17,5,17,6],[2,3,2,4],[3,3,3,4],[4,3,4,4],[5,3,5,4],[6,3,6,4],[7,3,7,4],[10,15,10,16],[11,15,11,16],[12,15,12,16],[13,15,13,16],[14,15,14,16],[15,15,15,16],[16,7,16,8],[17,7,17,8],[2,9,2,10],[3,9,3,10],[4,9,4,10],[5,9,5,10],[6,9,6,10],[7,9,7,10],[8,9,8,10],[9,9,9,10],[11,9,11,10],[11,7,11,8],[12,7,12,8],[13,7,13,8],[14,7,14,8],[15,7,15,8],[16,5,16,6],[8,5,8,6],[9,5,9,6],[10,5,10,6],[30,1,30,7],[1,15,1,16],[1,17,1,18],[1,19,1,20],[8,3,8,4],[9,3,9,4],[10,3,10,4],[11,3,11,4],[12,3,12,4],[13,3,13,4],[14,3,14,4],[15,3,15,4],[11,5,11,6],[12,5,12,6],[13,5,13,6],[14,5,14,6],[15,5,15,6],[16,3,16,4],[17,3,17,4],[2,7,2,8],[7,7,7,8],[11,1,11,2],[12,1,12,2],[13,1,13,2],[17,1,17,2],[1,21,1,22],[1,13,1,14],[1,11,1,12],[1,9,1,10],[2,5,2,6],[3,5,3,6],[4,5,4,6],[5,5,5,6],[6,5,6,6],[3,7,3,8],[4,7,4,8],[5,7,5,8],[6,7,6,8],[4,15,4,16],[5,15,5,16],[6,15,6,16],[7,5,7,6],[2,1,2,2],[3,1,3,2],[4,1,4,2],[8,7,8,8],[9,7,9,8],[10,7,10,8],[5,1,5,2],[6,1,6,2],[7,1,7,2],[8,1,8,2],[9,1,9,2],[10,1,10,2],[14,1,14,2],[15,1,15,2],[16,1,16,2]]}
[]
[null,"Resident Name",null,"Number of Shifts ",null,"Number of Shifts Under the Minimum",null,"Number of Shifts Exceeding the Maximum",null,"Number of Night Shifts",null,"Number of Night Shifts Under the Minimum",null,"Number of Night Shifts Exceeding the Maximum",null,"Number of 7a-4p Shifts (Applies to Interns Only)",null,"Number of 11p-8a Shifts (Applies to Interns Only)",null,"Number of Shifts on Required Day Off",null,"Required Day Off"]
[null,{"$f":"'Build Your Schedule'!B6","v":"Adamson"},null,{"$f":"COUNTIF('Build Your Schedule'!$H$5:$AK$11,B3)","v":0},null,{"$f":"IF($D3<12,12-D3,0)","v":12},null,{"$f":"IF($D3>16,D3-16,0)","v":0},null,{"$f":"COUNTIF('Build Your Schedule'!$H$10:$AK$11,'Error Details'!B3)","v":0},null,{"$f":"IF(J3<2,2-J3,0)","v":2},null,{"$f":"IF(J3>5,J3-5,0)","v":0},null,{"$f":"COUNTIF('Build Your Schedule'!$H$5:$AK$5,B3)","v":0},null,{"$f":"COUNTIF('Build Your Schedule'!$H$11:$AK$11,B3)","v":0},null,{"$f":"COUNTIF('Build Your Schedule'!$J$5:$J$11,B3)+COUNTIF('Build Your Schedule'!$Q$5:$Q$11,B3)+COUNTIF('Build Your Schedule'!$X$5:$X$11,B3)+COUNTIF('Build Your Schedule'!$AE$5:$AE$11,B3)","v":0},null,{"$f":"'Build Your Schedule'!E6","v":"Wednesdays"}]
[null,{"$f":"'Build Your Schedule'!B7","v":"Almanza"},null,{"$f":"COUNTIF('Build Your Schedule'!$H$5:$AK$11,B4)","v":0},null,{"$f":"IF($D4<12,12-D4,0)","v":12},null,{"$f":"IF($D4>16,D4-16,0)","v":0},null,{"$f":"COUNTIF('Build Your Schedule'!$H$10:$AK$11,'Error Details'!B4)","v":0},null,{"$f":"IF(J4<2,2-J4,0)","v":2},null,{"$f":"IF(J4>5,J4-5,0)","v":0},null,"N/A",null,"N/A",null,{"$f":"COUNTIF('Build Your Schedule'!$K$5:$K$11,B4)+COUNTIF('Build Your Schedule'!$R$5:$R$11,B4)+COUNTIF('Build Your Schedule'!$Y$5:$Y$11,B4)+COUNTIF('Build Your Schedule'!$AF$5:$AF$11,B4)","v":0},null,{"$f":"'Build Your Schedule'!E7","v":"Thursdays"}]
[null,{"$f":"'Build Your Schedule'!B8","v":"Chase"},null,{"$f":"COUNTIF('Build Your Schedule'!$H$5:$AK$11,B5)","v":0},null,{"$f":"IF($D5<12,12-D5,0)","v":12},null,{"$f":"IF($D5>16,D5-16,0)","v":0},null,{"$f":"COUNTIF('Build Your Schedule'!$H$10:$AK$11,'Error Details'!B5)","v":0},null,{"$f":"IF(J5<2,2-J5,0)","v":2},null,{"$f":"IF(J5>5,J5-5,0)","v":0},null,{"$f":"COUNTIF('Build Your Schedule'!$H$5:$AK$5,B5)","v":0},null,{"$f":"COUNTIF('Build Your Schedule'!$H$11:$AK$11,B5)","v":0},null,{"$f":"COUNTIF('Build Your Schedule'!$H$5:$H$11,B5)+COUNTIF('Build Your Schedule'!$O$5:$O$11,B5)+COUNTIF('Build Your Schedule'!$V$5:$V$11,B5)+COUNTIF('Build Your Schedule'!$AC$5:$AC$11,B5)+COUNTIF('Build Your Schedule'!$AJ$5:$AJ$11,B5)","v":0},null,{"$f":"'Build Your Schedule'!E8","v":"Mondays"}]
[null,{"$f":"'Build Your Schedule'!B9","v":"Dunn"},null,{"$f":"COUNTIF('Build Your Schedule'!$H$5:$AK$11,B6)","v":0},null,12,null,0,null,{"$f":"COUNTIF('Build Your Schedule'!$H$10:$AK$11,'Error Details'!B6)","v":0},null,2,null,0,null,{"$f":"COUNTIF('Build Your Schedule'!$H$5:$AK$5,B6)","v":0},null,{"$f":"COUNTIF('Build Your Schedule'!$H$11:$AK$11,B6)","v":0},null,{"$f":"COUNTIF('Build Your Schedule'!$J$5:$J$11,B6)+COUNTIF('Build Your Schedule'!$Q$5:$Q$11,B6)+COUNTIF('Build Your Schedule'!$X$5:$X$11,B6)+COUNTIF('Build Your Schedule'!$AE$5:$AE$11,B6)","v":0},null,{"$f":"'Build Your Schedule'!E9","v":"Wednesdays"}]
[null,{"$f":"'Build Your Schedule'!B10","v":"Elder"},null,{"$f":"COUNTIF('Build Your Schedule'!$H$5:$AK$11,B7)","v":0},null,12,null,0,null,{"$f":"COUNTIF('Build Your Schedule'!$H$10:$AK$11,'Error Details'!B7)","v":0},null,2,null,0,null,"N/A",null,"N/A",null,{"$f":"COUNTIF('Build Your Schedule'!$M$5:$M$11,B7)+COUNTIF('Build Your Schedule'!$T$5:$T$11,B7)+COUNTIF('Build Your Schedule'!$AA$5:$AA$11,B7)+COUNTIF('Build Your Schedule'!$AH$5:$AH$11,B7)","v":0},null,{"$f":"'Build Your Schedule'!E10","v":"Saturdays"}]
[null,{"$f":"'Build Your Schedule'!B11","v":"Ellington"},null,{"$f":"COUNTIF('Build Your Schedule'!$H$5:$AK$11,B8)","v":0},null,12,null,0,null,{"$f":"COUNTIF('Build Your Schedule'!$H$10:$AK$11,'Error Details'!B8)","v":0},null,2,null,0,null,"N/A",null,"N/A",null,{"$f":"COUNTIF('Build Your Schedule'!$J$5:$J$11,B8)+COUNTIF('Build Your Schedule'!$Q$5:$Q$11,B8)+COUNTIF('Build Your Schedule'!$X$5:$X$11,B8)+COUNTIF('Build Your Schedule'!$AE$5:$AE$11,B8)","v":0},null,{"$f":"'Build Your Schedule'!E11","v":"Wednesdays"}]
[null,{"$f":"'Build Your Schedule'!B12","v":"Haynes"},null,{"$f":"COUNTIF('Build Your Schedule'!$H$5:$AK$11,B9)","v":0},null,12,null,0,null,{"$f":"COUNTIF('Build Your Schedule'!$H$10:$AK$11,'Error Details'!B9)","v":0},null,2,null,0,null,{"$f":"COUNTIF('Build Your Schedule'!$H$5:$AK$5,B9)","v":0},null,{"$f":"COUNTIF('Build Your Schedule'!$H$11:$AK$11,B9)","v":0},null,{"$f":"COUNTIF('Build Your Schedule'!$L$5:$L$11,B9)+COUNTIF('Build Your Schedule'!$S$5:$S$11,B9)+COUNTIF('Build Your Schedule'!$Z$5:$Z$11,B9)+COUNTIF('Build Your Schedule'!$AG$5:$AG$11,B9)","v":0},null,{"$f":"'Build Your Schedule'!E12","v":"Fridays"}]
[null,{"$f":"'Build Your Schedule'!B13","v":"Kahn"},null,{"$f":"COUNTIF('Build Your Schedule'!$H$5:$AK$11,B10)","v":0},null,12,null,0,null,{"$f":"COUNTIF('Build Your Schedule'!$H$10:$AK$11,'Error Details'!B10)","v":0},null,2,null,0,null,{"$f":"COUNTIF('Build Your Schedule'!$H$5:$AK$5,B10)","v":0},null,{"$f":"COUNTIF('Build Your Schedule'!$H$11:$AK$11,B10)","v":0},null,{"$f":"COUNTIF('Build Your Schedule'!$J$5:$J$11,B10)+COUNTIF('Build Your Schedule'!$Q$5:$Q$11,B10)+COUNTIF('Build Your Schedule'!$X$5:$X$11,B10)+COUNTIF('Build Your Schedule'!$AE$5:$AE$11,B10)","v":0},null,{"$f":"'Build Your Schedule'!E13","v":"Wednesdays"}]
[null,{"$f":"'Build Your Schedule'!B14","v":"Mollison"},null,{"$f":"COUNTIF('Build Your Schedule'!$H$5:$AK$11,B11)","v":0},null,12,null,0,null,{"$f":"COUNTIF('Build Your Schedule'!$H$10:$AK$11,'Error Details'!B11)","v":0},null,2,null,0,null,{"$f":"COUNTIF('Build Your Schedule'!$H$5:$AK$5,B11)","v":0},null,{"$f":"COUNTIF('Build Your Schedule'!$H$11:$AK$11,B11)","v":0},null,{"$f":"COUNTIF('Build Your Schedule'!$I$5:$I$11,B11)+COUNTIF('Build Your Schedule'!$P$5:$P$11,B11)+COUNTIF('Build Your Schedule'!$W$5:$W$11,B11)+COUNTIF('Build Your Schedule'!$AD$5:$AD$11,B11)+COUNTIF('Build Your Schedule'!$AK$5:$AK$11,B11)","v":0},null,{"$f":"'Build Your Schedule'!E14","v":"Tuesdays"}]
[null,{"$f":"'Build Your Schedule'!B15","v":"Quick"},null,{"$f":"COUNTIF('Build Your Schedule'!$H$5:$AK$11,B12)","v":0},null,12,null,0,null,{"$f":"COUNTIF('Build Your Schedule'!$H$10:$AK$11,'Error Details'!B12)","v":0},null,2,null,0,null,{"$f":"COUNTIF('Build Your Schedule'!$H$5:$AK$5,B12)","v":0},null,{"$f":"COUNTIF('Build Your Schedule'!$H$11:$AK$11,B12)","v":0},null,{"$f":"COUNTIF('Build Your Schedule'!$J$5:$J$11,B12)+COUNTIF('Build Your Schedule'!$Q$5:$Q$11,B12)+COUNTIF('Build Your Schedule'!$X$5:$X$11,B12)+COUNTIF('Build Your Schedule'!$AE$5:$AE$11,B12)","v":0},null,{"$f":"'Build Your Schedule'!E15","v":"Wednesdays"}]
[null,{"$f":"'Build Your Schedule'!B16","v":"Stumpos"},null,{"$f":"COUNTIF('Build Your Schedule'!$H$5:$AK$11,B13)","v":0},null,12,null,0,null,{"$f":"COUNTIF('Build Your Schedule'!$H$10:$AK$11,'Error Details'!B13)","v":0},null,2,null,0,null,{"$f":"COUNTIF('Build Your Schedule'!$H$5:$AK$5,B13)","v":0},null,{"$f":"COUNTIF('Build Your Schedule'!$H$11:$AK$11,B13)","v":0},null,{"$f":"COUNTIF('Build Your Schedule'!$I$5:$I$11,B13)+COUNTIF('Build Your Schedule'!$P$5:$P$11,B13)+COUNTIF('Build Your Schedule'!$W$5:$W$11,B13)+COUNTIF('Build Your Schedule'!$AD$5:$AD$11,B13)+COUNTIF('Build Your Schedule'!$AK$5:$AK$11,B13)","v":0},null,{"$f":"'Build Your Schedule'!E16","v":"Tuesdays"}]
[null,{"$f":"'Build Your Schedule'!B17","v":"Vidal"},null,{"$f":"COUNTIF('Build Your Schedule'!$H$5:$AK$11,B14)","v":0},null,12,null,0,null,{"$f":"COUNTIF('Build Your Schedule'!$H$10:$AK$11,'Error Details'!B14)","v":0},null,2,null,0,null,"N/A",null,"N/A",null,{"$f":"COUNTIF('Build Your Schedule'!$J$5:$J$11,B14)+COUNTIF('Build Your Schedule'!$Q$5:$Q$11,B14)+COUNTIF('Build Your Schedule'!$X$5:$X$11,B14)+COUNTIF('Build Your Schedule'!$AE$5:$AE$11,B14)","v":0},null,{"$f":"'Build Your Schedule'!E17","v":"Wednesdays"}]
[null,{"$f":"'Build Your Schedule'!B18","v":"West"},null,{"$f":"COUNTIF('Build Your Schedule'!$H$5:$AK$11,B15)","v":0},null,12,null,0,null,{"$f":"COUNTIF('Build Your Schedule'!$H$10:$AK$11,'Error Details'!B15)","v":0},null,2,null,0,null,"N/A",null,"N/A",null,{"$f":"COUNTIF('Build Your Schedule'!$L$5:$L$11,B15)+COUNTIF('Build Your Schedule'!$S$5:$S$11,B15)+COUNTIF('Build Your Schedule'!$Z$5:$Z$11,B15)+COUNTIF('Build Your Schedule'!$AG$5:$AG$11,B15)","v":0},null,{"$f":"'Build Your Schedule'!E18","v":"Fridays"}]
[null,{"$f":"'Build Your Schedule'!B19","v":"Xiong"},null,{"$f":"COUNTIF('Build Your Schedule'!$H$5:$AK$11,B16)","v":0},null,12,null,0,null,{"$f":"COUNTIF('Build Your Schedule'!$H$10:$AK$11,'Error Details'!B16)","v":0},null,2,null,0,null,"N/A",null,"N/A",null,{"$f":"COUNTIF('Build Your Schedule'!$I$5:$I$11,B16)+COUNTIF('Build Your Schedule'!$P$5:$P$11,B16)+COUNTIF('Build Your Schedule'!$W$5:$W$11,B16)+COUNTIF('Build Your Schedule'!$AD$5:$AD$11,B16)+COUNTIF('Build Your Schedule'!$AK$5:$AK$11,B16)","v":0},null,{"$f":"'Build Your Schedule'!E19","v":"Tuesdays"}]
[null,{"$f":"'Build Your Schedule'!B20","v":"Yee"},null,{"$f":"COUNTIF('Build Your Schedule'!$H$5:$AK$11,B17)","v":0},null,12,null,0,null,{"$f":"COUNTIF('Build Your Schedule'!$H$10:$AK$11,'Error Details'!B17)","v":0},null,2,null,0,null,"N/A",null,"N/A",null,{"$f":"COUNTIF('Build Your Schedule'!$J$5:$J$11,B17)+COUNTIF('Build Your Schedule'!$Q$5:$Q$11,B17)+COUNTIF('Build Your Schedule'!$X$5:$X$11,B17)+COUNTIF('Build Your Schedule'!$AE$5:$AE$11,B17)","v":0},null,{"$f":"'Build Your Schedule'!E20","v":"Wednesdays"}]
[null,{"$f":"'Build Your Schedule'!B21","v":"Zamora"},null,{"$f":"COUNTIF('Build Your Schedule'!$H$5:$AK$11,B18)","v":0},null,12,null,0,null,{"$f":"COUNTIF('Build Your Schedule'!$H$10:$AK$11,'Error Details'!B18)","v":0},null,2,null,0,null,"N/A",null,"N/A",null,{"$f":"COUNTIF('Build Your Schedule'!$K$5:$K$11,B18)+COUNTIF('Build Your Schedule'!$R$5:$R$11,B18)+COUNTIF('Build Your Schedule'!$Y$5:$Y$11,B18)+COUNTIF('Build Your Schedule'!$AF$5:$AF$11,B18)","v":0},null,{"$f":"'Build Your Schedule'!E21","v":"Thursdays"}]
[]
[]
[null,"Identifying Spelling Errors",null,null,null,null,null,"*the Red Cells indicate where there is a misspelling"]
[null,null,"2015-06-01","2015-06-02","2015-06-03","2015-06-04","2015-06-05","2015-06-06","2015-06-07","2015-06-08","2015-06-09","2015-06-10","2015-06-11","2015-06-12","2015-06-13","2015-06-14","2015-06-15","2015-06-16","2015-06-17","2015-06-18","2015-06-19","2015-06-20","2015-06-21","2015-06-22","2015-06-23","2015-06-24","2015-06-25","2015-06-26","2015-06-27","2015-06-28","2015-06-29","2015-06-30"]
[null,"7a-4p",{"$f":"IF('Build Your Schedule'!H5=\"\",0,IF(COUNTIF('Build Your Schedule'!$B$6:$B$21,'Build Your Schedule'!H5)>0,0,1))","v":0},{"$f":"IF('Build Your Schedule'!I5=\"\",0,IF(COUNTIF('Build Your Schedule'!$B$6:$B$21,'Build Your Schedule'!I5)>0,0,1))","v":0},{"$f":"IF('Build Your Schedule'!J5=\"\",0,IF(COUNTIF('Build Your Schedule'!$B$6:$B$21,'Build Your Schedule'!J5)>0,0,1))","v":0},{"$f":"IF('Build Your Schedule'!K5=\"\",0,IF(COUNTIF('Build Your Schedule'!$B$6:$B$21,'Build Your Schedule'!K5)>0,0,1))","v":0},{"$f":"IF('Build Your Schedule'!L5=\"\",0,IF(COUNTIF('Build Your Schedule'!$B$6:$B$21,'Build Your Schedule'!L5)>0,0,1))","v":0},{"$f":"IF('Build Your Schedule'!M5=\"\",0,IF(COUNTIF('Build Your Schedule'!$B$6:$B$21,'Build Your Schedule'!M5)>0,0,1))","v":0},{"$f":"IF('Build Your Schedule'!N5=\"\",0,IF(COUNTIF('Build Your Schedule'!$B$6:$B$21,'Build Your Schedule'!N5)>0,0,1))","v":0},{"$f":"IF('Build Your Schedule'!O5=\"\",0,IF(COUNTIF('Build Your Schedule'!$B$6:$B$21,'Build Your Schedule'!O5)>0,0,1))","v":0},{"$f":"IF('Build Your Schedule'!P5=\"\",0,IF(COUNTIF('Build Your Schedule'!$B$6:$B$21,'Build Your Schedule'!P5)>0,0,1))","v":0},{"$f":"IF('Build Your Schedule'!Q5=\"\",0,IF(COUNTIF('Build Your Schedule'!$B$6:$B$21,'Build Your Schedule'!Q5)>0,0,1))","v":0},{"$f":"IF('Build Your Schedule'!R5=\"\",0,IF(COUNTIF('Build Your Schedule'!$B$6:$B$21,'Build Your Schedule'!R5)>0,0,1))","v":0},{"$f":"IF('Build Your Schedule'!S5=\"\",0,IF(COUNTIF('Build Your Schedule'!$B$6:$B$21,'Build Your Schedule'!S5)>0,0,1))","v":0},{"$f":"IF('Build Your Schedule'!T5=\"\",0,IF(COUNTIF('Build Your Schedule'!$B$6:$B$21,'Build Your Schedule'!T5)>0,0,1))","v":0},{"$f":"IF('Build Your Schedule'!U5=\"\",0,IF(COUNTIF('Build Your Schedule'!$B$6:$B$21,'Build Your Schedule'!U5)>0,0,1))","v":0},{"$f":"IF('Build Your Schedule'!V5=\"\",0,IF(COUNTIF('Build Your Schedule'!$B$6:$B$21,'Build Your Schedule'!V5)>0,0,1))","v":0},{"$f":"IF('Build Your Schedule'!W5=\"\",0,IF(COUNTIF('Build Your Schedule'!$B$6:$B$21,'Build Your Schedule'!W5)>0,0,1))","v":0},{"$f":"IF('Build Your Schedule'!X5=\"\",0,IF(COUNTIF('Build Your Schedule'!$B$6:$B$21,'Build Your Schedule'!X5)>0,0,1))","v":0},{"$f":"IF('Build Your Schedule'!Y5=\"\",0,IF(COUNTIF('Build Your Schedule'!$B$6:$B$21,'Build Your Schedule'!Y5)>0,0,1))","v":0},{"$f":"IF('Build Your Schedule'!Z5=\"\",0,IF(COUNTIF('Build Your Schedule'!$B$6:$B$21,'Build Your Schedule'!Z5)>0,0,1))","v":0},{"$f":"IF('Build Your Schedule'!AA5=\"\",0,IF(COUNTIF('Build Your Schedule'!$B$6:$B$21,'Build Your Schedule'!AA5)>0,0,1))","v":0},{"$f":"IF('Build Your Schedule'!AB5=\"\",0,IF(COUNTIF('Build Your Schedule'!$B$6:$B$21,'Build Your Schedule'!AB5)>0,0,1))","v":0},{"$f":"IF('Build Your Schedule'!AC5=\"\",0,IF(COUNTIF('Build Your Schedule'!$B$6:$B$21,'Build Your Schedule'!AC5)>0,0,1))","v":0},{"$f":"IF('Build Your Schedule'!AD5=\"\",0,IF(COUNTIF('Build Your Schedule'!$B$6:$B$21,'Build Your Schedule'!AD5)>0,0,1))","v":0},{"$f":"IF('Build Your Schedule'!AE5=\"\",0,IF(COUNTIF('Build Your Schedule'!$B$6:$B$21,'Build Your Schedule'!AE5)>0,0,1))","v":0},{"$f":"IF('Build Your Schedule'!AF5=\"\",0,IF(COUNTIF('Build Your Schedule'!$B$6:$B$21,'Build Your Schedule'!AF5)>0,0,1))","v":0},{"$f":"IF('Build Your Schedule'!AG5=\"\",0,IF(COUNTIF('Build Your Schedule'!$B$6:$B$21,'Build Your Schedule'!AG5)>0,0,1))","v":0},{"$f":"IF('Build Your Schedule'!AH5=\"\",0,IF(COUNTIF('Build Your Schedule'!$B$6:$B$21,'Build Your Schedule'!AH5)>0,0,1))","v":0},{"$f":"IF('Build Your Schedule'!AI5=\"\",0,IF(COUNTIF('Build Your Schedule'!$B$6:$B$21,'Build Your Schedule'!AI5)>0,0,1))","v":0},{"$f":"IF('Build Your Schedule'!AJ5=\"\",0,IF(COUNTIF('Build Your Schedule'!$B$6:$B$21,'Build Your Schedule'!AJ5)>0,0,1))","v":0},{"$f":"IF('Build Your Schedule'!AK5=\"\",0,IF(COUNTIF('Build Your Schedule'!$B$6:$B$21,'Build Your Schedule'!AK5)>0,0,1))","v":0}]
[null,"9a-6p",{"$f":"IF('Build Your Schedule'!H6=\"\",0,IF(COUNTIF('Build Your Schedule'!$B$6:$B$21,'Build Your Schedule'!H6)>0,0,1))","v":0},{"$f":"IF('Build Your Schedule'!I6=\"\",0,IF(COUNTIF('Build Your Schedule'!$B$6:$B$21,'Build Your Schedule'!I6)>0,0,1))","v":0},{"$f":"IF('Build Your Schedule'!J6=\"\",0,IF(COUNTIF('Build Your Schedule'!$B$6:$B$21,'Build Your Schedule'!J6)>0,0,1))","v":0},{"$f":"IF('Build Your Schedule'!K6=\"\",0,IF(COUNTIF('Build Your Schedule'!$B$6:$B$21,'Build Your Schedule'!K6)>0,0,1))","v":0},{"$f":"IF('Build Your Schedule'!L6=\"\",0,IF(COUNTIF('Build Your Schedule'!$B$6:$B$21,'Build Your Schedule'!L6)>0,0,1))","v":0},{"$f":"IF('Build Your Schedule'!M6=\"\",0,IF(COUNTIF('Build Your Schedule'!$B$6:$B$21,'Build Your Schedule'!M6)>0,0,1))","v":0},{"$f":"IF('Build Your Schedule'!N6=\"\",0,IF(COUNTIF('Build Your Schedule'!$B$6:$B$21,'Build Your Schedule'!N6)>0,0,1))","v":0},{"$f":"IF('Build Your Schedule'!O6=\"\",0,IF(COUNTIF('Build Your Schedule'!$B$6:$B$21,'Build Your Schedule'!O6)>0,0,1))","v":0},{"$f":"IF('Build Your Schedule'!P6=\"\",0,IF(COUNTIF('Build Your Schedule'!$B$6:$B$21,'Build Your Schedule'!P6)>0,0,1))","v":0},{"$f":"IF('Build Your Schedule'!Q6=\"\",0,IF(COUNTIF('Build Your Schedule'!$B$6:$B$21,'Build Your Schedule'!Q6)>0,0,1))","v":0},{"$f":"IF('Build Your Schedule'!R6=\"\",0,IF(COUNTIF('Build Your Schedule'!$B$6:$B$21,'Build Your Schedule'!R6)>0,0,1))","v":0},{"$f":"IF('Build Your Schedule'!S6=\"\",0,IF(COUNTIF('Build Your Schedule'!$B$6:$B$21,'Build Your Schedule'!S6)>0,0,1))","v":0},{"$f":"IF('Build Your Schedule'!T6=\"\",0,IF(COUNTIF('Build Your Schedule'!$B$6:$B$21,'Build Your Schedule'!T6)>0,0,1))","v":0},{"$f":"IF('Build Your Schedule'!U6=\"\",0,IF(COUNTIF('Build Your Schedule'!$B$6:$B$21,'Build Your Schedule'!U6)>0,0,1))","v":0},{"$f":"IF('Build Your Schedule'!V6=\"\",0,IF(COUNTIF('Build Your Schedule'!$B$6:$B$21,'Build Your Schedule'!V6)>0,0,1))","v":0},{"$f":"IF('Build Your Schedule'!W6=\"\",0,IF(COUNTIF('Build Your Schedule'!$B$6:$B$21,'Build Your Schedule'!W6)>0,0,1))","v":0},{"$f":"IF('Build Your Schedule'!X6=\"\",0,IF(COUNTIF('Build Your Schedule'!$B$6:$B$21,'Build Your Schedule'!X6)>0,0,1))","v":0},{"$f":"IF('Build Your Schedule'!Y6=\"\",0,IF(COUNTIF('Build Your Schedule'!$B$6:$B$21,'Build Your Schedule'!Y6)>0,0,1))","v":0},{"$f":"IF('Build Your Schedule'!Z6=\"\",0,IF(COUNTIF('Build Your Schedule'!$B$6:$B$21,'Build Your Schedule'!Z6)>0,0,1))","v":0},{"$f":"IF('Build Your Schedule'!AA6=\"\",0,IF(COUNTIF('Build Your Schedule'!$B$6:$B$21,'Build Your Schedule'!AA6)>0,0,1))","v":0},{"$f":"IF('Build Your Schedule'!AB6=\"\",0,IF(COUNTIF('Build Your Schedule'!$B$6:$B$21,'Build Your Schedule'!AB6)>0,0,1))","v":0},{"$f":"IF('Build Your Schedule'!AC6=\"\",0,IF(COUNTIF('Build Your Schedule'!$B$6:$B$21,'Build Your Schedule'!AC6)>0,0,1))","v":0},{"$f":"IF('Build Your Schedule'!AD6=\"\",0,IF(COUNTIF('Build Your Schedule'!$B$6:$B$21,'Build Your Schedule'!AD6)>0,0,1))","v":0},{"$f":"IF('Build Your Schedule'!AE6=\"\",0,IF(COUNTIF('Build Your Schedule'!$B$6:$B$21,'Build Your Schedule'!AE6)>0,0,1))","v":0},{"$f":"IF('Build Your Schedule'!AF6=\"\",0,IF(COUNTIF('Build Your Schedule'!$B$6:$B$21,'Build Your Schedule'!AF6)>0,0,1))","v":0},{"$f":"IF('Build Your Schedule'!AG6=\"\",0,IF(COUNTIF('Build Your Schedule'!$B$6:$B$21,'Build Your Schedule'!AG6)>0,0,1))","v":0},{"$f":"IF('Build Your Schedule'!AH6=\"\",0,IF(COUNTIF('Build Your Schedule'!$B$6:$B$21,'Build Your Schedule'!AH6)>0,0,1))","v":0},{"$f":"IF('Build Your Schedule'!AI6=\"\",0,IF(COUNTIF('Build Your Schedule'!$B$6:$B$21,'Build Your Schedule'!AI6)>0,0,1))","v":0},{"$f":"IF('Build Your Schedule'!AJ6=\"\",0,IF(COUNTIF('Build Your Schedule'!$B$6:$B$21,'Build Your Schedule'!AJ6)>0,0,1))","v":0},{"$f":"IF('Build Your Schedule'!AK6=\"\",0,IF(COUNTIF('Build Your Schedule'!$B$6:$B$21,'Build Your Schedule'!AK6)>0,0,1))","v":0}]
[null,"12p-9p",{"$f":"IF('Build Your Schedule'!H7=\"\",0,IF(COUNTIF('Build Your Schedule'!$B$6:$B$21,'Build Your Schedule'!H7)>0,0,1))","v":0},{"$f":"IF('Build Your Schedule'!I7=\"\",0,IF(COUNTIF('Build Your Schedule'!$B$6:$B$21,'Build Your Schedule'!I7)>0,0,1))","v":0},{"$f":"IF('Build Your Schedule'!J7=\"\",0,IF(COUNTIF('Build Your Schedule'!$B$6:$B$21,'Build Your Schedule'!J7)>0,0,1))","v":0},{"$f":"IF('Build Your Schedule'!K7=\"\",0,IF(COUNTIF('Build Your Schedule'!$B$6:$B$21,'Build Your Schedule'!K7)>0,0,1))","v":0},{"$f":"IF('Build Your Schedule'!L7=\"\",0,IF(COUNTIF('Build Your Schedule'!$B$6:$B$21,'Build Your Schedule'!L7)>0,0,1))","v":0},{"$f":"IF('Build Your Schedule'!M7=\"\",0,IF(COUNTIF('Build Your Schedule'!$B$6:$B$21,'Build Your Schedule'!M7)>0,0,1))","v":0},{"$f":"IF('Build Your Schedule'!N7=\"\",0,IF(COUNTIF('Build Your Schedule'!$B$6:$B$21,'Build Your Schedule'!N7)>0,0,1))","v":0},{"$f":"IF('Build Your Schedule'!O7=\"\",0,IF(COUNTIF('Build Your Schedule'!$B$6:$B$21,'Build Your Schedule'!O7)>0,0,1))","v":0},{"$f":"IF('Build Your Schedule'!P7=\"\",0,IF(COUNTIF('Build Your Schedule'!$B$6:$B$21,'Build Your Schedule'!P7)>0,0,1))","v":0},{"$f":"IF('Build Your Schedule'!Q7=\"\",0,IF(COUNTIF('Build Your Schedule'!$B$6:$B$21,'Build Your Schedule'!Q7)>0,0,1))","v":0},{"$f":"IF('Build Your Schedule'!R7=\"\",0,IF(COUNTIF('Build Your Schedule'!$B$6:$B$21,'Build Your Schedule'!R7)>0,0,1))","v":0},{"$f":"IF('Build Your Schedule'!S7=\"\",0,IF(COUNTIF('Build Your Schedule'!$B$6:$B$21,'Build Your Schedule'!S7)>0,0,1))","v":0},{"$f":"IF('Build Your Schedule'!T7=\"\",0,IF(COUNTIF('Build Your Schedule'!$B$6:$B$21,'Build Your Schedule'!T7)>0,0,1))","v":0},{"$f":"IF('Build Your Schedule'!U7=\"\",0,IF(COUNTIF('Build Your Schedule'!$B$6:$B$21,'Build Your Schedule'!U7)>0,0,1))","v":0},{"$f":"IF('Build Your Schedule'!V7=\"\",0,IF(COUNTIF('Build Your Schedule'!$B$6:$B$21,'Build Your Schedule'!V7)>0,0,1))","v":0},{"$f":"IF('Build Your Schedule'!W7=\"\",0,IF(COUNTIF('Build Your Schedule'!$B$6:$B$21,'Build Your Schedule'!W7)>0,0,1))","v":0},{"$f":"IF('Build Your Schedule'!X7=\"\",0,IF(COUNTIF('Build Your Schedule'!$B$6:$B$21,'Build Your Schedule'!X7)>0,0,1))","v":0},{"$f":"IF('Build Your Schedule'!Y7=\"\",0,IF(COUNTIF('Build Your Schedule'!$B$6:$B$21,'Build Your Schedule'!Y7)>0,0,1))","v":0},{"$f":"IF('Build Your Schedule'!Z7=\"\",0,IF(COUNTIF('Build Your Schedule'!$B$6:$B$21,'Build Your Schedule'!Z7)>0,0,1))","v":0},{"$f":"IF('Build Your Schedule'!AA7=\"\",0,IF(COUNTIF('Build Your Schedule'!$B$6:$B$21,'Build Your Schedule'!AA7)>0,0,1))","v":0},{"$f":"IF('Build Your Schedule'!AB7=\"\",0,IF(COUNTIF('Build Your Schedule'!$B$6:$B$21,'Build Your Schedule'!AB7)>0,0,1))","v":0},{"$f":"IF('Build Your Schedule'!AC7=\"\",0,IF(COUNTIF('Build Your Schedule'!$B$6:$B$21,'Build Your Schedule'!AC7)>0,0,1))","v":0},{"$f":"IF('Build Your Schedule'!AD7=\"\",0,IF(COUNTIF('Build Your Schedule'!$B$6:$B$21,'Build Your Schedule'!AD7)>0,0,1))","v":0},{"$f":"IF('Build Your Schedule'!AE7=\"\",0,IF(COUNTIF('Build Your Schedule'!$B$6:$B$21,'Build Your Schedule'!AE7)>0,0,1))","v":0},{"$f":"IF('Build Your Schedule'!AF7=\"\",0,IF(COUNTIF('Build Your Schedule'!$B$6:$B$21,'Build Your Schedule'!AF7)>0,0,1))","v":0},{"$f":"IF('Build Your Schedule'!AG7=\"\",0,IF(COUNTIF('Build Your Schedule'!$B$6:$B$21,'Build Your Schedule'!AG7)>0,0,1))","v":0},{"$f":"IF('Build Your Schedule'!AH7=\"\",0,IF(COUNTIF('Build Your Schedule'!$B$6:$B$21,'Build Your Schedule'!AH7)>0,0,1))","v":0},{"$f":"IF('Build Your Schedule'!AI7=\"\",0,IF(COUNTIF('Build Your Schedule'!$B$6:$B$21,'Build Your Schedule'!AI7)>0,0,1))","v":0},{"$f":"IF('Build Your Schedule'!AJ7=\"\",0,IF(COUNTIF('Build Your Schedule'!$B$6:$B$21,'Build Your Schedule'!AJ7)>0,0,1))","v":0},{"$f":"IF('Build Your Schedule'!AK7=\"\",0,IF(COUNTIF('Build Your Schedule'!$B$6:$B$21,'Build Your Schedule'!AK7)>0,0,1))","v":0}]
[null,"4p-1a",{"$f":"IF('Build Your Schedule'!H8=\"\",0,IF(COUNTIF('Build Your Schedule'!$B$6:$B$21,'Build Your Schedule'!H8)>0,0,1))","v":0},{"$f":"IF('Build Your Schedule'!I8=\"\",0,IF(COUNTIF('Build Your Schedule'!$B$6:$B$21,'Build Your Schedule'!I8)>0,0,1))","v":0},{"$f":"IF('Build Your Schedule'!J8=\"\",0,IF(COUNTIF('Build Your Schedule'!$B$6:$B$21,'Build Your Schedule'!J8)>0,0,1))","v":0},{"$f":"IF('Build Your Schedule'!K8=\"\",0,IF(COUNTIF('Build Your Schedule'!$B$6:$B$21,'Build Your Schedule'!K8)>0,0,1))","v":0},{"$f":"IF('Build Your Schedule'!L8=\"\",0,IF(COUNTIF('Build Your Schedule'!$B$6:$B$21,'Build Your Schedule'!L8)>0,0,1))","v":0},{"$f":"IF('Build Your Schedule'!M8=\"\",0,IF(COUNTIF('Build Your Schedule'!$B$6:$B$21,'Build Your Schedule'!M8)>0,0,1))","v":0},{"$f":"IF('Build Your Schedule'!N8=\"\",0,IF(COUNTIF('Build Your Schedule'!$B$6:$B$21,'Build Your Schedule'!N8)>0,0,1))","v":0},{"$f":"IF('Build Your Schedule'!O8=\"\",0,IF(COUNTIF('Build Your Schedule'!$B$6:$B$21,'Build Your Schedule'!O8)>0,0,1))","v":0},{"$f":"IF('Build Your Schedule'!P8=\"\",0,IF(COUNTIF('Build Your Schedule'!$B$6:$B$21,'Build Your Schedule'!P8)>0,0,1))","v":0},{"$f":"IF('Build Your Schedule'!Q8=\"\",0,IF(COUNTIF('Build Your Schedule'!$B$6:$B$21,'Build Your Schedule'!Q8)>0,0,1))","v":0},{"$f":"IF('Build Your Schedule'!R8=\"\",0,IF(COUNTIF('Build Your Schedule'!$B$6:$B$21,'Build Your Schedule'!R8)>0,0,1))","v":0},{"$f":"IF('Build Your Schedule'!S8=\"\",0,IF(COUNTIF('Build Your Schedule'!$B$6:$B$21,'Build Your Schedule'!S8)>0,0,1))","v":0},{"$f":"IF('Build Your Schedule'!T8=\"\",0,IF(COUNTIF('Build Your Schedule'!$B$6:$B$21,'Build Your Schedule'!T8)>0,0,1))","v":0},{"$f":"IF('Build Your Schedule'!U8=\"\",0,IF(COUNTIF('Build Your Schedule'!$B$6:$B$21,'Build Your Schedule'!U8)>0,0,1))","v":0},{"$f":"IF('Build Your Schedule'!V8=\"\",0,IF(COUNTIF('Build Your Schedule'!$B$6:$B$21,'Build Your Schedule'!V8)>0,0,1))","v":0},{"$f":"IF('Build Your Schedule'!W8=\"\",0,IF(COUNTIF('Build Your Schedule'!$B$6:$B$21,'Build Your Schedule'!W8)>0,0,1))","v":0},{"$f":"IF('Build Your Schedule'!X8=\"\",0,IF(COUNTIF('Build Your Schedule'!$B$6:$B$21,'Build Your Schedule'!X8)>0,0,1))","v":0},{"$f":"IF('Build Your Schedule'!Y8=\"\",0,IF(COUNTIF('Build Your Schedule'!$B$6:$B$21,'Build Your Schedule'!Y8)>0,0,1))","v":0},{"$f":"IF('Build Your Schedule'!Z8=\"\",0,IF(COUNTIF('Build Your Schedule'!$B$6:$B$21,'Build Your Schedule'!Z8)>0,0,1))","v":0},{"$f":"IF('Build Your Schedule'!AA8=\"\",0,IF(COUNTIF('Build Your Schedule'!$B$6:$B$21,'Build Your Schedule'!AA8)>0,0,1))","v":0},{"$f":"IF('Build Your Schedule'!AB8=\"\",0,IF(COUNTIF('Build Your Schedule'!$B$6:$B$21,'Build Your Schedule'!AB8)>0,0,1))","v":0},{"$f":"IF('Build Your Schedule'!AC8=\"\",0,IF(COUNTIF('Build Your Schedule'!$B$6:$B$21,'Build Your Schedule'!AC8)>0,0,1))","v":0},{"$f":"IF('Build Your Schedule'!AD8=\"\",0,IF(COUNTIF('Build Your Schedule'!$B$6:$B$21,'Build Your Schedule'!AD8)>0,0,1))","v":0},{"$f":"IF('Build Your Schedule'!AE8=\"\",0,IF(COUNTIF('Build Your Schedule'!$B$6:$B$21,'Build Your Schedule'!AE8)>0,0,1))","v":0},{"$f":"IF('Build Your Schedule'!AF8=\"\",0,IF(COUNTIF('Build Your Schedule'!$B$6:$B$21,'Build Your Schedule'!AF8)>0,0,1))","v":0},{"$f":"IF('Build Your Schedule'!AG8=\"\",0,IF(COUNTIF('Build Your Schedule'!$B$6:$B$21,'Build Your Schedule'!AG8)>0,0,1))","v":0},{"$f":"IF('Build Your Schedule'!AH8=\"\",0,IF(COUNTIF('Build Your Schedule'!$B$6:$B$21,'Build Your Schedule'!AH8)>0,0,1))","v":0},{"$f":"IF('Build Your Schedule'!AI8=\"\",0,IF(COUNTIF('Build Your Schedule'!$B$6:$B$21,'Build Your Schedule'!AI8)>0,0,1))","v":0},{"$f":"IF('Build Your Schedule'!AJ8=\"\",0,IF(COUNTIF('Build Your Schedule'!$B$6:$B$21,'Build Your Schedule'!AJ8)>0,0,1))","v":0},{"$f":"IF('Build Your Schedule'!AK8=\"\",0,IF(COUNTIF('Build Your Schedule'!$B$6:$B$21,'Build Your Schedule'!AK8)>0,0,1))","v":0}]
[null,"5p-2a",{"$f":"IF('Build Your Schedule'!H9=\"\",0,IF(COUNTIF('Build Your Schedule'!$B$6:$B$21,'Build Your Schedule'!H9)>0,0,1))","v":0},{"$f":"IF('Build Your Schedule'!I9=\"\",0,IF(COUNTIF('Build Your Schedule'!$B$6:$B$21,'Build Your Schedule'!I9)>0,0,1))","v":0},{"$f":"IF('Build Your Schedule'!J9=\"\",0,IF(COUNTIF('Build Your Schedule'!$B$6:$B$21,'Build Your Schedule'!J9)>0,0,1))","v":0},{"$f":"IF('Build Your Schedule'!K9=\"\",0,IF(COUNTIF('Build Your Schedule'!$B$6:$B$21,'Build Your Schedule'!K9)>0,0,1))","v":0},{"$f":"IF('Build Your Schedule'!L9=\"\",0,IF(COUNTIF('Build Your Schedule'!$B$6:$B$21,'Build Your Schedule'!L9)>0,0,1))","v":0},{"$f":"IF('Build Your Schedule'!M9=\"\",0,IF(COUNTIF('Build Your Schedule'!$B$6:$B$21,'Build Your Schedule'!M9)>0,0,1))","v":0},{"$f":"IF('Build Your Schedule'!N9=\"\",0,IF(COUNTIF('Build Your Schedule'!$B$6:$B$21,'Build Your Schedule'!N9)>0,0,1))","v":0},{"$f":"IF('Build Your Schedule'!O9=\"\",0,IF(COUNTIF('Build Your Schedule'!$B$6:$B$21,'Build Your Schedule'!O9)>0,0,1))","v":0},{"$f":"IF('Build Your Schedule'!P9=\"\",0,IF(COUNTIF('Build Your Schedule'!$B$6:$B$21,'Build Your Schedule'!P9)>0,0,1))","v":0},{"$f":"IF('Build Your Schedule'!Q9=\"\",0,IF(COUNTIF('Build Your Schedule'!$B$6:$B$21,'Build Your Schedule'!Q9)>0,0,1))","v":0},{"$f":"IF('Build Your Schedule'!R9=\"\",0,IF(COUNTIF('Build Your Schedule'!$B$6:$B$21,'Build Your Schedule'!R9)>0,0,1))","v":0},{"$f":"IF('Build Your Schedule'!S9=\"\",0,IF(COUNTIF('Build Your Schedule'!$B$6:$B$21,'Build Your Schedule'!S9)>0,0,1))","v":0},{"$f":"IF('Build Your Schedule'!T9=\"\",0,IF(COUNTIF('Build Your Schedule'!$B$6:$B$21,'Build Your Schedule'!T9)>0,0,1))","v":0},{"$f":"IF('Build Your Schedule'!U9=\"\",0,IF(COUNTIF('Build Your Schedule'!$B$6:$B$21,'Build Your Schedule'!U9)>0,0,1))","v":0},{"$f":"IF('Build Your Schedule'!V9=\"\",0,IF(COUNTIF('Build Your Schedule'!$B$6:$B$21,'Build Your Schedule'!V9)>0,0,1))","v":0},{"$f":"IF('Build Your Schedule'!W9=\"\",0,IF(COUNTIF('Build Your Schedule'!$B$6:$B$21,'Build Your Schedule'!W9)>0,0,1))","v":0},{"$f":"IF('Build Your Schedule'!X9=\"\",0,IF(COUNTIF('Build Your Schedule'!$B$6:$B$21,'Build Your Schedule'!X9)>0,0,1))","v":0},{"$f":"IF('Build Your Schedule'!Y9=\"\",0,IF(COUNTIF('Build Your Schedule'!$B$6:$B$21,'Build Your Schedule'!Y9)>0,0,1))","v":0},{"$f":"IF('Build Your Schedule'!Z9=\"\",0,IF(COUNTIF('Build Your Schedule'!$B$6:$B$21,'Build Your Schedule'!Z9)>0,0,1))","v":0},{"$f":"IF('Build Your Schedule'!AA9=\"\",0,IF(COUNTIF('Build Your Schedule'!$B$6:$B$21,'Build Your Schedule'!AA9)>0,0,1))","v":0},{"$f":"IF('Build Your Schedule'!AB9=\"\",0,IF(COUNTIF('Build Your Schedule'!$B$6:$B$21,'Build Your Schedule'!AB9)>0,0,1))","v":0},{"$f":"IF('Build Your Schedule'!AC9=\"\",0,IF(COUNTIF('Build Your Schedule'!$B$6:$B$21,'Build Your Schedule'!AC9)>0,0,1))","v":0},{"$f":"IF('Build Your Schedule'!AD9=\"\",0,IF(COUNTIF('Build Your Schedule'!$B$6:$B$21,'Build Your Schedule'!AD9)>0,0,1))","v":0},{"$f":"IF('Build Your Schedule'!AE9=\"\",0,IF(COUNTIF('Build Your Schedule'!$B$6:$B$21,'Build Your Schedule'!AE9)>0,0,1))","v":0},{"$f":"IF('Build Your Schedule'!AF9=\"\",0,IF(COUNTIF('Build Your Schedule'!$B$6:$B$21,'Build Your Schedule'!AF9)>0,0,1))","v":0},{"$f":"IF('Build Your Schedule'!AG9=\"\",0,IF(COUNTIF('Build Your Schedule'!$B$6:$B$21,'Build Your Schedule'!AG9)>0,0,1))","v":0},{"$f":"IF('Build Your Schedule'!AH9=\"\",0,IF(COUNTIF('Build Your Schedule'!$B$6:$B$21,'Build Your Schedule'!AH9)>0,0,1))","v":0},{"$f":"IF('Build Your Schedule'!AI9=\"\",0,IF(COUNTIF('Build Your Schedule'!$B$6:$B$21,'Build Your Schedule'!AI9)>0,0,1))","v":0},{"$f":"IF('Build Your Schedule'!AJ9=\"\",0,IF(COUNTIF('Build Your Schedule'!$B$6:$B$21,'Build Your Schedule'!AJ9)>0,0,1))","v":0},{"$f":"IF('Build Your Schedule'!AK9=\"\",0,IF(COUNTIF('Build Your Schedule'!$B$6:$B$21,'Build Your Schedule'!AK9)>0,0,1))","v":0}]
[null,"8p-5a",{"$f":"IF('Build Your Schedule'!H10=\"\",0,IF(COUNTIF('Build Your Schedule'!$B$6:$B$21,'Build Your Schedule'!H10)>0,0,1))","v":0},{"$f":"IF('Build Your Schedule'!I10=\"\",0,IF(COUNTIF('Build Your Schedule'!$B$6:$B$21,'Build Your Schedule'!I10)>0,0,1))","v":0},{"$f":"IF('Build Your Schedule'!J10=\"\",0,IF(COUNTIF('Build Your Schedule'!$B$6:$B$21,'Build Your Schedule'!J10)>0,0,1))","v":0},{"$f":"IF('Build Your Schedule'!K10=\"\",0,IF(COUNTIF('Build Your Schedule'!$B$6:$B$21,'Build Your Schedule'!K10)>0,0,1))","v":0},{"$f":"IF('Build Your Schedule'!L10=\"\",0,IF(COUNTIF('Build Your Schedule'!$B$6:$B$21,'Build Your Schedule'!L10)>0,0,1))","v":0},{"$f":"IF('Build Your Schedule'!M10=\"\",0,IF(COUNTIF('Build Your Schedule'!$B$6:$B$21,'Build Your Schedule'!M10)>0,0,1))","v":0},{"$f":"IF('Build Your Schedule'!N10=\"\",0,IF(COUNTIF('Build Your Schedule'!$B$6:$B$21,'Build Your Schedule'!N10)>0,0,1))","v":0},{"$f":"IF('Build Your Schedule'!O10=\"\",0,IF(COUNTIF('Build Your Schedule'!$B$6:$B$21,'Build Your Schedule'!O10)>0,0,1))","v":0},{"$f":"IF('Build Your Schedule'!P10=\"\",0,IF(COUNTIF('Build Your Schedule'!$B$6:$B$21,'Build Your Schedule'!P10)>0,0,1))","v":0},{"$f":"IF('Build Your Schedule'!Q10=\"\",0,IF(COUNTIF('Build Your Schedule'!$B$6:$B$21,'Build Your Schedule'!Q10)>0,0,1))","v":0},{"$f":"IF('Build Your Schedule'!R10=\"\",0,IF(COUNTIF('Build Your Schedule'!$B$6:$B$21,'Build Your Schedule'!R10)>0,0,1))","v":0},{"$f":"IF('Build Your Schedule'!S10=\"\",0,IF(COUNTIF('Build Your Schedule'!$B$6:$B$21,'Build Your Schedule'!S10)>0,0,1))","v":0},{"$f":"IF('Build Your Schedule'!T10=\"\",0,IF(COUNTIF('Build Your Schedule'!$B$6:$B$21,'Build Your Schedule'!T10)>0,0,1))","v":0},{"$f":"IF('Build Your Schedule'!U10=\"\",0,IF(COUNTIF('Build Your Schedule'!$B$6:$B$21,'Build Your Schedule'!U10)>0,0,1))","v":0},{"$f":"IF('Build Your Schedule'!V10=\"\",0,IF(COUNTIF('Build Your Schedule'!$B$6:$B$21,'Build Your Schedule'!V10)>0,0,1))","v":0},{"$f":"IF('Build Your Schedule'!W10=\"\",0,IF(COUNTIF('Build Your Schedule'!$B$6:$B$21,'Build Your Schedule'!W10)>0,0,1))","v":0},{"$f":"IF('Build Your Schedule'!X10=\"\",0,IF(COUNTIF('Build Your Schedule'!$B$6:$B$21,'Build Your Schedule'!X10)>0,0,1))","v":0},{"$f":"IF('Build Your Schedule'!Y10=\"\",0,IF(COUNTIF('Build Your Schedule'!$B$6:$B$21,'Build Your Schedule'!Y10)>0,0,1))","v":0},{"$f":"IF('Build Your Schedule'!Z10=\"\",0,IF(COUNTIF('Build Your Schedule'!$B$6:$B$21,'Build Your Schedule'!Z10)>0,0,1))","v":0},{"$f":"IF('Build Your Schedule'!AA10=\"\",0,IF(COUNTIF('Build Your Schedule'!$B$6:$B$21,'Build Your Schedule'!AA10)>0,0,1))","v":0},{"$f":"IF('Build Your Schedule'!AB10=\"\",0,IF(COUNTIF('Build Your Schedule'!$B$6:$B$21,'Build Your Schedule'!AB10)>0,0,1))","v":0},{"$f":"IF('Build Your Schedule'!AC10=\"\",0,IF(COUNTIF('Build Your Schedule'!$B$6:$B$21,'Build Your Schedule'!AC10)>0,0,1))","v":0},{"$f":"IF('Build Your Schedule'!AD10=\"\",0,IF(COUNTIF('Build Your Schedule'!$B$6:$B$21,'Build Your Schedule'!AD10)>0,0,1))","v":0},{"$f":"IF('Build Your Schedule'!AE10=\"\",0,IF(COUNTIF('Build Your Schedule'!$B$6:$B$21,'Build Your Schedule'!AE10)>0,0,1))","v":0},{"$f":"IF('Build Your Schedule'!AF10=\"\",0,IF(COUNTIF('Build Your Schedule'!$B$6:$B$21,'Build Your Schedule'!AF10)>0,0,1))","v":0},{"$f":"IF('Build Your Schedule'!AG10=\"\",0,IF(COUNTIF('Build Your Schedule'!$B$6:$B$21,'Build Your Schedule'!AG10)>0,0,1))","v":0},{"$f":"IF('Build Your Schedule'!AH10=\"\",0,IF(COUNTIF('Build Your Schedule'!$B$6:$B$21,'Build Your Schedule'!AH10)>0,0,1))","v":0},{"$f":"IF('Build Your Schedule'!AI10=\"\",0,IF(COUNTIF('Build Your Schedule'!$B$6:$B$21,'Build Your Schedule'!AI10)>0,0,1))","v":0},{"$f":"IF('Build Your Schedule'!AJ10=\"\",0,IF(COUNTIF('Build Your Schedule'!$B$6:$B$21,'Build Your Schedule'!AJ10)>0,0,1))","v":0},{"$f":"IF('Build Your Schedule'!AK10=\"\",0,IF(COUNTIF('Build Your Schedule'!$B$6:$B$21,'Build Your Schedule'!AK10)>0,0,1))","v":0}]
[null,"11p-8a",{"$f":"IF('Build Your Schedule'!H11=\"\",0,IF(COUNTIF('Build Your Schedule'!$B$6:$B$21,'Build Your Schedule'!H11)>0,0,1))","v":0},{"$f":"IF('Build Your Schedule'!I11=\"\",0,IF(COUNTIF('Build Your Schedule'!$B$6:$B$21,'Build Your Schedule'!I11)>0,0,1))","v":0},{"$f":"IF('Build Your Schedule'!J11=\"\",0,IF(COUNTIF('Build Your Schedule'!$B$6:$B$21,'Build Your Schedule'!J11)>0,0,1))","v":0},{"$f":"IF('Build Your Schedule'!K11=\"\",0,IF(COUNTIF('Build Your Schedule'!$B$6:$B$21,'Build Your Schedule'!K11)>0,0,1))","v":0},{"$f":"IF('Build Your Schedule'!L11=\"\",0,IF(COUNTIF('Build Your Schedule'!$B$6:$B$21,'Build Your Schedule'!L11)>0,0,1))","v":0},{"$f":"IF('Build Your Schedule'!M11=\"\",0,IF(COUNTIF('Build Your Schedule'!$B$6:$B$21,'Build Your Schedule'!M11)>0,0,1))","v":0},{"$f":"IF('Build Your Schedule'!N11=\"\",0,IF(COUNTIF('Build Your Schedule'!$B$6:$B$21,'Build Your Schedule'!N11)>0,0,1))","v":0},{"$f":"IF('Build Your Schedule'!O11=\"\",0,IF(COUNTIF('Build Your Schedule'!$B$6:$B$21,'Build Your Schedule'!O11)>0,0,1))","v":0},{"$f":"IF('Build Your Schedule'!P11=\"\",0,IF(COUNTIF('Build Your Schedule'!$B$6:$B$21,'Build Your Schedule'!P11)>0,0,1))","v":0},{"$f":"IF('Build Your Schedule'!Q11=\"\",0,IF(COUNTIF('Build Your Schedule'!$B$6:$B$21,'Build Your Schedule'!Q11)>0,0,1))","v":0},{"$f":"IF('Build Your Schedule'!R11=\"\",0,IF(COUNTIF('Build Your Schedule'!$B$6:$B$21,'Build Your Schedule'!R11)>0,0,1))","v":0},{"$f":"IF('Build Your Schedule'!S11=\"\",0,IF(COUNTIF('Build Your Schedule'!$B$6:$B$21,'Build Your Schedule'!S11)>0,0,1))","v":0},{"$f":"IF('Build Your Schedule'!T11=\"\",0,IF(COUNTIF('Build Your Schedule'!$B$6:$B$21,'Build Your Schedule'!T11)>0,0,1))","v":0},{"$f":"IF('Build Your Schedule'!U11=\"\",0,IF(COUNTIF('Build Your Schedule'!$B$6:$B$21,'Build Your Schedule'!U11)>0,0,1))","v":0},{"$f":"IF('Build Your Schedule'!V11=\"\",0,IF(COUNTIF('Build Your Schedule'!$B$6:$B$21,'Build Your Schedule'!V11)>0,0,1))","v":0},{"$f":"IF('Build Your Schedule'!W11=\"\",0,IF(COUNTIF('Build Your Schedule'!$B$6:$B$21,'Build Your Schedule'!W11)>0,0,1))","v":0},{"$f":"IF('Build Your Schedule'!X11=\"\",0,IF(COUNTIF('Build Your Schedule'!$B$6:$B$21,'Build Your Schedule'!X11)>0,0,1))","v":0},{"$f":"IF('Build Your Schedule'!Y11=\"\",0,IF(COUNTIF('Build Your Schedule'!$B$6:$B$21,'Build Your Schedule'!Y11)>0,0,1))","v":0},{"$f":"IF('Build Your Schedule'!Z11=\"\",0,IF(COUNTIF('Build Your Schedule'!$B$6:$B$21,'Build Your Schedule'!Z11)>0,0,1))","v":0},{"$f":"IF('Build Your Schedule'!AA11=\"\",0,IF(COUNTIF('Build Your Schedule'!$B$6:$B$21,'Build Your Schedule'!AA11)>0,0,1))","v":0},{"$f":"IF('Build Your Schedule'!AB11=\"\",0,IF(COUNTIF('Build Your Schedule'!$B$6:$B$21,'Build Your Schedule'!AB11)>0,0,1))","v":0},{"$f":"IF('Build Your Schedule'!AC11=\"\",0,IF(COUNTIF('Build Your Schedule'!$B$6:$B$21,'Build Your Schedule'!AC11)>0,0,1))","v":0},{"$f":"IF('Build Your Schedule'!AD11=\"\",0,IF(COUNTIF('Build Your Schedule'!$B$6:$B$21,'Build Your Schedule'!AD11)>0,0,1))","v":0},{"$f":"IF('Build Your Schedule'!AE11=\"\",0,IF(COUNTIF('Build Your Schedule'!$B$6:$B$21,'Build Your Schedule'!AE11)>0,0,1))","v":0},{"$f":"IF('Build Your Schedule'!AF11=\"\",0,IF(COUNTIF('Build Your Schedule'!$B$6:$B$21,'Build Your Schedule'!AF11)>0,0,1))","v":0},{"$f":"IF('Build Your Schedule'!AG11=\"\",0,IF(COUNTIF('Build Your Schedule'!$B$6:$B$21,'Build Your Schedule'!AG11)>0,0,1))","v":0},{"$f":"IF('Build Your Schedule'!AH11=\"\",0,IF(COUNTIF('Build Your Schedule'!$B$6:$B$21,'Build Your Schedule'!AH11)>0,0,1))","v":0},{"$f":"IF('Build Your Schedule'!AI11=\"\",0,IF(COUNTIF('Build Your Schedule'!$B$6:$B$21,'Build Your Schedule'!AI11)>0,0,1))","v":0},{"$f":"IF('Build Your Schedule'!AJ11=\"\",0,IF(COUNTIF('Build Your Schedule'!$B$6:$B$21,'Build Your Schedule'!AJ11)>0,0,1))","v":0},{"$f":"IF('Build Your Schedule'!AK11=\"\",0,IF(COUNTIF('Build Your Schedule'!$B$6:$B$21,'Build Your Schedule'!AK11)>0,0,1))","v":0}]
[]
[null,"10-Hour Rest Rule Violations",null,null,null,null,null,null,"*the Red Cells indicate where there has not been a 10 hour break since the resident's previous shift"]
[null,{"$f":"B3","v":"Adamson"},"2015-06-01","2015-06-02","2015-06-03","2015-06-04","2015-06-05","2015-06-06","2015-06-07","2015-06-08","2015-06-09","2015-06-10","2015-06-11","2015-06-12","2015-06-13","2015-06-14","2015-06-15","2015-06-16","2015-06-17","2015-06-18","2015-06-19","2015-06-20","2015-06-21","2015-06-22","2015-06-23","2015-06-24","2015-06-25","2015-06-26","2015-06-27","2015-06-28","2015-06-29","2015-06-30"]
[null,"7a-4p",{"$f":"IF('Build Your Schedule'!H$5=$B$3,IF(COUNTIF('Build Your Schedule'!G$8:G$11,$B$3)>0,1,0),0)","v":0},{"$f":"IF('Build Your Schedule'!I$5=$B$3,IF(COUNTIF('Build Your Schedule'!H$8:H$11,$B$3)>0,1,0),0)","v":0},{"$f":"IF('Build Your Schedule'!J$5=$B$3,IF(COUNTIF('Build Your Schedule'!I$8:I$11,$B$3)>0,1,0),0)","v":0},{"$f":"IF('Build Your Schedule'!K$5=$B$3,IF(COUNTIF('Build Your Schedule'!J$8:J$11,$B$3)>0,1,0),0)","v":0},{"$f":"IF('Build Your Schedule'!L$5=$B$3,IF(COUNTIF('Build Your Schedule'!K$8:K$11,$B$3)>0,1,0),0)","v":0},{"$f":"IF('Build Your Schedule'!M$5=$B$3,IF(COUNTIF('Build Your Schedule'!L$8:L$11,$B$3)>0,1,0),0)","v":0},{"$f":"IF('Build Your Schedule'!N$5=$B$3,IF(COUNTIF('Build Your Schedule'!M$8:M$11,$B$3)>0,1,0),0)","v":0},{"$f":"IF('Build Your Schedule'!O$5=$B$3,IF(COUNTIF('Build Your Schedule'!N$8:N$11,$B$3)>0,1,0),0)","v":0},{"$f":"IF('Build Your Schedule'!P$5=$B$3,IF(COUNTIF('Build Your Schedule'!O$8:O$11,$B$3)>0,1,0),0)","v":0},{"$f":"IF('Build Your Schedule'!Q$5=$B$3,IF(COUNTIF('Build Your Schedule'!P$8:P$11,$B$3)>0,1,0),0)","v":0},{"$f":"IF('Build Your Schedule'!R$5=$B$3,IF(COUNTIF('Build Your Schedule'!Q$8:Q$11,$B$3)>0,1,0),0)","v":0},{"$f":"IF('Build Your Schedule'!S$5=$B$3,IF(COUNTIF('Build Your Schedule'!R$8:R$11,$B$3)>0,1,0),0)","v":0},{"$f":"IF('Build Your Schedule'!T$5=$B$3,IF(COUNTIF('Build Your Schedule'!S$8:S$11,$B$3)>0,1,0),0)","v":0},{"$f":"IF('Build Your Schedule'!U$5=$B$3,IF(COUNTIF('Build Your Schedule'!T$8:T$11,$B$3)>0,1,0),0)","v":0},{"$f":"IF('Build Your Schedule'!V$5=$B$3,IF(COUNTIF('Build Your Schedule'!U$8:U$11,$B$3)>0,1,0),0)","v":0},{"$f":"IF('Build Your Schedule'!W$5=$B$3,IF(COUNTIF('Build Your Schedule'!V$8:V$11,$B$3)>0,1,0),0)","v":0},{"$f":"IF('Build Your Schedule'!X$5=$B$3,IF(COUNTIF('Build Your Schedule'!W$8:W$11,$B$3)>0,1,0),0)","v":0},{"$f":"IF('Build Your Schedule'!Y$5=$B$3,IF(COUNTIF('Build Your Schedule'!X$8:X$11,$B$3)>0,1,0),0)","v":0},{"$f":"IF('Build Your Schedule'!Z$5=$B$3,IF(COUNTIF('Build Your Schedule'!Y$8:Y$11,$B$3)>0,1,0),0)","v":0},{"$f":"IF('Build Your Schedule'!AA$5=$B$3,IF(COUNTIF('Build Your Schedule'!Z$8:Z$11,$B$3)>0,1,0),0)","v":0},{"$f":"IF('Build Your Schedule'!AB$5=$B$3,IF(COUNTIF('Build Your Schedule'!AA$8:AA$11,$B$3)>0,1,0),0)","v":0},{"$f":"IF('Build Your Schedule'!AC$5=$B$3,IF(COUNTIF('Build Your Schedule'!AB$8:AB$11,$B$3)>0,1,0),0)","v":0},{"$f":"IF('Build Your Schedule'!AD$5=$B$3,IF(COUNTIF('Build Your Schedule'!AC$8:AC$11,$B$3)>0,1,0),0)","v":0},{"$f":"IF('Build Your Schedule'!AE$5=$B$3,IF(COUNTIF('Build Your Schedule'!AD$8:AD$11,$B$3)>0,1,0),0)","v":0},{"$f":"IF('Build Your Schedule'!AF$5=$B$3,IF(COUNTIF('Build Your Schedule'!AE$8:AE$11,$B$3)>0,1,0),0)","v":0},{"$f":"IF('Build Your Schedule'!AG$5=$B$3,IF(COUNTIF('Build Your Schedule'!AF$8:AF$11,$B$3)>0,1,0),0)","v":0},{"$f":"IF('Build Your Schedule'!AH$5=$B$3,IF(COUNTIF('Build Your Schedule'!AG$8:AG$11,$B$3)>0,1,0),0)","v":0},{"$f":"IF('Build Your Schedule'!AI$5=$B$3,IF(COUNTIF('Build Your Schedule'!AH$8:AH$11,$B$3)>0,1,0),0)","v":0},{"$f":"IF('Build Your Schedule'!AJ$5=$B$3,IF(COUNTIF('Build Your Schedule'!AI$8:AI$11,$B$3)>0,1,0),0)","v":0},{"$f":"IF('Build Your Schedule'!AK$5=$B$3,IF(COUNTIF('Build Your Schedule'!AJ$8:AJ$11,$B$3)>0,1,0),0)","v":0}]
[null,"9a-6p",{"$f":"IF('Build Your Schedule'!H$6=$B$3,IF((COUNTIF('Build Your Schedule'!G$8:G$11,$B$3)+COUNTIF('Build Your Schedule'!H$5,$B$3))>0,1,0),0)","v":0},{"$f":"IF('Build Your Schedule'!I$6=$B$3,IF((COUNTIF('Build Your Schedule'!H$8:H$11,$B$3)+COUNTIF('Build Your Schedule'!I$5,$B$3))>0,1,0),0)","v":0},{"$f":"IF('Build Your Schedule'!J$6=$B$3,IF((COUNTIF('Build Your Schedule'!I$8:I$11,$B$3)+COUNTIF('Build Your Schedule'!J$5,$B$3))>0,1,0),0)","v":0},{"$f":"IF('Build Your Schedule'!K$6=$B$3,IF((COUNTIF('Build Your Schedule'!J$8:J$11,$B$3)+COUNTIF('Build Your Schedule'!K$5,$B$3))>0,1,0),0)","v":0},{"$f":"IF('Build Your Schedule'!L$6=$B$3,IF((COUNTIF('Build Your Schedule'!K$8:K$11,$B$3)+COUNTIF('Build Your Schedule'!L$5,$B$3))>0,1,0),0)","v":0},{"$f":"IF('Build Your Schedule'!M$6=$B$3,IF((COUNTIF('Build Your Schedule'!L$8:L$11,$B$3)+COUNTIF('Build Your Schedule'!M$5,$B$3))>0,1,0),0)","v":0},{"$f":"IF('Build Your Schedule'!N$6=$B$3,IF((COUNTIF('Build Your Schedule'!M$8:M$11,$B$3)+COUNTIF('Build Your Schedule'!N$5,$B$3))>0,1,0),0)","v":0},{"$f":"IF('Build Your Schedule'!O$6=$B$3,IF((COUNTIF('Build Your Schedule'!N$8:N$11,$B$3)+COUNTIF('Build Your Schedule'!O$5,$B$3))>0,1,0),0)","v":0},{"$f":"IF('Build Your Schedule'!P$6=$B$3,IF((COUNTIF('Build Your Schedule'!O$8:O$11,$B$3)+COUNTIF('Build Your Schedule'!P$5,$B$3))>0,1,0),0)","v":0},{"$f":"IF('Build Your Schedule'!Q$6=$B$3,IF((COUNTIF('Build Your Schedule'!P$8:P$11,$B$3)+COUNTIF('Build Your Schedule'!Q$5,$B$3))>0,1,0),0)","v":0},{"$f":"IF('Build Your Schedule'!R$6=$B$3,IF((COUNTIF('Build Your Schedule'!Q$8:Q$11,$B$3)+COUNTIF('Build Your Schedule'!R$5,$B$3))>0,1,0),0)","v":0},{"$f":"IF('Build Your Schedule'!S$6=$B$3,IF((COUNTIF('Build Your Schedule'!R$8:R$11,$B$3)+COUNTIF('Build Your Schedule'!S$5,$B$3))>0,1,0),0)","v":0},{"$f":"IF('Build Your Schedule'!T$6=$B$3,IF((COUNTIF('Build Your Schedule'!S$8:S$11,$B$3)+COUNTIF('Build Your Schedule'!T$5,$B$3))>0,1,0),0)","v":0},{"$f":"IF('Build Your Schedule'!U$6=$B$3,IF((COUNTIF('Build Your Schedule'!T$8:T$11,$B$3)+COUNTIF('Build Your Schedule'!U$5,$B$3))>0,1,0),0)","v":0},{"$f":"IF('Build Your Schedule'!V$6=$B$3,IF((COUNTIF('Build Your Schedule'!U$8:U$11,$B$3)+COUNTIF('Build Your Schedule'!V$5,$B$3))>0,1,0),0)","v":0},{"$f":"IF('Build Your Schedule'!W$6=$B$3,IF((COUNTIF('Build Your Schedule'!V$8:V$11,$B$3)+COUNTIF('Build Your Schedule'!W$5,$B$3))>0,1,0),0)","v":0},{"$f":"IF('Build Your Schedule'!X$6=$B$3,IF((COUNTIF('Build Your Schedule'!W$8:W$11,$B$3)+COUNTIF('Build Your Schedule'!X$5,$B$3))>0,1,0),0)","v":0},{"$f":"IF('Build Your Schedule'!Y$6=$B$3,IF((COUNTIF('Build Your Schedule'!X$8:X$11,$B$3)+COUNTIF('Build Your Schedule'!Y$5,$B$3))>0,1,0),0)","v":0},{"$f":"IF('Build Your Schedule'!Z$6=$B$3,IF((COUNTIF('Build Your Schedule'!Y$8:Y$11,$B$3)+COUNTIF('Build Your Schedule'!Z$5,$B$3))>0,1,0),0)","v":0},{"$f":"IF('Build Your Schedule'!AA$6=$B$3,IF((COUNTIF('Build Your Schedule'!Z$8:Z$11,$B$3)+COUNTIF('Build Your Schedule'!AA$5,$B$3))>0,1,0),0)","v":0},{"$f":"IF('Build Your Schedule'!AB$6=$B$3,IF((COUNTIF('Build Your Schedule'!AA$8:AA$11,$B$3)+COUNTIF('Build Your Schedule'!AB$5,$B$3))>0,1,0),0)","v":0},{"$f":"IF('Build Your Schedule'!AC$6=$B$3,IF((COUNTIF('Build Your Schedule'!AB$8:AB$11,$B$3)+COUNTIF('Build Your Schedule'!AC$5,$B$3))>0,1,0),0)","v":0},{"$f":"IF('Build Your Schedule'!AD$6=$B$3,IF((COUNTIF('Build Your Schedule'!AC$8:AC$11,$B$3)+COUNTIF('Build Your Schedule'!AD$5,$B$3))>0,1,0),0)","v":0},{"$f":"IF('Build Your Schedule'!AE$6=$B$3,IF((COUNTIF('Build Your Schedule'!AD$8:AD$11,$B$3)+COUNTIF('Build Your Schedule'!AE$5,$B$3))>0,1,0),0)","v":0},{"$f":"IF('Build Your Schedule'!AF$6=$B$3,IF((COUNTIF('Build Your Schedule'!AE$8:AE$11,$B$3)+COUNTIF('Build Your Schedule'!AF$5,$B$3))>0,1,0),0)","v":0},{"$f":"IF('Build Your Schedule'!AG$6=$B$3,IF((COUNTIF('Build Your Schedule'!AF$8:AF$11,$B$3)+COUNTIF('Build Your Schedule'!AG$5,$B$3))>0,1,0),0)","v":0},{"$f":"IF('Build Your Schedule'!AH$6=$B$3,IF((COUNTIF('Build Your Schedule'!AG$8:AG$11,$B$3)+COUNTIF('Build Your Schedule'!AH$5,$B$3))>0,1,0),0)","v":0},{"$f":"IF('Build Your Schedule'!AI$6=$B$3,IF((COUNTIF('Build Your Schedule'!AH$8:AH$11,$B$3)+COUNTIF('Build Your Schedule'!AI$5,$B$3))>0,1,0),0)","v":0},{"$f":"IF('Build Your Schedule'!AJ$6=$B$3,IF((COUNTIF('Build Your Schedule'!AI$8:AI$11,$B$3)+COUNTIF('Build Your Schedule'!AJ$5,$B$3))>0,1,0),0)","v":0},{"$f":"IF('Build Your Schedule'!AK$6=$B$3,IF((COUNTIF('Build Your Schedule'!AJ$8:AJ$11,$B$3)+COUNTIF('Build Your Schedule'!AK$5,$B$3))>0,1,0),0)","v":0}]
[null,"12p-9p",{"$f":"IF('Build Your Schedule'!H$7=$B$3,IF((COUNTIF('Build Your Schedule'!G$10:G$11,$B$3)+COUNTIF('Build Your Schedule'!H$5:H$6,$B$3))>0,1,0),0)","v":0},{"$f":"IF('Build Your Schedule'!I$7=$B$3,IF((COUNTIF('Build Your Schedule'!H$10:H$11,$B$3)+COUNTIF('Build Your Schedule'!I$5:I$6,$B$3))>0,1,0),0)","v":0},{"$f":"IF('Build Your Schedule'!J$7=$B$3,IF((COUNTIF('Build Your Schedule'!I$10:I$11,$B$3)+COUNTIF('Build Your Schedule'!J$5:J$6,$B$3))>0,1,0),0)","v":0},{"$f":"IF('Build Your Schedule'!K$7=$B$3,IF((COUNTIF('Build Your Schedule'!J$10:J$11,$B$3)+COUNTIF('Build Your Schedule'!K$5:K$6,$B$3))>0,1,0),0)","v":0},{"$f":"IF('Build Your Schedule'!L$7=$B$3,IF((COUNTIF('Build Your Schedule'!K$10:K$11,$B$3)+COUNTIF('Build Your Schedule'!L$5:L$6,$B$3))>0,1,0),0)","v":0},{"$f":"IF('Build Your Schedule'!M$7=$B$3,IF((COUNTIF('Build Your Schedule'!L$10:L$11,$B$3)+COUNTIF('Build Your Schedule'!M$5:M$6,$B$3))>0,1,0),0)","v":0},{"$f":"IF('Build Your Schedule'!N$7=$B$3,IF((COUNTIF('Build Your Schedule'!M$10:M$11,$B$3)+COUNTIF('Build Your Schedule'!N$5:N$6,$B$3))>0,1,0),0)","v":0},{"$f":"IF('Build Your Schedule'!O$7=$B$3,IF((COUNTIF('Build Your Schedule'!N$10:N$11,$B$3)+COUNTIF('Build Your Schedule'!O$5:O$6,$B$3))>0,1,0),0)","v":0},{"$f":"IF('Build Your Schedule'!P$7=$B$3,IF((COUNTIF('Build Your Schedule'!O$10:O$11,$B$3)+COUNTIF('Build Your Schedule'!P$5:P$6,$B$3))>0,1,0),0)","v":0},{"$f":"IF('Build Your Schedule'!Q$7=$B$3,IF((COUNTIF('Build Your Schedule'!P$10:P$11,$B$3)+COUNTIF('Build Your Schedule'!Q$5:Q$6,$B$3))>0,1,0),0)","v":0},{"$f":"IF('Build Your Schedule'!R$7=$B$3,IF((COUNTIF('Build Your Schedule'!Q$10:Q$11,$B$3)+COUNTIF('Build Your Schedule'!R$5:R$6,$B$3))>0,1,0),0)","v":0},{"$f":"IF('Build Your Schedule'!S$7=$B$3,IF((COUNTIF('Build Your Schedule'!R$10:R$11,$B$3)+COUNTIF('Build Your Schedule'!S$5:S$6,$B$3))>0,1,0),0)","v":0},{"$f":"IF('Build Your Schedule'!T$7=$B$3,IF((COUNTIF('Build Your Schedule'!S$10:S$11,$B$3)+COUNTIF('Build Your Schedule'!T$5:T$6,$B$3))>0,1,0),0)","v":0},{"$f":"IF('Build Your Schedule'!U$7=$B$3,IF((COUNTIF('Build Your Schedule'!T$10:T$11,$B$3)+COUNTIF('Build Your Schedule'!U$5:U$6,$B$3))>0,1,0),0)","v":0},{"$f":"IF('Build Your Schedule'!V$7=$B$3,IF((COUNTIF('Build Your Schedule'!U$10:U$11,$B$3)+COUNTIF('Build Your Schedule'!V$5:V$6,$B$3))>0,1,0),0)","v":0},{"$f":"IF('Build Your Schedule'!W$7=$B$3,IF((COUNTIF('Build Your Schedule'!V$10:V$11,$B$3)+COUNTIF('Build Your Schedule'!W$5:W$6,$B$3))>0,1,0),0)","v":0},{"$f":"IF('Build Your Schedule'!X$7=$B$3,IF((COUNTIF('Build Your Schedule'!W$10:W$11,$B$3)+COUNTIF('Build Your Schedule'!X$5:X$6,$B$3))>0,1,0),0)","v":0},{"$f":"IF('Build Your Schedule'!Y$7=$B$3,IF((COUNTIF('Build Your Schedule'!X$10:X$11,$B$3)+COUNTIF('Build Your Schedule'!Y$5:Y$6,$B$3))>0,1,0),0)","v":0},{"$f":"IF('Build Your Schedule'!Z$7=$B$3,IF((COUNTIF('Build Your Schedule'!Y$10:Y$11,$B$3)+COUNTIF('Build Your Schedule'!Z$5:Z$6,$B$3))>0,1,0),0)","v":0},{"$f":"IF('Build Your Schedule'!AA$7=$B$3,IF((COUNTIF('Build Your Schedule'!Z$10:Z$11,$B$3)+COUNTIF('Build Your Schedule'!AA$5:AA$6,$B$3))>0,1,0),0)","v":0},{"$f":"IF('Build Your Schedule'!AB$7=$B$3,IF((COUNTIF('Build Your Schedule'!AA$10:AA$11,$B$3)+COUNTIF('Build Your Schedule'!AB$5:AB$6,$B$3))>0,1,0),0)","v":0},{"$f":"IF('Build Your Schedule'!AC$7=$B$3,IF((COUNTIF('Build Your Schedule'!AB$10:AB$11,$B$3)+COUNTIF('Build Your Schedule'!AC$5:AC$6,$B$3))>0,1,0),0)","v":0},{"$f":"IF('Build Your Schedule'!AD$7=$B$3,IF((COUNTIF('Build Your Schedule'!AC$10:AC$11,$B$3)+COUNTIF('Build Your Schedule'!AD$5:AD$6,$B$3))>0,1,0),0)","v":0},{"$f":"IF('Build Your Schedule'!AE$7=$B$3,IF((COUNTIF('Build Your Schedule'!AD$10:AD$11,$B$3)+COUNTIF('Build Your Schedule'!AE$5:AE$6,$B$3))>0,1,0),0)","v":0},{"$f":"IF('Build Your Schedule'!AF$7=$B$3,IF((COUNTIF('Build Your Schedule'!AE$10:AE$11,$B$3)+COUNTIF('Build Your Schedule'!AF$5:AF$6,$B$3))>0,1,0),0)","v":0},{"$f":"IF('Build Your Schedule'!AG$7=$B$3,IF((COUNTIF('Build Your Schedule'!AF$10:AF$11,$B$3)+COUNTIF('Build Your Schedule'!AG$5:AG$6,$B$3))>0,1,0),0)","v":0},{"$f":"IF('Build Your Schedule'!AH$7=$B$3,IF((COUNTIF('Build Your Schedule'!AG$10:AG$11,$B$3)+COUNTIF('Build Your Schedule'!AH$5:AH$6,$B$3))>0,1,0),0)","v":0},{"$f":"IF('Build Your Schedule'!AI$7=$B$3,IF((COUNTIF('Build Your Schedule'!AH$10:AH$11,$B$3)+COUNTIF('Build Your Schedule'!AI$5:AI$6,$B$3))>0,1,0),0)","v":0},{"$f":"IF('Build Your Schedule'!AJ$7=$B$3,IF((COUNTIF('Build Your Schedule'!AI$10:AI$11,$B$3)+COUNTIF('Build Your Schedule'!AJ$5:AJ$6,$B$3))>0,1,0),0)","v":0},{"$f":"IF('Build Your Schedule'!AK$7=$B$3,IF((COUNTIF('Build Your Schedule'!AJ$10:AJ$11,$B$3)+COUNTIF('Build Your Schedule'!AK$5:AK$6,$B$3))>0,1,0),0)","v":0}]
[null,"4p-1a",{"$f":"IF('Build Your Schedule'!H$8=$B$3,IF((COUNTIF('Build Your Schedule'!G$11,$B$3)+COUNTIF('Build Your Schedule'!H$5:H$7,$B$3))>0,1,0),0)","v":0},{"$f":"IF('Build Your Schedule'!I$8=$B$3,IF((COUNTIF('Build Your Schedule'!H$11,$B$3)+COUNTIF('Build Your Schedule'!I$5:I$7,$B$3))>0,1,0),0)","v":0},{"$f":"IF('Build Your Schedule'!J$8=$B$3,IF((COUNTIF('Build Your Schedule'!I$11,$B$3)+COUNTIF('Build Your Schedule'!J$5:J$7,$B$3))>0,1,0),0)","v":0},{"$f":"IF('Build Your Schedule'!K$8=$B$3,IF((COUNTIF('Build Your Schedule'!J$11,$B$3)+COUNTIF('Build Your Schedule'!K$5:K$7,$B$3))>0,1,0),0)","v":0},{"$f":"IF('Build Your Schedule'!L$8=$B$3,IF((COUNTIF('Build Your Schedule'!K$11,$B$3)+COUNTIF('Build Your Schedule'!L$5:L$7,$B$3))>0,1,0),0)","v":0},{"$f":"IF('Build Your Schedule'!M$8=$B$3,IF((COUNTIF('Build Your Schedule'!L$11,$B$3)+COUNTIF('Build Your Schedule'!M$5:M$7,$B$3))>0,1,0),0)","v":0},{"$f":"IF('Build Your Schedule'!N$8=$B$3,IF((COUNTIF('Build Your Schedule'!M$11,$B$3)+COUNTIF('Build Your Schedule'!N$5:N$7,$B$3))>0,1,0),0)","v":0},{"$f":"IF('Build Your Schedule'!O$8=$B$3,IF((COUNTIF('Build Your Schedule'!N$11,$B$3)+COUNTIF('Build Your Schedule'!O$5:O$7,$B$3))>0,1,0),0)","v":0},{"$f":"IF('Build Your Schedule'!P$8=$B$3,IF((COUNTIF('Build Your Schedule'!O$11,$B$3)+COUNTIF('Build Your Schedule'!P$5:P$7,$B$3))>0,1,0),0)","v":0},{"$f":"IF('Build Your Schedule'!Q$8=$B$3,IF((COUNTIF('Build Your Schedule'!P$11,$B$3)+COUNTIF('Build Your Schedule'!Q$5:Q$7,$B$3))>0,1,0),0)","v":0},{"$f":"IF('Build Your Schedule'!R$8=$B$3,IF((COUNTIF('Build Your Schedule'!Q$11,$B$3)+COUNTIF('Build Your Schedule'!R$5:R$7,$B$3))>0,1,0),0)","v":0},{"$f":"IF('Build Your Schedule'!S$8=$B$3,IF((COUNTIF('Build Your Schedule'!R$11,$B$3)+COUNTIF('Build Your Schedule'!S$5:S$7,$B$3))>0,1,0),0)","v":0},{"$f":"IF('Build Your Schedule'!T$8=$B$3,IF((COUNTIF('Build Your Schedule'!S$11,$B$3)+COUNTIF('Build Your Schedule'!T$5:T$7,$B$3))>0,1,0),0)","v":0},{"$f":"IF('Build Your Schedule'!U$8=$B$3,IF((COUNTIF('Build Your Schedule'!T$11,$B$3)+COUNTIF('Build Your Schedule'!U$5:U$7,$B$3))>0,1,0),0)","v":0},{"$f":"IF('Build Your Schedule'!V$8=$B$3,IF((COUNTIF('Build Your Schedule'!U$11,$B$3)+COUNTIF('Build Your Schedule'!V$5:V$7,$B$3))>0,1,0),0)","v":0},{"$f":"IF('Build Your Schedule'!W$8=$B$3,IF((COUNTIF('Build Your Schedule'!V$11,$B$3)+COUNTIF('Build Your Schedule'!W$5:W$7,$B$3))>0,1,0),0)","v":0},{"$f":"IF('Build Your Schedule'!X$8=$B$3,IF((COUNTIF('Build Your Schedule'!W$11,$B$3)+COUNTIF('Build Your Schedule'!X$5:X$7,$B$3))>0,1,0),0)","v":0},{"$f":"IF('Build Your Schedule'!Y$8=$B$3,IF((COUNTIF('Build Your Schedule'!X$11,$B$3)+COUNTIF('Build Your Schedule'!Y$5:Y$7,$B$3))>0,1,0),0)","v":0},{"$f":"IF('Build Your Schedule'!Z$8=$B$3,IF((COUNTIF('Build Your Schedule'!Y$11,$B$3)+COUNTIF('Build Your Schedule'!Z$5:Z$7,$B$3))>0,1,0),0)","v":0},{"$f":"IF('Build Your Schedule'!AA$8=$B$3,IF((COUNTIF('Build Your Schedule'!Z$11,$B$3)+COUNTIF('Build Your Schedule'!AA$5:AA$7,$B$3))>0,1,0),0)","v":0},{"$f":"IF('Build Your Schedule'!AB$8=$B$3,IF((COUNTIF('Build Your Schedule'!AA$11,$B$3)+COUNTIF('Build Your Schedule'!AB$5:AB$7,$B$3))>0,1,0),0)","v":0},{"$f":"IF('Build Your Schedule'!AC$8=$B$3,IF((COUNTIF('Build Your Schedule'!AB$11,$B$3)+COUNTIF('Build Your Schedule'!AC$5:AC$7,$B$3))>0,1,0),0)","v":0},{"$f":"IF('Build Your Schedule'!AD$8=$B$3,IF((COUNTIF('Build Your Schedule'!AC$11,$B$3)+COUNTIF('Build Your Schedule'!AD$5:AD$7,$B$3))>0,1,0),0)","v":0},{"$f":"IF('Build Your Schedule'!AE$8=$B$3,IF((COUNTIF('Build Your Schedule'!AD$11,$B$3)+COUNTIF('Build Your Schedule'!AE$5:AE$7,$B$3))>0,1,0),0)","v":0},{"$f":"IF('Build Your Schedule'!AF$8=$B$3,IF((COUNTIF('Build Your Schedule'!AE$11,$B$3)+COUNTIF('Build Your Schedule'!AF$5:AF$7,$B$3))>0,1,0),0)","v":0},{"$f":"IF('Build Your Schedule'!AG$8=$B$3,IF((COUNTIF('Build Your Schedule'!AF$11,$B$3)+COUNTIF('Build Your Schedule'!AG$5:AG$7,$B$3))>0,1,0),0)","v":0},{"$f":"IF('Build Your Schedule'!AH$8=$B$3,IF((COUNTIF('Build Your Schedule'!AG$11,$B$3)+COUNTIF('Build Your Schedule'!AH$5:AH$7,$B$3))>0,1,0),0)","v":0},{"$f":"IF('Build Your Schedule'!AI$8=$B$3,IF((COUNTIF('Build Your Schedule'!AH$11,$B$3)+COUNTIF('Build Your Schedule'!AI$5:AI$7,$B$3))>0,1,0),0)","v":0},{"$f":"IF('Build Your Schedule'!AJ$8=$B$3,IF((COUNTIF('Build Your Schedule'!AI$11,$B$3)+COUNTIF('Build Your Schedule'!AJ$5:AJ$7,$B$3))>0,1,0),0)","v":0},{"$f":"IF('Build Your Schedule'!AK$8=$B$3,IF((COUNTIF('Build Your Schedule'!AJ$11,$B$3)+COUNTIF('Build Your Schedule'!AK$5:AK$7,$B$3))>0,1,0),0)","v":0}]
[null,"5p-2a",{"$f":"IF('Build Your Schedule'!H$9=$B$3,IF((COUNTIF('Build Your Schedule'!G$11,$B$3)+COUNTIF('Build Your Schedule'!H$5:H$8,$B$3))>0,1,0),0)","v":0},{"$f":"IF('Build Your Schedule'!I$9=$B$3,IF((COUNTIF('Build Your Schedule'!H$11,$B$3)+COUNTIF('Build Your Schedule'!I$5:I$8,$B$3))>0,1,0),0)","v":0},{"$f":"IF('Build Your Schedule'!J$9=$B$3,IF((COUNTIF('Build Your Schedule'!I$11,$B$3)+COUNTIF('Build Your Schedule'!J$5:J$8,$B$3))>0,1,0),0)","v":0},{"$f":"IF('Build Your Schedule'!K$9=$B$3,IF((COUNTIF('Build Your Schedule'!J$11,$B$3)+COUNTIF('Build Your Schedule'!K$5:K$8,$B$3))>0,1,0),0)","v":0},{"$f":"IF('Build Your Schedule'!L$9=$B$3,IF((COUNTIF('Build Your Schedule'!K$11,$B$3)+COUNTIF('Build Your Schedule'!L$5:L$8,$B$3))>0,1,0),0)","v":0},{"$f":"IF('Build Your Schedule'!M$9=$B$3,IF((COUNTIF('Build Your Schedule'!L$11,$B$3)+COUNTIF('Build Your Schedule'!M$5:M$8,$B$3))>0,1,0),0)","v":0},{"$f":"IF('Build Your Schedule'!N$9=$B$3,IF((COUNTIF('Build Your Schedule'!M$11,$B$3)+COUNTIF('Build Your Schedule'!N$5:N$8,$B$3))>0,1,0),0)","v":0},{"$f":"IF('Build Your Schedule'!O$9=$B$3,IF((COUNTIF('Build Your Schedule'!N$11,$B$3)+COUNTIF('Build Your Schedule'!O$5:O$8,$B$3))>0,1,0),0)","v":0},{"$f":"IF('Build Your Schedule'!P$9=$B$3,IF((COUNTIF('Build Your Schedule'!O$11,$B$3)+COUNTIF('Build Your Schedule'!P$5:P$8,$B$3))>0,1,0),0)","v":0},{"$f":"IF('Build Your Schedule'!Q$9=$B$3,IF((COUNTIF('Build Your Schedule'!P$11,$B$3)+COUNTIF('Build Your Schedule'!Q$5:Q$8,$B$3))>0,1,0),0)","v":0},{"$f":"IF('Build Your Schedule'!R$9=$B$3,IF((COUNTIF('Build Your Schedule'!Q$11,$B$3)+COUNTIF('Build Your Schedule'!R$5:R$8,$B$3))>0,1,0),0)","v":0},{"$f":"IF('Build Your Schedule'!S$9=$B$3,IF((COUNTIF('Build Your Schedule'!R$11,$B$3)+COUNTIF('Build Your Schedule'!S$5:S$8,$B$3))>0,1,0),0)","v":0},{"$f":"IF('Build Your Schedule'!T$9=$B$3,IF((COUNTIF('Build Your Schedule'!S$11,$B$3)+COUNTIF('Build Your Schedule'!T$5:T$8,$B$3))>0,1,0),0)","v":0},{"$f":"IF('Build Your Schedule'!U$9=$B$3,IF((COUNTIF('Build Your Schedule'!T$11,$B$3)+COUNTIF('Build Your Schedule'!U$5:U$8,$B$3))>0,1,0),0)","v":0},{"$f":"IF('Build Your Schedule'!V$9=$B$3,IF((COUNTIF('Build Your Schedule'!U$11,$B$3)+COUNTIF('Build Your Schedule'!V$5:V$8,$B$3))>0,1,0),0)","v":0},{"$f":"IF('Build Your Schedule'!W$9=$B$3,IF((COUNTIF('Build Your Schedule'!V$11,$B$3)+COUNTIF('Build Your Schedule'!W$5:W$8,$B$3))>0,1,0),0)","v":0},{"$f":"IF('Build Your Schedule'!X$9=$B$3,IF((COUNTIF('Build Your Schedule'!W$11,$B$3)+COUNTIF('Build Your Schedule'!X$5:X$8,$B$3))>0,1,0),0)","v":0},{"$f":"IF('Build Your Schedule'!Y$9=$B$3,IF((COUNTIF('Build Your Schedule'!X$11,$B$3)+COUNTIF('Build Your Schedule'!Y$5:Y$8,$B$3))>0,1,0),0)","v":0},{"$f":"IF('Build Your Schedule'!Z$9=$B$3,IF((COUNTIF('Build Your Schedule'!Y$11,$B$3)+COUNTIF('Build Your Schedule'!Z$5:Z$8,$B$3))>0,1,0),0)","v":0},{"$f":"IF('Build Your Schedule'!AA$9=$B$3,IF((COUNTIF('Build Your Schedule'!Z$11,$B$3)+COUNTIF('Build Your Schedule'!AA$5:AA$8,$B$3))>0,1,0),0)","v":0},{"$f":"IF('Build Your Schedule'!AB$9=$B$3,IF((COUNTIF('Build Your Schedule'!AA$11,$B$3)+COUNTIF('Build Your Schedule'!AB$5:AB$8,$B$3))>0,1,0),0)","v":0},{"$f":"IF('Build Your Schedule'!AC$9=$B$3,IF((COUNTIF('Build Your Schedule'!AB$11,$B$3)+COUNTIF('Build Your Schedule'!AC$5:AC$8,$B$3))>0,1,0),0)","v":0},{"$f":"IF('Build Your Schedule'!AD$9=$B$3,IF((COUNTIF('Build Your Schedule'!AC$11,$B$3)+COUNTIF('Build Your Schedule'!AD$5:AD$8,$B$3))>0,1,0),0)","v":0},{"$f":"IF('Build Your Schedule'!AE$9=$B$3,IF((COUNTIF('Build Your Schedule'!AD$11,$B$3)+COUNTIF('Build Your Schedule'!AE$5:AE$8,$B$3))>0,1,0),0)","v":0},{"$f":"IF('Build Your Schedule'!AF$9=$B$3,IF((COUNTIF('Build Your Schedule'!AE$11,$B$3)+COUNTIF('Build Your Schedule'!AF$5:AF$8,$B$3))>0,1,0),0)","v":0},{"$f":"IF('Build Your Schedule'!AG$9=$B$3,IF((COUNTIF('Build Your Schedule'!AF$11,$B$3)+COUNTIF('Build Your Schedule'!AG$5:AG$8,$B$3))>0,1,0),0)","v":0},{"$f":"IF('Build Your Schedule'!AH$9=$B$3,IF((COUNTIF('Build Your Schedule'!AG$11,$B$3)+COUNTIF('Build Your Schedule'!AH$5:AH$8,$B$3))>0,1,0),0)","v":0},{"$f":"IF('Build Your Schedule'!AI$9=$B$3,IF((COUNTIF('Build Your Schedule'!AH$11,$B$3)+COUNTIF('Build Your Schedule'!AI$5:AI$8,$B$3))>0,1,0),0)","v":0},{"$f":"IF('Build Your Schedule'!AJ$9=$B$3,IF((COUNTIF('Build Your Schedule'!AI$11,$B$3)+COUNTIF('Build Your Schedule'!AJ$5:AJ$8,$B$3))>0,1,0),0)","v":0},{"$f":"IF('Build Your Schedule'!AK$9=$B$3,IF((COUNTIF('Build Your Schedule'!AJ$11,$B$3)+COUNTIF('Build Your Schedule'!AK$5:AK$8,$B$3))>0,1,0),0)","v":0}]
[null,"8p-5a",{"$f":"IF('Build Your Schedule'!H$10=$B$3,IF(COUNTIF('Build Your Schedule'!H$5:H$9,$B$3)>0,1,0),0)","v":0},{"$f":"IF('Build Your Schedule'!I$10=$B$3,IF(COUNTIF('Build Your Schedule'!I$5:I$9,$B$3)>0,1,0),0)","v":0},{"$f":"IF('Build Your Schedule'!J$10=$B$3,IF(COUNTIF('Build Your Schedule'!J$5:J$9,$B$3)>0,1,0),0)","v":0},{"$f":"IF('Build Your Schedule'!K$10=$B$3,IF(COUNTIF('Build Your Schedule'!K$5:K$9,$B$3)>0,1,0),0)","v":0},{"$f":"IF('Build Your Schedule'!L$10=$B$3,IF(COUNTIF('Build Your Schedule'!L$5:L$9,$B$3)>0,1,0),0)","v":0},{"$f":"IF('Build Your Schedule'!M$10=$B$3,IF(COUNTIF('Build Your Schedule'!M$5:M$9,$B$3)>0,1,0),0)","v":0},{"$f":"IF('Build Your Schedule'!N$10=$B$3,IF(COUNTIF('Build Your Schedule'!N$5:N$9,$B$3)>0,1,0),0)","v":0},{"$f":"IF('Build Your Schedule'!O$10=$B$3,IF(COUNTIF('Build Your Schedule'!O$5:O$9,$B$3)>0,1,0),0)","v":0},{"$f":"IF('Build Your Schedule'!P$10=$B$3,IF(COUNTIF('Build Your Schedule'!P$5:P$9,$B$3)>0,1,0),0)","v":0},{"$f":"IF('Build Your Schedule'!Q$10=$B$3,IF(COUNTIF('Build Your Schedule'!Q$5:Q$9,$B$3)>0,1,0),0)","v":0},{"$f":"IF('Build Your Schedule'!R$10=$B$3,IF(COUNTIF('Build Your Schedule'!R$5:R$9,$B$3)>0,1,0),0)","v":0},{"$f":"IF('Build Your Schedule'!S$10=$B$3,IF(COUNTIF('Build Your Schedule'!S$5:S$9,$B$3)>0,1,0),0)","v":0},{"$f":"IF('Build Your Schedule'!T$10=$B$3,IF(COUNTIF('Build Your Schedule'!T$5:T$9,$B$3)>0,1,0),0)","v":0},{"$f":"IF('Build Your Schedule'!U$10=$B$3,IF(COUNTIF('Build Your Schedule'!U$5:U$9,$B$3)>0,1,0),0)","v":0},{"$f":"IF('Build Your Schedule'!V$10=$B$3,IF(COUNTIF('Build Your Schedule'!V$5:V$9,$B$3)>0,1,0),0)","v":0},{"$f":"IF('Build Your Schedule'!W$10=$B$3,IF(COUNTIF('Build Your Schedule'!W$5:W$9,$B$3)>0,1,0),0)","v":0},{"$f":"IF('Build Your Schedule'!X$10=$B$3,IF(COUNTIF('Build Your Schedule'!X$5:X$9,$B$3)>0,1,0),0)","v":0},{"$f":"IF('Build Your Schedule'!Y$10=$B$3,IF(COUNTIF('Build Your Schedule'!Y$5:Y$9,$B$3)>0,1,0),0)","v":0},{"$f":"IF('Build Your Schedule'!Z$10=$B$3,IF(COUNTIF('Build Your Schedule'!Z$5:Z$9,$B$3)>0,1,0),0)","v":0},{"$f":"IF('Build Your Schedule'!AA$10=$B$3,IF(COUNTIF('Build Your Schedule'!AA$5:AA$9,$B$3)>0,1,0),0)","v":0},{"$f":"IF('Build Your Schedule'!AB$10=$B$3,IF(COUNTIF('Build Your Schedule'!AB$5:AB$9,$B$3)>0,1,0),0)","v":0},{"$f":"IF('Build Your Schedule'!AC$10=$B$3,IF(COUNTIF('Build Your Schedule'!AC$5:AC$9,$B$3)>0,1,0),0)","v":0},{"$f":"IF('Build Your Schedule'!AD$10=$B$3,IF(COUNTIF('Build Your Schedule'!AD$5:AD$9,$B$3)>0,1,0),0)","v":0},{"$f":"IF('Build Your Schedule'!AE$10=$B$3,IF(COUNTIF('Build Your Schedule'!AE$5:AE$9,$B$3)>0,1,0),0)","v":0},{"$f":"IF('Build Your Schedule'!AF$10=$B$3,IF(COUNTIF('Build Your Schedule'!AF$5:AF$9,$B$3)>0,1,0),0)","v":0},{"$f":"IF('Build Your Schedule'!AG$10=$B$3,IF(COUNTIF('Build Your Schedule'!AG$5:AG$9,$B$3)>0,1,0),0)","v":0},{"$f":"IF('Build Your Schedule'!AH$10=$B$3,IF(COUNTIF('Build Your Schedule'!AH$5:AH$9,$B$3)>0,1,0),0)","v":0},{"$f":"IF('Build Your Schedule'!AI$10=$B$3,IF(COUNTIF('Build Your Schedule'!AI$5:AI$9,$B$3)>0,1,0),0)","v":0},{"$f":"IF('Build Your Schedule'!AJ$10=$B$3,IF(COUNTIF('Build Your Schedule'!AJ$5:AJ$9,$B$3)>0,1,0),0)","v":0},{"$f":"IF('Build Your Schedule'!AK$10=$B$3,IF(COUNTIF('Build Your Schedule'!AK$5:AK$9,$B$3)>0,1,0),0)","v":0}]
[null,"11p-8a",{"$f":"IF('Build Your Schedule'!H$11=$B$3,IF(COUNTIF('Build Your Schedule'!H$5:H$10,$B$3)>0,1,0),0)","v":0},{"$f":"IF('Build Your Schedule'!I$11=$B$3,IF(COUNTIF('Build Your Schedule'!I$5:I$10,$B$3)>0,1,0),0)","v":0},{"$f":"IF('Build Your Schedule'!J$11=$B$3,IF(COUNTIF('Build Your Schedule'!J$5:J$10,$B$3)>0,1,0),0)","v":0},{"$f":"IF('Build Your Schedule'!K$11=$B$3,IF(COUNTIF('Build Your Schedule'!K$5:K$10,$B$3)>0,1,0),0)","v":0},{"$f":"IF('Build Your Schedule'!L$11=$B$3,IF(COUNTIF('Build Your Schedule'!L$5:L$10,$B$3)>0,1,0),0)","v":0},{"$f":"IF('Build Your Schedule'!M$11=$B$3,IF(COUNTIF('Build Your Schedule'!M$5:M$10,$B$3)>0,1,0),0)","v":0},{"$f":"IF('Build Your Schedule'!N$11=$B$3,IF(COUNTIF('Build Your Schedule'!N$5:N$10,$B$3)>0,1,0),0)","v":0},{"$f":"IF('Build Your Schedule'!O$11=$B$3,IF(COUNTIF('Build Your Schedule'!O$5:O$10,$B$3)>0,1,0),0)","v":0},{"$f":"IF('Build Your Schedule'!P$11=$B$3,IF(COUNTIF('Build Your Schedule'!P$5:P$10,$B$3)>0,1,0),0)","v":0},{"$f":"IF('Build Your Schedule'!Q$11=$B$3,IF(COUNTIF('Build Your Schedule'!Q$5:Q$10,$B$3)>0,1,0),0)","v":0},{"$f":"IF('Build Your Schedule'!R$11=$B$3,IF(COUNTIF('Build Your Schedule'!R$5:R$10,$B$3)>0,1,0),0)","v":0},{"$f":"IF('Build Your Schedule'!S$11=$B$3,IF(COUNTIF('Build Your Schedule'!S$5:S$10,$B$3)>0,1,0),0)","v":0},{"$f":"IF('Build Your Schedule'!T$11=$B$3,IF(COUNTIF('Build Your Schedule'!T$5:T$10,$B$3)>0,1,0),0)","v":0},{"$f":"IF('Build Your Schedule'!U$11=$B$3,IF(COUNTIF('Build Your Schedule'!U$5:U$10,$B$3)>0,1,0),0)","v":0},{"$f":"IF('Build Your Schedule'!V$11=$B$3,IF(COUNTIF('Build Your Schedule'!V$5:V$10,$B$3)>0,1,0),0)","v":0},{"$f":"IF('Build Your Schedule'!W$11=$B$3,IF(COUNTIF('Build Your Schedule'!W$5:W$10,$B$3)>0,1,0),0)","v":0},{"$f":"IF('Build Your Schedule'!X$11=$B$3,IF(COUNTIF('Build Your Schedule'!X$5:X$10,$B$3)>0,1,0),0)","v":0},{"$f":"IF('Build Your Schedule'!Y$11=$B$3,IF(COUNTIF('Build Your Schedule'!Y$5:Y$10,$B$3)>0,1,0),0)","v":0},{"$f":"IF('Build Your Schedule'!Z$11=$B$3,IF(COUNTIF('Build Your Schedule'!Z$5:Z$10,$B$3)>0,1,0),0)","v":0},{"$f":"IF('Build Your Schedule'!AA$11=$B$3,IF(COUNTIF('Build Your Schedule'!AA$5:AA$10,$B$3)>0,1,0),0)","v":0},{"$f":"IF('Build Your Schedule'!AB$11=$B$3,IF(COUNTIF('Build Your Schedule'!AB$5:AB$10,$B$3)>0,1,0),0)","v":0},{"$f":"IF('Build Your Schedule'!AC$11=$B$3,IF(COUNTIF('Build Your Schedule'!AC$5:AC$10,$B$3)>0,1,0),0)","v":0},{"$f":"IF('Build Your Schedule'!AD$11=$B$3,IF(COUNTIF('Build Your Schedule'!AD$5:AD$10,$B$3)>0,1,0),0)","v":0},{"$f":"IF('Build Your Schedule'!AE$11=$B$3,IF(COUNTIF('Build Your Schedule'!AE$5:AE$10,$B$3)>0,1,0),0)","v":0},{"$f":"IF('Build Your Schedule'!AF$11=$B$3,IF(COUNTIF('Build Your Schedule'!AF$5:AF$10,$B$3)>0,1,0),0)","v":0},{"$f":"IF('Build Your Schedule'!AG$11=$B$3,IF(COUNTIF('Build Your Schedule'!AG$5:AG$10,$B$3)>0,1,0),0)","v":0},{"$f":"IF('Build Your Schedule'!AH$11=$B$3,IF(COUNTIF('Build Your Schedule'!AH$5:AH$10,$B$3)>0,1,0),0)","v":0},{"$f":"IF('Build Your Schedule'!AI$11=$B$3,IF(COUNTIF('Build Your Schedule'!AI$5:AI$10,$B$3)>0,1,0),0)","v":0},{"$f":"IF('Build Your Schedule'!AJ$11=$B$3,IF(COUNTIF('Build Your Schedule'!AJ$5:AJ$10,$B$3)>0,1,0),0)","v":0},{"$f":"IF('Build Your Schedule'!AK$11=$B$3,IF(COUNTIF('Build Your Schedule'!AK$5:AK$10,$B$3)>0,1,0),0)","v":0}]
[]
[null,{"$f":"B4","v":"Almanza"},"2015-06-01","2015-06-02","2015-06-03","2015-06-04","2015-06-05","2015-06-06","2015-06-07","2015-06-08","2015-06-09","2015-06-10","2015-06-11","2015-06-12","2015-06-13","2015-06-14","2015-06-15","2015-06-16","2015-06-17","2015-06-18","2015-06-19","2015-06-20","2015-06-21","2015-06-22","2015-06-23","2015-06-24","2015-06-25","2015-06-26","2015-06-27","2015-06-28","2015-06-29","2015-06-30"]
[null,"7a-4p",{"$f":"IF('Build Your Schedule'!H$5=$B$4,IF(COUNTIF('Build Your Schedule'!G$8:G$11,$B$4)>0,1,0),0)","v":0},{"$f":"IF('Build Your Schedule'!I$5=$B$4,IF(COUNTIF('Build Your Schedule'!H$8:H$11,$B$4)>0,1,0),0)","v":0},{"$f":"IF('Build Your Schedule'!J$5=$B$4,IF(COUNTIF('Build Your Schedule'!I$8:I$11,$B$4)>0,1,0),0)","v":0},{"$f":"IF('Build Your Schedule'!K$5=$B$4,IF(COUNTIF('Build Your Schedule'!J$8:J$11,$B$4)>0,1,0),0)","v":0},{"$f":"IF('Build Your Schedule'!L$5=$B$4,IF(COUNTIF('Build Your Schedule'!K$8:K$11,$B$4)>0,1,0),0)","v":0},{"$f":"IF('Build Your Schedule'!M$5=$B$4,IF(COUNTIF('Build Your Schedule'!L$8:L$11,$B$4)>0,1,0),0)","v":0},{"$f":"IF('Build Your Schedule'!N$5=$B$4,IF(COUNTIF('Build Your Schedule'!M$8:M$11,$B$4)>0,1,0),0)","v":0},{"$f":"IF('Build Your Schedule'!O$5=$B$4,IF(COUNTIF('Build Your Schedule'!N$8:N$11,$B$4)>0,1,0),0)","v":0},{"$f":"IF('Build Your Schedule'!P$5=$B$4,IF(COUNTIF('Build Your Schedule'!O$8:O$11,$B$4)>0,1,0),0)","v":0},{"$f":"IF('Build Your Schedule'!Q$5=$B$4,IF(COUNTIF('Build Your Schedule'!P$8:P$11,$B$4)>0,1,0),0)","v":0},{"$f":"IF('Build Your Schedule'!R$5=$B$4,IF(COUNTIF('Build Your Schedule'!Q$8:Q$11,$B$4)>0,1,0),0)","v":0},{"$f":"IF('Build Your Schedule'!S$5=$B$4,IF(COUNTIF('Build Your Schedule'!R$8:R$11,$B$4)>0,1,0),0)","v":0},{"$f":"IF('Build Your Schedule'!T$5=$B$4,IF(COUNTIF('Build Your Schedule'!S$8:S$11,$B$4)>0,1,0),0)","v":0},{"$f":"IF('Build Your Schedule'!U$5=$B$4,IF(COUNTIF('Build Your Schedule'!T$8:T$11,$B$4)>0,1,0),0)","v":0},{"$f":"IF('Build Your Schedule'!V$5=$B$4,IF(COUNTIF('Build Your Schedule'!U$8:U$11,$B$4)>0,1,0),0)","v":0},{"$f":"IF('Build Your Schedule'!W$5=$B$4,IF(COUNTIF('Build Your Schedule'!V$8:V$11,$B$4)>0,1,0),0)","v":0},{"$f":"IF('Build Your Schedule'!X$5=$B$4,IF(COUNTIF('Build Your Schedule'!W$8:W$11,$B$4)>0,1,0),0)","v":0},{"$f":"IF('Build Your Schedule'!Y$5=$B$4,IF(COUNTIF('Build Your Schedule'!X$8:X$11,$B$4)>0,1,0),0)","v":0},{"$f":"IF('Build Your Schedule'!Z$5=$B$4,IF(COUNTIF('Build Your Schedule'!Y$8:Y$11,$B$4)>0,1,0),0)","v":0},{"$f":"IF('Build Your Schedule'!AA$5=$B$4,IF(COUNTIF('Build Your Schedule'!Z$8:Z$11,$B$4)>0,1,0),0)","v":0},{"$f":"IF('Build Your Schedule'!AB$5=$B$4,IF(COUNTIF('Build Your Schedule'!AA$8:AA$11,$B$4)>0,1,0),0)","v":0},{"$f":"IF('Build Your Schedule'!AC$5=$B$4,IF(COUNTIF('Build Your Schedule'!AB$8:AB$11,$B$4)>0,1,0),0)","v":0},{"$f":"IF('Build Your Schedule'!AD$5=$B$4,IF(COUNTIF('Build Your Schedule'!AC$8:AC$11,$B$4)>0,1,0),0)","v":0},{"$f":"IF('Build Your Schedule'!AE$5=$B$4,IF(COUNTIF('Build Your Schedule'!AD$8:AD$11,$B$4)>0,1,0),0)","v":0},{"$f":"IF('Build Your Schedule'!AF$5=$B$4,IF(COUNTIF('Build Your Schedule'!AE$8:AE$11,$B$4)>0,1,0),0)","v":0},{"$f":"IF('Build Your Schedule'!AG$5=$B$4,IF(COUNTIF('Build Your Schedule'!AF$8:AF$11,$B$4)>0,1,0),0)","v":0},{"$f":"IF('Build Your Schedule'!AH$5=$B$4,IF(COUNTIF('Build Your Schedule'!AG$8:AG$11,$B$4)>0,1,0),0)","v":0},{"$f":"IF('Build Your Schedule'!AI$5=$B$4,IF(COUNTIF('Build Your Schedule'!AH$8:AH$11,$B$4)>0,1,0),0)","v":0},{"$f":"IF('Build Your Schedule'!AJ$5=$B$4,IF(COUNTIF('Build Your Schedule'!AI$8:AI$11,$B$4)>0,1,0),0)","v":0},{"$f":"IF('Build Your Schedule'!AK$5=$B$4,IF(COUNTIF('Build Your Schedule'!AJ$8:AJ$11,$B$4)>0,1,0),0)","v":0}]
[null,"9a-6p",{"$f":"IF('Build Your Schedule'!H$6=$B$4,IF((COUNTIF('Build Your Schedule'!G$8:G$11,$B$4)+COUNTIF('Build Your Schedule'!H$5,$B$4))>0,1,0),0)","v":0},{"$f":"IF('Build Your Schedule'!I$6=$B$4,IF((COUNTIF('Build Your Schedule'!H$8:H$11,$B$4)+COUNTIF('Build Your Schedule'!I$5,$B$4))>0,1,0),0)","v":0},{"$f":"IF('Build Your Schedule'!J$6=$B$4,IF((COUNTIF('Build Your Schedule'!I$8:I$11,$B$4)+COUNTIF('Build Your Schedule'!J$5,$B$4))>0,1,0),0)","v":0},{"$f":"IF('Build Your Schedule'!K$6=$B$4,IF((COUNTIF('Build Your Schedule'!J$8:J$11,$B$4)+COUNTIF('Build Your Schedule'!K$5,$B$4))>0,1,0),0)","v":0},{"$f":"IF('Build Your Schedule'!L$6=$B$4,IF((COUNTIF('Build Your Schedule'!K$8:K$11,$B$4)+COUNTIF('Build Your Schedule'!L$5,$B$4))>0,1,0),0)","v":0},{"$f":"IF('Build Your Schedule'!M$6=$B$4,IF((COUNTIF('Build Your Schedule'!L$8:L$11,$B$4)+COUNTIF('Build Your Schedule'!M$5,$B$4))>0,1,0),0)","v":0},{"$f":"IF('Build Your Schedule'!N$6=$B$4,IF((COUNTIF('Build Your Schedule'!M$8:M$11,$B$4)+COUNTIF('Build Your Schedule'!N$5,$B$4))>0,1,0),0)","v":0},{"$f":"IF('Build Your Schedule'!O$6=$B$4,IF((COUNTIF('Build Your Schedule'!N$8:N$11,$B$4)+COUNTIF('Build Your Schedule'!O$5,$B$4))>0,1,0),0)","v":0},{"$f":"IF('Build Your Schedule'!P$6=$B$4,IF((COUNTIF('Build Your Schedule'!O$8:O$11,$B$4)+COUNTIF('Build Your Schedule'!P$5,$B$4))>0,1,0),0)","v":0},{"$f":"IF('Build Your Schedule'!Q$6=$B$4,IF((COUNTIF('Build Your Schedule'!P$8:P$11,$B$4)+COUNTIF('Build Your Schedule'!Q$5,$B$4))>0,1,0),0)","v":0},{"$f":"IF('Build Your Schedule'!R$6=$B$4,IF((COUNTIF('Build Your Schedule'!Q$8:Q$11,$B$4)+COUNTIF('Build Your Schedule'!R$5,$B$4))>0,1,0),0)","v":0},{"$f":"IF('Build Your Schedule'!S$6=$B$4,IF((COUNTIF('Build Your Schedule'!R$8:R$11,$B$4)+COUNTIF('Build Your Schedule'!S$5,$B$4))>0,1,0),0)","v":0},{"$f":"IF('Build Your Schedule'!T$6=$B$4,IF((COUNTIF('Build Your Schedule'!S$8:S$11,$B$4)+COUNTIF('Build Your Schedule'!T$5,$B$4))>0,1,0),0)","v":0},{"$f":"IF('Build Your Schedule'!U$6=$B$4,IF((COUNTIF('Build Your Schedule'!T$8:T$11,$B$4)+COUNTIF('Build Your Schedule'!U$5,$B$4))>0,1,0),0)","v":0},{"$f":"IF('Build Your Schedule'!V$6=$B$4,IF((COUNTIF('Build Your Schedule'!U$8:U$11,$B$4)+COUNTIF('Build Your Schedule'!V$5,$B$4))>0,1,0),0)","v":0},{"$f":"IF('Build Your Schedule'!W$6=$B$4,IF((COUNTIF('Build Your Schedule'!V$8:V$11,$B$4)+COUNTIF('Build Your Schedule'!W$5,$B$4))>0,1,0),0)","v":0},{"$f":"IF('Build Your Schedule'!X$6=$B$4,IF((COUNTIF('Build Your Schedule'!W$8:W$11,$B$4)+COUNTIF('Build Your Schedule'!X$5,$B$4))>0,1,0),0)","v":0},{"$f":"IF('Build Your Schedule'!Y$6=$B$4,IF((COUNTIF('Build Your Schedule'!X$8:X$11,$B$4)+COUNTIF('Build Your Schedule'!Y$5,$B$4))>0,1,0),0)","v":0},{"$f":"IF('Build Your Schedule'!Z$6=$B$4,IF((COUNTIF('Build Your Schedule'!Y$8:Y$11,$B$4)+COUNTIF('Build Your Schedule'!Z$5,$B$4))>0,1,0),0)","v":0},{"$f":"IF('Build Your Schedule'!AA$6=$B$4,IF((COUNTIF('Build Your Schedule'!Z$8:Z$11,$B$4)+COUNTIF('Build Your Schedule'!AA$5,$B$4))>0,1,0),0)","v":0},{"$f":"IF('Build Your Schedule'!AB$6=$B$4,IF((COUNTIF('Build Your Schedule'!AA$8:AA$11,$B$4)+COUNTIF('Build Your Schedule'!AB$5,$B$4))>0,1,0),0)","v":0},{"$f":"IF('Build Your Schedule'!AC$6=$B$4,IF((COUNTIF('Build Your Schedule'!AB$8:AB$11,$B$4)+COUNTIF('Build Your Schedule'!AC$5,$B$4))>0,1,0),0)","v":0},{"$f":"IF('Build Your Schedule'!AD$6=$B$4,IF((COUNTIF('Build Your Schedule'!AC$8:AC$11,$B$4)+COUNTIF('Build Your Schedule'!AD$5,$B$4))>0,1,0),0)","v":0},{"$f":"IF('Build Your Schedule'!AE$6=$B$4,IF((COUNTIF('Build Your Schedule'!AD$8:AD$11,$B$4)+COUNTIF('Build Your Schedule'!AE$5,$B$4))>0,1,0),0)","v":0},{"$f":"IF('Build Your Schedule'!AF$6=$B$4,IF((COUNTIF('Build Your Schedule'!AE$8:AE$11,$B$4)+COUNTIF('Build Your Schedule'!AF$5,$B$4))>0,1,0),0)","v":0},{"$f":"IF('Build Your Schedule'!AG$6=$B$4,IF((COUNTIF('Build Your Schedule'!AF$8:AF$11,$B$4)+COUNTIF('Build Your Schedule'!AG$5,$B$4))>0,1,0),0)","v":0},{"$f":"IF('Build Your Schedule'!AH$6=$B$4,IF((COUNTIF('Build Your Schedule'!AG$8:AG$11,$B$4)+COUNTIF('Build Your Schedule'!AH$5,$B$4))>0,1,0),0)","v":0},{"$f":"IF('Build Your Schedule'!AI$6=$B$4,IF((COUNTIF('Build Your Schedule'!AH$8:AH$11,$B$4)+COUNTIF('Build Your Schedule'!AI$5,$B$4))>0,1,0),0)","v":0},{"$f":"IF('Build Your Schedule'!AJ$6=$B$4,IF((COUNTIF('Build Your Schedule'!AI$8:AI$11,$B$4)+COUNTIF('Build Your Schedule'!AJ$5,$B$4))>0,1,0),0)","v":0},{"$f":"IF('Build Your Schedule'!AK$6=$B$4,IF((COUNTIF('Build Your Schedule'!AJ$8:AJ$11,$B$4)+COUNTIF('Build Your Schedule'!AK$5,$B$4))>0,1,0),0)","v":0}]
[null,"12p-9p",{"$f":"IF('Build Your Schedule'!H$7=$B$4,IF((COUNTIF('Build Your Schedule'!G$10:G$11,$B$4)+COUNTIF('Build Your Schedule'!H$5:H$6,$B$4))>0,1,0),0)","v":0},{"$f":"IF('Build Your Schedule'!I$7=$B$4,IF((COUNTIF('Build Your Schedule'!H$10:H$11,$B$4)+COUNTIF('Build Your Schedule'!I$5:I$6,$B$4))>0,1,0),0)","v":0},{"$f":"IF('Build Your Schedule'!J$7=$B$4,IF((COUNTIF('Build Your Schedule'!I$10:I$11,$B$4)+COUNTIF('Build Your Schedule'!J$5:J$6,$B$4))>0,1,0),0)","v":0},{"$f":"IF('Build Your Schedule'!K$7=$B$4,IF((COUNTIF('Build Your Schedule'!J$10:J$11,$B$4)+COUNTIF('Build Your Schedule'!K$5:K$6,$B$4))>0,1,0),0)","v":0},{"$f":"IF('Build Your Schedule'!L$7=$B$4,IF((COUNTIF('Build Your Schedule'!K$10:K$11,$B$4)+COUNTIF('Build Your Schedule'!L$5:L$6,$B$4))>0,1,0),0)","v":0},{"$f":"IF('Build Your Schedule'!M$7=$B$4,IF((COUNTIF('Build Your Schedule'!L$10:L$11,$B$4)+COUNTIF('Build Your Schedule'!M$5:M$6,$B$4))>0,1,0),0)","v":0},{"$f":"IF('Build Your Schedule'!N$7=$B$4,IF((COUNTIF('Build Your Schedule'!M$10:M$11,$B$4)+COUNTIF('Build Your Schedule'!N$5:N$6,$B$4))>0,1,0),0)","v":0},{"$f":"IF('Build Your Schedule'!O$7=$B$4,IF((COUNTIF('Build Your Schedule'!N$10:N$11,$B$4)+COUNTIF('Build Your Schedule'!O$5:O$6,$B$4))>0,1,0),0)","v":0},{"$f":"IF('Build Your Schedule'!P$7=$B$4,IF((COUNTIF('Build Your Schedule'!O$10:O$11,$B$4)+COUNTIF('Build Your Schedule'!P$5:P$6,$B$4))>0,1,0),0)","v":0},{"$f":"IF('Build Your Schedule'!Q$7=$B$4,IF((COUNTIF('Build Your Schedule'!P$10:P$11,$B$4)+COUNTIF('Build Your Schedule'!Q$5:Q$6,$B$4))>0,1,0),0)","v":0},{"$f":"IF('Build Your Schedule'!R$7=$B$4,IF((COUNTIF('Build Your Schedule'!Q$10:Q$11,$B$4)+COUNTIF('Build Your Schedule'!R$5:R$6,$B$4))>0,1,0),0)","v":0},{"$f":"IF('Build Your Schedule'!S$7=$B$4,IF((COUNTIF('Build Your Schedule'!R$10:R$11,$B$4)+COUNTIF('Build Your Schedule'!S$5:S$6,$B$4))>0,1,0),0)","v":0},{"$f":"IF('Build Your Schedule'!T$7=$B$4,IF((COUNTIF('Build Your Schedule'!S$10:S$11,$B$4)+COUNTIF('Build Your Schedule'!T$5:T$6,$B$4))>0,1,0),0)","v":0},{"$f":"IF('Build Your Schedule'!U$7=$B$4,IF((COUNTIF('Build Your Schedule'!T$10:T$11,$B$4)+COUNTIF('Build Your Schedule'!U$5:U$6,$B$4))>0,1,0),0)","v":0},{"$f":"IF('Build Your Schedule'!V$7=$B$4,IF((COUNTIF('Build Your Schedule'!U$10:U$11,$B$4)+COUNTIF('Build Your Schedule'!V$5:V$6,$B$4))>0,1,0),0)","v":0},{"$f":"IF('Build Your Schedule'!W$7=$B$4,IF((COUNTIF('Build Your Schedule'!V$10:V$11,$B$4)+COUNTIF('Build Your Schedule'!W$5:W$6,$B$4))>0,1,0),0)","v":0},{"$f":"IF('Build Your Schedule'!X$7=$B$4,IF((COUNTIF('Build Your Schedule'!W$10:W$11,$B$4)+COUNTIF('Build Your Schedule'!X$5:X$6,$B$4))>0,1,0),0)","v":0},{"$f":"IF('Build Your Schedule'!Y$7=$B$4,IF((COUNTIF('Build Your Schedule'!X$10:X$11,$B$4)+COUNTIF('Build Your Schedule'!Y$5:Y$6,$B$4))>0,1,0),0)","v":0},{"$f":"IF('Build Your Schedule'!Z$7=$B$4,IF((COUNTIF('Build Your Schedule'!Y$10:Y$11,$B$4)+COUNTIF('Build Your Schedule'!Z$5:Z$6,$B$4))>0,1,0),0)","v":0},{"$f":"IF('Build Your Schedule'!AA$7=$B$4,IF((COUNTIF('Build Your Schedule'!Z$10:Z$11,$B$4)+COUNTIF('Build Your Schedule'!AA$5:AA$6,$B$4))>0,1,0),0)","v":0},{"$f":"IF('Build Your Schedule'!AB$7=$B$4,IF((COUNTIF('Build Your Schedule'!AA$10:AA$11,$B$4)+COUNTIF('Build Your Schedule'!AB$5:AB$6,$B$4))>0,1,0),0)","v":0},{"$f":"IF('Build Your Schedule'!AC$7=$B$4,IF((COUNTIF('Build Your Schedule'!AB$10:AB$11,$B$4)+COUNTIF('Build Your Schedule'!AC$5:AC$6,$B$4))>0,1,0),0)","v":0},{"$f":"IF('Build Your Schedule'!AD$7=$B$4,IF((COUNTIF('Build Your Schedule'!AC$10:AC$11,$B$4)+COUNTIF('Build Your Schedule'!AD$5:AD$6,$B$4))>0,1,0),0)","v":0},{"$f":"IF('Build Your Schedule'!AE$7=$B$4,IF((COUNTIF('Build Your Schedule'!AD$10:AD$11,$B$4)+COUNTIF('Build Your Schedule'!AE$5:AE$6,$B$4))>0,1,0),0)","v":0},{"$f":"IF('Build Your Schedule'!AF$7=$B$4,IF((COUNTIF('Build Your Schedule'!AE$10:AE$11,$B$4)+COUNTIF('Build Your Schedule'!AF$5:AF$6,$B$4))>0,1,0),0)","v":0},{"$f":"IF('Build Your Schedule'!AG$7=$B$4,IF((COUNTIF('Build Your Schedule'!AF$10:AF$11,$B$4)+COUNTIF('Build Your Schedule'!AG$5:AG$6,$B$4))>0,1,0),0)","v":0},{"$f":"IF('Build Your Schedule'!AH$7=$B$4,IF((COUNTIF('Build Your Schedule'!AG$10:AG$11,$B$4)+COUNTIF('Build Your Schedule'!AH$5:AH$6,$B$4))>0,1,0),0)","v":0},{"$f":"IF('Build Your Schedule'!AI$7=$B$4,IF((COUNTIF('Build Your Schedule'!AH$10:AH$11,$B$4)+COUNTIF('Build Your Schedule'!AI$5:AI$6,$B$4))>0,1,0),0)","v":0},{"$f":"IF('Build Your Schedule'!AJ$7=$B$4,IF((COUNTIF('Build Your Schedule'!AI$10:AI$11,$B$4)+COUNTIF('Build Your Schedule'!AJ$5:AJ$6,$B$4))>0,1,0),0)","v":0},{"$f":"IF('Build Your Schedule'!AK$7=$B$4,IF((COUNTIF('Build Your Schedule'!AJ$10:AJ$11,$B$4)+COUNTIF('Build Your Schedule'!AK$5:AK$6,$B$4))>0,1,0),0)","v":0}]
[null,"4p-1a",{"$f":"IF('Build Your Schedule'!H$8=$B$4,IF((COUNTIF('Build Your Schedule'!G$11,$B$4)+COUNTIF('Build Your Schedule'!H$5:H$7,$B$4))>0,1,0),0)","v":0},{"$f":"IF('Build Your Schedule'!I$8=$B$4,IF((COUNTIF('Build Your Schedule'!H$11,$B$4)+COUNTIF('Build Your Schedule'!I$5:I$7,$B$4))>0,1,0),0)","v":0},{"$f":"IF('Build Your Schedule'!J$8=$B$4,IF((COUNTIF('Build Your Schedule'!I$11,$B$4)+COUNTIF('Build Your Schedule'!J$5:J$7,$B$4))>0,1,0),0)","v":0},{"$f":"IF('Build Your Schedule'!K$8=$B$4,IF((COUNTIF('Build Your Schedule'!J$11,$B$4)+COUNTIF('Build Your Schedule'!K$5:K$7,$B$4))>0,1,0),0)","v":0},{"$f":"IF('Build Your Schedule'!L$8=$B$4,IF((COUNTIF('Build Your Schedule'!K$11,$B$4)+COUNTIF('Build Your Schedule'!L$5:L$7,$B$4))>0,1,0),0)","v":0},{"$f":"IF('Build Your Schedule'!M$8=$B$4,IF((COUNTIF('Build Your Schedule'!L$11,$B$4)+COUNTIF('Build Your Schedule'!M$5:M$7,$B$4))>0,1,0),0)","v":0},{"$f":"IF('Build Your Schedule'!N$8=$B$4,IF((COUNTIF('Build Your Schedule'!M$11,$B$4)+COUNTIF('Build Your Schedule'!N$5:N$7,$B$4))>0,1,0),0)","v":0},{"$f":"IF('Build Your Schedule'!O$8=$B$4,IF((COUNTIF('Build Your Schedule'!N$11,$B$4)+COUNTIF('Build Your Schedule'!O$5:O$7,$B$4))>0,1,0),0)","v":0},{"$f":"IF('Build Your Schedule'!P$8=$B$4,IF((COUNTIF('Build Your Schedule'!O$11,$B$4)+COUNTIF('Build Your Schedule'!P$5:P$7,$B$4))>0,1,0),0)","v":0},{"$f":"IF('Build Your Schedule'!Q$8=$B$4,IF((COUNTIF('Build Your Schedule'!P$11,$B$4)+COUNTIF('Build Your Schedule'!Q$5:Q$7,$B$4))>0,1,0),0)","v":0},{"$f":"IF('Build Your Schedule'!R$8=$B$4,IF((COUNTIF('Build Your Schedule'!Q$11,$B$4)+COUNTIF('Build Your Schedule'!R$5:R$7,$B$4))>0,1,0),0)","v":0},{"$f":"IF('Build Your Schedule'!S$8=$B$4,IF((COUNTIF('Build Your Schedule'!R$11,$B$4)+COUNTIF('Build Your Schedule'!S$5:S$7,$B$4))>0,1,0),0)","v":0},{"$f":"IF('Build Your Schedule'!T$8=$B$4,IF((COUNTIF('Build Your Schedule'!S$11,$B$4)+COUNTIF('Build Your Schedule'!T$5:T$7,$B$4))>0,1,0),0)","v":0},{"$f":"IF('Build Your Schedule'!U$8=$B$4,IF((COUNTIF('Build Your Schedule'!T$11,$B$4)+COUNTIF('Build Your Schedule'!U$5:U$7,$B$4))>0,1,0),0)","v":0},{"$f":"IF('Build Your Schedule'!V$8=$B$4,IF((COUNTIF('Build Your Schedule'!U$11,$B$4)+COUNTIF('Build Your Schedule'!V$5:V$7,$B$4))>0,1,0),0)","v":0},{"$f":"IF('Build Your Schedule'!W$8=$B$4,IF((COUNTIF('Build Your Schedule'!V$11,$B$4)+COUNTIF('Build Your Schedule'!W$5:W$7,$B$4))>0,1,0),0)","v":0},{"$f":"IF('Build Your Schedule'!X$8=$B$4,IF((COUNTIF('Build Your Schedule'!W$11,$B$4)+COUNTIF('Build Your Schedule'!X$5:X$7,$B$4))>0,1,0),0)","v":0},{"$f":"IF('Build Your Schedule'!Y$8=$B$4,IF((COUNTIF('Build Your Schedule'!X$11,$B$4)+COUNTIF('Build Your Schedule'!Y$5:Y$7,$B$4))>0,1,0),0)","v":0},{"$f":"IF('Build Your Schedule'!Z$8=$B$4,IF((COUNTIF('Build Your Schedule'!Y$11,$B$4)+COUNTIF('Build Your Schedule'!Z$5:Z$7,$B$4))>0,1,0),0)","v":0},{"$f":"IF('Build Your Schedule'!AA$8=$B$4,IF((COUNTIF('Build Your Schedule'!Z$11,$B$4)+COUNTIF('Build Your Schedule'!AA$5:AA$7,$B$4))>0,1,0),0)","v":0},{"$f":"IF('Build Your Schedule'!AB$8=$B$4,IF((COUNTIF('Build Your Schedule'!AA$11,$B$4)+COUNTIF('Build Your Schedule'!AB$5:AB$7,$B$4))>0,1,0),0)","v":0},{"$f":"IF('Build Your Schedule'!AC$8=$B$4,IF((COUNTIF('Build Your Schedule'!AB$11,$B$4)+COUNTIF('Build Your Schedule'!AC$5:AC$7,$B$4))>0,1,0),0)","v":0},{"$f":"IF('Build Your Schedule'!AD$8=$B$4,IF((COUNTIF('Build Your Schedule'!AC$11,$B$4)+COUNTIF('Build Your Schedule'!AD$5:AD$7,$B$4))>0,1,0),0)","v":0},{"$f":"IF('Build Your Schedule'!AE$8=$B$4,IF((COUNTIF('Build Your Schedule'!AD$11,$B$4)+COUNTIF('Build Your Schedule'!AE$5:AE$7,$B$4))>0,1,0),0)","v":0},{"$f":"IF('Build Your Schedule'!AF$8=$B$4,IF((COUNTIF('Build Your Schedule'!AE$11,$B$4)+COUNTIF('Build Your Schedule'!AF$5:AF$7,$B$4))>0,1,0),0)","v":0},{"$f":"IF('Build Your Schedule'!AG$8=$B$4,IF((COUNTIF('Build Your Schedule'!AF$11,$B$4)+COUNTIF('Build Your Schedule'!AG$5:AG$7,$B$4))>0,1,0),0)","v":0},{"$f":"IF('Build Your Schedule'!AH$8=$B$4,IF((COUNTIF('Build Your Schedule'!AG$11,$B$4)+COUNTIF('Build Your Schedule'!AH$5:AH$7,$B$4))>0,1,0),0)","v":0},{"$f":"IF('Build Your Schedule'!AI$8=$B$4,IF((COUNTIF('Build Your Schedule'!AH$11,$B$4)+COUNTIF('Build Your Schedule'!AI$5:AI$7,$B$4))>0,1,0),0)","v":0},{"$f":"IF('Build Your Schedule'!AJ$8=$B$4,IF((COUNTIF('Build Your Schedule'!AI$11,$B$4)+COUNTIF('Build Your Schedule'!AJ$5:AJ$7,$B$4))>0,1,0),0)","v":0},{"$f":"IF('Build Your Schedule'!AK$8=$B$4,IF((COUNTIF('Build Your Schedule'!AJ$11,$B$4)+COUNTIF('Build Your Schedule'!AK$5:AK$7,$B$4))>0,1,0),0)","v":0}]
[null,"5p-2a",{"$f":"IF('Build Your Schedule'!H$9=$B$4,IF((COUNTIF('Build Your Schedule'!G$11,$B$4)+COUNTIF('Build Your Schedule'!H$5:H$8,$B$4))>0,1,0),0)","v":0},{"$f":"IF('Build Your Schedule'!I$9=$B$4,IF((COUNTIF('Build Your Schedule'!H$11,$B$4)+COUNTIF('Build Your Schedule'!I$5:I$8,$B$4))>0,1,0),0)","v":0},{"$f":"IF('Build Your Schedule'!J$9=$B$4,IF((COUNTIF('Build Your Schedule'!I$11,$B$4)+COUNTIF('Build Your Schedule'!J$5:J$8,$B$4))>0,1,0),0)","v":0},{"$f":"IF('Build Your Schedule'!K$9=$B$4,IF((COUNTIF('Build Your Schedule'!J$11,$B$4)+COUNTIF('Build Your Schedule'!K$5:K$8,$B$4))>0,1,0),0)","v":0},{"$f":"IF('Build Your Schedule'!L$9=$B$4,IF((COUNTIF('Build Your Schedule'!K$11,$B$4)+COUNTIF('Build Your Schedule'!L$5:L$8,$B$4))>0,1,0),0)","v":0},{"$f":"IF('Build Your Schedule'!M$9=$B$4,IF((COUNTIF('Build Your Schedule'!L$11,$B$4)+COUNTIF('Build Your Schedule'!M$5:M$8,$B$4))>0,1,0),0)","v":0},{"$f":"IF('Build Your Schedule'!N$9=$B$4,IF((COUNTIF('Build Your Schedule'!M$11,$B$4)+COUNTIF('Build Your Schedule'!N$5:N$8,$B$4))>0,1,0),0)","v":0},{"$f":"IF('Build Your Schedule'!O$9=$B$4,IF((COUNTIF('Build Your Schedule'!N$11,$B$4)+COUNTIF('Build Your Schedule'!O$5:O$8,$B$4))>0,1,0),0)","v":0},{"$f":"IF('Build Your Schedule'!P$9=$B$4,IF((COUNTIF('Build Your Schedule'!O$11,$B$4)+COUNTIF('Build Your Schedule'!P$5:P$8,$B$4))>0,1,0),0)","v":0},{"$f":"IF('Build Your Schedule'!Q$9=$B$4,IF((COUNTIF('Build Your Schedule'!P$11,$B$4)+COUNTIF('Build Your Schedule'!Q$5:Q$8,$B$4))>0,1,0),0)","v":0},{"$f":"IF('Build Your Schedule'!R$9=$B$4,IF((COUNTIF('Build Your Schedule'!Q$11,$B$4)+COUNTIF('Build Your Schedule'!R$5:R$8,$B$4))>0,1,0),0)","v":0},{"$f":"IF('Build Your Schedule'!S$9=$B$4,IF((COUNTIF('Build Your Schedule'!R$11,$B$4)+COUNTIF('Build Your Schedule'!S$5:S$8,$B$4))>0,1,0),0)","v":0},{"$f":"IF('Build Your Schedule'!T$9=$B$4,IF((COUNTIF('Build Your Schedule'!S$11,$B$4)+COUNTIF('Build Your Schedule'!T$5:T$8,$B$4))>0,1,0),0)","v":0},{"$f":"IF('Build Your Schedule'!U$9=$B$4,IF((COUNTIF('Build Your Schedule'!T$11,$B$4)+COUNTIF('Build Your Schedule'!U$5:U$8,$B$4))>0,1,0),0)","v":0},{"$f":"IF('Build Your Schedule'!V$9=$B$4,IF((COUNTIF('Build Your Schedule'!U$11,$B$4)+COUNTIF('Build Your Schedule'!V$5:V$8,$B$4))>0,1,0),0)","v":0},{"$f":"IF('Build Your Schedule'!W$9=$B$4,IF((COUNTIF('Build Your Schedule'!V$11,$B$4)+COUNTIF('Build Your Schedule'!W$5:W$8,$B$4))>0,1,0),0)","v":0},{"$f":"IF('Build Your Schedule'!X$9=$B$4,IF((COUNTIF('Build Your Schedule'!W$11,$B$4)+COUNTIF('Build Your Schedule'!X$5:X$8,$B$4))>0,1,0),0)","v":0},{"$f":"IF('Build Your Schedule'!Y$9=$B$4,IF((COUNTIF('Build Your Schedule'!X$11,$B$4)+COUNTIF('Build Your Schedule'!Y$5:Y$8,$B$4))>0,1,0),0)","v":0},{"$f":"IF('Build Your Schedule'!Z$9=$B$4,IF((COUNTIF('Build Your Schedule'!Y$11,$B$4)+COUNTIF('Build Your Schedule'!Z$5:Z$8,$B$4))>0,1,0),0)","v":0},{"$f":"IF('Build Your Schedule'!AA$9=$B$4,IF((COUNTIF('Build Your Schedule'!Z$11,$B$4)+COUNTIF('Build Your Schedule'!AA$5:AA$8,$B$4))>0,1,0),0)","v":0},{"$f":"IF('Build Your Schedule'!AB$9=$B$4,IF((COUNTIF('Build Your Schedule'!AA$11,$B$4)+COUNTIF('Build Your Schedule'!AB$5:AB$8,$B$4))>0,1,0),0)","v":0},{"$f":"IF('Build Your Schedule'!AC$9=$B$4,IF((COUNTIF('Build Your Schedule'!AB$11,$B$4)+COUNTIF('Build Your Schedule'!AC$5:AC$8,$B$4))>0,1,0),0)","v":0},{"$f":"IF('Build Your Schedule'!AD$9=$B$4,IF((COUNTIF('Build Your Schedule'!AC$11,$B$4)+COUNTIF('Build Your Schedule'!AD$5:AD$8,$B$4))>0,1,0),0)","v":0},{"$f":"IF('Build Your Schedule'!AE$9=$B$4,IF((COUNTIF('Build Your Schedule'!AD$11,$B$4)+COUNTIF('Build Your Schedule'!AE$5:AE$8,$B$4))>0,1,0),0)","v":0},{"$f":"IF('Build Your Schedule'!AF$9=$B$4,IF((COUNTIF('Build Your Schedule'!AE$11,$B$4)+COUNTIF('Build Your Schedule'!AF$5:AF$8,$B$4))>0,1,0),0)","v":0},{"$f":"IF('Build Your Schedule'!AG$9=$B$4,IF((COUNTIF('Build Your Schedule'!AF$11,$B$4)+COUNTIF('Build Your Schedule'!AG$5:AG$8,$B$4))>0,1,0),0)","v":0},{"$f":"IF('Build Your Schedule'!AH$9=$B$4,IF((COUNTIF('Build Your Schedule'!AG$11,$B$4)+COUNTIF('Build Your Schedule'!AH$5:AH$8,$B$4))>0,1,0),0)","v":0},{"$f":"IF('Build Your Schedule'!AI$9=$B$4,IF((COUNTIF('Build Your Schedule'!AH$11,$B$4)+COUNTIF('Build Your Schedule'!AI$5:AI$8,$B$4))>0,1,0),0)","v":0},{"$f":"IF('Build Your Schedule'!AJ$9=$B$4,IF((COUNTIF('Build Your Schedule'!AI$11,$B$4)+COUNTIF('Build Your Schedule'!AJ$5:AJ$8,$B$4))>0,1,0),0)","v":0},{"$f":"IF('Build Your Schedule'!AK$9=$B$4,IF((COUNTIF('Build Your Schedule'!AJ$11,$B$4)+COUNTIF('Build Your Schedule'!AK$5:AK$8,$B$4))>0,1,0),0)","v":0}]
[null,"8p-5a",{"$f":"IF('Build Your Schedule'!H$10=$B$4,IF(COUNTIF('Build Your Schedule'!H$5:H$9,$B$4)>0,1,0),0)","v":0},{"$f":"IF('Build Your Schedule'!I$10=$B$4,IF(COUNTIF('Build Your Schedule'!I$5:I$9,$B$4)>0,1,0),0)","v":0},{"$f":"IF('Build Your Schedule'!J$10=$B$4,IF(COUNTIF('Build Your Schedule'!J$5:J$9,$B$4)>0,1,0),0)","v":0},{"$f":"IF('Build Your Schedule'!K$10=$B$4,IF(COUNTIF('Build Your Schedule'!K$5:K$9,$B$4)>0,1,0),0)","v":0},{"$f":"IF('Build Your Schedule'!L$10=$B$4,IF(COUNTIF('Build Your Schedule'!L$5:L$9,$B$4)>0,1,0),0)","v":0},{"$f":"IF('Build Your Schedule'!M$10=$B$4,IF(COUNTIF('Build Your Schedule'!M$5:M$9,$B$4)>0,1,0),0)","v":0},{"$f":"IF('Build Your Schedule'!N$10=$B$4,IF(COUNTIF('Build Your Schedule'!N$5:N$9,$B$4)>0,1,0),0)","v":0},{"$f":"IF('Build Your Schedule'!O$10=$B$4,IF(COUNTIF('Build Your Schedule'!O$5:O$9,$B$4)>0,1,0),0)","v":0},{"$f":"IF('Build Your Schedule'!P$10=$B$4,IF(COUNTIF('Build Your Schedule'!P$5:P$9,$B$4)>0,1,0),0)","v":0},{"$f":"IF('Build Your Schedule'!Q$10=$B$4,IF(COUNTIF('Build Your Schedule'!Q$5:Q$9,$B$4)>0,1,0),0)","v":0},{"$f":"IF('Build Your Schedule'!R$10=$B$4,IF(COUNTIF('Build Your Schedule'!R$5:R$9,$B$4)>0,1,0),0)","v":0},{"$f":"IF('Build Your Schedule'!S$10=$B$4,IF(COUNTIF('Build Your Schedule'!S$5:S$9,$B$4)>0,1,0),0)","v":0},{"$f":"IF('Build Your Schedule'!T$10=$B$4,IF(COUNTIF('Build Your Schedule'!T$5:T$9,$B$4)>0,1,0),0)","v":0},{"$f":"IF('Build Your Schedule'!U$10=$B$4,IF(COUNTIF('Build Your Schedule'!U$5:U$9,$B$4)>0,1,0),0)","v":0},{"$f":"IF('Build Your Schedule'!V$10=$B$4,IF(COUNTIF('Build Your Schedule'!V$5:V$9,$B$4)>0,1,0),0)","v":0},{"$f":"IF('Build Your Schedule'!W$10=$B$4,IF(COUNTIF('Build Your Schedule'!W$5:W$9,$B$4)>0,1,0),0)","v":0},{"$f":"IF('Build Your Schedule'!X$10=$B$4,IF(COUNTIF('Build Your Schedule'!X$5:X$9,$B$4)>0,1,0),0)","v":0},{"$f":"IF('Build Your Schedule'!Y$10=$B$4,IF(COUNTIF('Build Your Schedule'!Y$5:Y$9,$B$4)>0,1,0),0)","v":0},{"$f":"IF('Build Your Schedule'!Z$10=$B$4,IF(COUNTIF('Build Your Schedule'!Z$5:Z$9,$B$4)>0,1,0),0)","v":0},{"$f":"IF('Build Your Schedule'!AA$10=$B$4,IF(COUNTIF('Build Your Schedule'!AA$5:AA$9,$B$4)>0,1,0),0)","v":0},{"$f":"IF('Build Your Schedule'!AB$10=$B$4,IF(COUNTIF('Build Your Schedule'!AB$5:AB$9,$B$4)>0,1,0),0)","v":0},{"$f":"IF('Build Your Schedule'!AC$10=$B$4,IF(COUNTIF('Build Your Schedule'!AC$5:AC$9,$B$4)>0,1,0),0)","v":0},{"$f":"IF('Build Your Schedule'!AD$10=$B$4,IF(COUNTIF('Build Your Schedule'!AD$5:AD$9,$B$4)>0,1,0),0)","v":0},{"$f":"IF('Build Your Schedule'!AE$10=$B$4,IF(COUNTIF('Build Your Schedule'!AE$5:AE$9,$B$4)>0,1,0),0)","v":0},{"$f":"IF('Build Your Schedule'!AF$10=$B$4,IF(COUNTIF('Build Your Schedule'!AF$5:AF$9,$B$4)>0,1,0),0)","v":0},{"$f":"IF('Build Your Schedule'!AG$10=$B$4,IF(COUNTIF('Build Your Schedule'!AG$5:AG$9,$B$4)>0,1,0),0)","v":0},{"$f":"IF('Build Your Schedule'!AH$10=$B$4,IF(COUNTIF('Build Your Schedule'!AH$5:AH$9,$B$4)>0,1,0),0)","v":0},{"$f":"IF('Build Your Schedule'!AI$10=$B$4,IF(COUNTIF('Build Your Schedule'!AI$5:AI$9,$B$4)>0,1,0),0)","v":0},{"$f":"IF('Build Your Schedule'!AJ$10=$B$4,IF(COUNTIF('Build Your Schedule'!AJ$5:AJ$9,$B$4)>0,1,0),0)","v":0},{"$f":"IF('Build Your Schedule'!AK$10=$B$4,IF(COUNTIF('Build Your Schedule'!AK$5:AK$9,$B$4)>0,1,0),0)","v":0}]
[null,"11p-8a",{"$f":"IF('Build Your Schedule'!H$11=$B$4,IF(COUNTIF('Build Your Schedule'!H$5:H$10,$B$4)>0,1,0),0)","v":0},{"$f":"IF('Build Your Schedule'!I$11=$B$4,IF(COUNTIF('Build Your Schedule'!I$5:I$10,$B$4)>0,1,0),0)","v":0},{"$f":"IF('Build Your Schedule'!J$11=$B$4,IF(COUNTIF('Build Your Schedule'!J$5:J$10,$B$4)>0,1,0),0)","v":0},{"$f":"IF('Build Your Schedule'!K$11=$B$4,IF(COUNTIF('Build Your Schedule'!K$5:K$10,$B$4)>0,1,0),0)","v":0},{"$f":"IF('Build Your Schedule'!L$11=$B$4,IF(COUNTIF('Build Your Schedule'!L$5:L$10,$B$4)>0,1,0),0)","v":0},{"$f":"IF('Build Your Schedule'!M$11=$B$4,IF(COUNTIF('Build Your Schedule'!M$5:M$10,$B$4)>0,1,0),0)","v":0},{"$f":"IF('Build Your Schedule'!N$11=$B$4,IF(COUNTIF('Build Your Schedule'!N$5:N$10,$B$4)>0,1,0),0)","v":0},{"$f":"IF('Build Your Schedule'!O$11=$B$4,IF(COUNTIF('Build Your Schedule'!O$5:O$10,$B$4)>0,1,0),0)","v":0},{"$f":"IF('Build Your Schedule'!P$11=$B$4,IF(COUNTIF('Build Your Schedule'!P$5:P$10,$B$4)>0,1,0),0)","v":0},{"$f":"IF('Build Your Schedule'!Q$11=$B$4,IF(COUNTIF('Build Your Schedule'!Q$5:Q$10,$B$4)>0,1,0),0)","v":0},{"$f":"IF('Build Your Schedule'!R$11=$B$4,IF(COUNTIF('Build Your Schedule'!R$5:R$10,$B$4)>0,1,0),0)","v":0},{"$f":"IF('Build Your Schedule'!S$11=$B$4,IF(COUNTIF('Build Your Schedule'!S$5:S$10,$B$4)>0,1,0),0)","v":0},{"$f":"IF('Build Your Schedule'!T$11=$B$4,IF(COUNTIF('Build Your Schedule'!T$5:T$10,$B$4)>0,1,0),0)","v":0},{"$f":"IF('Build Your Schedule'!U$11=$B$4,IF(COUNTIF('Build Your Schedule'!U$5:U$10,$B$4)>0,1,0),0)","v":0},{"$f":"IF('Build Your Schedule'!V$11=$B$4,IF(COUNTIF('Build Your Schedule'!V$5:V$10,$B$4)>0,1,0),0)","v":0},{"$f":"IF('Build Your Schedule'!W$11=$B$4,IF(COUNTIF('Build Your Schedule'!W$5:W$10,$B$4)>0,1,0),0)","v":0},{"$f":"IF('Build Your Schedule'!X$11=$B$4,IF(COUNTIF('Build Your Schedule'!X$5:X$10,$B$4)>0,1,0),0)","v":0},{"$f":"IF('Build Your Schedule'!Y$11=$B$4,IF(COUNTIF('Build Your Schedule'!Y$5:Y$10,$B$4)>0,1,0),0)","v":0},{"$f":"IF('Build Your Schedule'!Z$11=$B$4,IF(COUNTIF('Build Your Schedule'!Z$5:Z$10,$B$4)>0,1,0),0)","v":0},{"$f":"IF('Build Your Schedule'!AA$11=$B$4,IF(COUNTIF('Build Your Schedule'!AA$5:AA$10,$B$4)>0,1,0),0)","v":0},{"$f":"IF('Build Your Schedule'!AB$11=$B$4,IF(COUNTIF('Build Your Schedule'!AB$5:AB$10,$B$4)>0,1,0),0)","v":0},{"$f":"IF('Build Your Schedule'!AC$11=$B$4,IF(COUNTIF('Build Your Schedule'!AC$5:AC$10,$B$4)>0,1,0),0)","v":0},{"$f":"IF('Build Your Schedule'!AD$11=$B$4,IF(COUNTIF('Build Your Schedule'!AD$5:AD$10,$B$4)>0,1,0),0)","v":0},{"$f":"IF('Build Your Schedule'!AE$11=$B$4,IF(COUNTIF('Build Your Schedule'!AE$5:AE$10,$B$4)>0,1,0),0)","v":0},{"$f":"IF('Build Your Schedule'!AF$11=$B$4,IF(COUNTIF('Build Your Schedule'!AF$5:AF$10,$B$4)>0,1,0),0)","v":0},{"$f":"IF('Build Your Schedule'!AG$11=$B$4,IF(COUNTIF('Build Your Schedule'!AG$5:AG$10,$B$4)>0,1,0),0)","v":0},{"$f":"IF('Build Your Schedule'!AH$11=$B$4,IF(COUNTIF('Build Your Schedule'!AH$5:AH$10,$B$4)>0,1,0),0)","v":0},{"$f":"IF('Build Your Schedule'!AI$11=$B$4,IF(COUNTIF('Build Your Schedule'!AI$5:AI$10,$B$4)>0,1,0),0)","v":0},{"$f":"IF('Build Your Schedule'!AJ$11=$B$4,IF(COUNTIF('Build Your Schedule'!AJ$5:AJ$10,$B$4)>0,1,0),0)","v":0},{"$f":"IF('Build Your Schedule'!AK$11=$B$4,IF(COUNTIF('Build Your Schedule'!AK$5:AK$10,$B$4)>0,1,0),0)","v":0}]
[]
[null,{"$f":"B5","v":"Chase"},"2015-06-01","2015-06-02","2015-06-03","2015-06-04","2015-06-05","2015-06-06","2015-06-07","2015-06-08","2015-06-09","2015-06-10","2015-06-11","2015-06-12","2015-06-13","2015-06-14","2015-06-15","2015-06-16","2015-06-17","2015-06-18","2015-06-19","2015-06-20","2015-06-21","2015-06-22","2015-06-23","2015-06-24","2015-06-25","2015-06-26","2015-06-27","2015-06-28","2015-06-29","2015-06-30"]
[null,"7a-4p",{"$f":"IF('Build Your Schedule'!H$5=$B$5,IF(COUNTIF('Build Your Schedule'!G$8:G$11,$B$5)>0,1,0),0)","v":0},{"$f":"IF('Build Your Schedule'!I$5=$B$5,IF(COUNTIF('Build Your Schedule'!H$8:H$11,$B$5)>0,1,0),0)","v":0},{"$f":"IF('Build Your Schedule'!J$5=$B$5,IF(COUNTIF('Build Your Schedule'!I$8:I$11,$B$5)>0,1,0),0)","v":0},{"$f":"IF('Build Your Schedule'!K$5=$B$5,IF(COUNTIF('Build Your Schedule'!J$8:J$11,$B$5)>0,1,0),0)","v":0},{"$f":"IF('Build Your Schedule'!L$5=$B$5,IF(COUNTIF('Build Your Schedule'!K$8:K$11,$B$5)>0,1,0),0)","v":0},{"$f":"IF('Build Your Schedule'!M$5=$B$5,IF(COUNTIF('Build Your Schedule'!L$8:L$11,$B$5)>0,1,0),0)","v":0},{"$f":"IF('Build Your Schedule'!N$5=$B$5,IF(COUNTIF('Build Your Schedule'!M$8:M$11,$B$5)>0,1,0),0)","v":0},{"$f":"IF('Build Your Schedule'!O$5=$B$5,IF(COUNTIF('Build Your Schedule'!N$8:N$11,$B$5)>0,1,0),0)","v":0},{"$f":"IF('Build Your Schedule'!P$5=$B$5,IF(COUNTIF('Build Your Schedule'!O$8:O$11,$B$5)>0,1,0),0)","v":0},{"$f":"IF('Build Your Schedule'!Q$5=$B$5,IF(COUNTIF('Build Your Schedule'!P$8:P$11,$B$5)>0,1,0),0)","v":0},{"$f":"IF('Build Your Schedule'!R$5=$B$5,IF(COUNTIF('Build Your Schedule'!Q$8:Q$11,$B$5)>0,1,0),0)","v":0},{"$f":"IF('Build Your Schedule'!S$5=$B$5,IF(COUNTIF('Build Your Schedule'!R$8:R$11,$B$5)>0,1,0),0)","v":0},{"$f":"IF('Build Your Schedule'!T$5=$B$5,IF(COUNTIF('Build Your Schedule'!S$8:S$11,$B$5)>0,1,0),0)","v":0},{"$f":"IF('Build Your Schedule'!U$5=$B$5,IF(COUNTIF('Build Your Schedule'!T$8:T$11,$B$5)>0,1,0),0)","v":0},{"$f":"IF('Build Your Schedule'!V$5=$B$5,IF(COUNTIF('Build Your Schedule'!U$8:U$11,$B$5)>0,1,0),0)","v":0},{"$f":"IF('Build Your Schedule'!W$5=$B$5,IF(COUNTIF('Build Your Schedule'!V$8:V$11,$B$5)>0,1,0),0)","v":0},{"$f":"IF('Build Your Schedule'!X$5=$B$5,IF(COUNTIF('Build Your Schedule'!W$8:W$11,$B$5)>0,1,0),0)","v":0},{"$f":"IF('Build Your Schedule'!Y$5=$B$5,IF(COUNTIF('Build Your Schedule'!X$8:X$11,$B$5)>0,1,0),0)","v":0},{"$f":"IF('Build Your Schedule'!Z$5=$B$5,IF(COUNTIF('Build Your Schedule'!Y$8:Y$11,$B$5)>0,1,0),0)","v":0},{"$f":"IF('Build Your Schedule'!AA$5=$B$5,IF(COUNTIF('Build Your Schedule'!Z$8:Z$11,$B$5)>0,1,0),0)","v":0},{"$f":"IF('Build Your Schedule'!AB$5=$B$5,IF(COUNTIF('Build Your Schedule'!AA$8:AA$11,$B$5)>0,1,0),0)","v":0},{"$f":"IF('Build Your Schedule'!AC$5=$B$5,IF(COUNTIF('Build Your Schedule'!AB$8:AB$11,$B$5)>0,1,0),0)","v":0},{"$f":"IF('Build Your Schedule'!AD$5=$B$5,IF(COUNTIF('Build Your Schedule'!AC$8:AC$11,$B$5)>0,1,0),0)","v":0},{"$f":"IF('Build Your Schedule'!AE$5=$B$5,IF(COUNTIF('Build Your Schedule'!AD$8:AD$11,$B$5)>0,1,0),0)","v":0},{"$f":"IF('Build Your Schedule'!AF$5=$B$5,IF(COUNTIF('Build Your Schedule'!AE$8:AE$11,$B$5)>0,1,0),0)","v":0},{"$f":"IF('Build Your Schedule'!AG$5=$B$5,IF(COUNTIF('Build Your Schedule'!AF$8:AF$11,$B$5)>0,1,0),0)","v":0},{"$f":"IF('Build Your Schedule'!AH$5=$B$5,IF(COUNTIF('Build Your Schedule'!AG$8:AG$11,$B$5)>0,1,0),0)","v":0},{"$f":"IF('Build Your Schedule'!AI$5=$B$5,IF(COUNTIF('Build Your Schedule'!AH$8:AH$11,$B$5)>0,1,0),0)","v":0},{"$f":"IF('Build Your Schedule'!AJ$5=$B$5,IF(COUNTIF('Build Your Schedule'!AI$8:AI$11,$B$5)>0,1,0),0)","v":0},{"$f":"IF('Build Your Schedule'!AK$5=$B$5,IF(COUNTIF('Build Your Schedule'!AJ$8:AJ$11,$B$5)>0,1,0),0)","v":0}]
[null,"9a-6p",{"$f":"IF('Build Your Schedule'!H$6=$B$5,IF((COUNTIF('Build Your Schedule'!G$8:G$11,$B$5)+COUNTIF('Build Your Schedule'!H$5,$B$5))>0,1,0),0)","v":0},{"$f":"IF('Build Your Schedule'!I$6=$B$5,IF((COUNTIF('Build Your Schedule'!H$8:H$11,$B$5)+COUNTIF('Build Your Schedule'!I$5,$B$5))>0,1,0),0)","v":0},{"$f":"IF('Build Your Schedule'!J$6=$B$5,IF((COUNTIF('Build Your Schedule'!I$8:I$11,$B$5)+COUNTIF('Build Your Schedule'!J$5,$B$5))>0,1,0),0)","v":0},{"$f":"IF('Build Your Schedule'!K$6=$B$5,IF((COUNTIF('Build Your Schedule'!J$8:J$11,$B$5)+COUNTIF('Build Your Schedule'!K$5,$B$5))>0,1,0),0)","v":0},{"$f":"IF('Build Your Schedule'!L$6=$B$5,IF((COUNTIF('Build Your Schedule'!K$8:K$11,$B$5)+COUNTIF('Build Your Schedule'!L$5,$B$5))>0,1,0),0)","v":0},{"$f":"IF('Build Your Schedule'!M$6=$B$5,IF((COUNTIF('Build Your Schedule'!L$8:L$11,$B$5)+COUNTIF('Build Your Schedule'!M$5,$B$5))>0,1,0),0)","v":0},{"$f":"IF('Build Your Schedule'!N$6=$B$5,IF((COUNTIF('Build Your Schedule'!M$8:M$11,$B$5)+COUNTIF('Build Your Schedule'!N$5,$B$5))>0,1,0),0)","v":0},{"$f":"IF('Build Your Schedule'!O$6=$B$5,IF((COUNTIF('Build Your Schedule'!N$8:N$11,$B$5)+COUNTIF('Build Your Schedule'!O$5,$B$5))>0,1,0),0)","v":0},{"$f":"IF('Build Your Schedule'!P$6=$B$5,IF((COUNTIF('Build Your Schedule'!O$8:O$11,$B$5)+COUNTIF('Build Your Schedule'!P$5,$B$5))>0,1,0),0)","v":0},{"$f":"IF('Build Your Schedule'!Q$6=$B$5,IF((COUNTIF('Build Your Schedule'!P$8:P$11,$B$5)+COUNTIF('Build Your Schedule'!Q$5,$B$5))>0,1,0),0)","v":0},{"$f":"IF('Build Your Schedule'!R$6=$B$5,IF((COUNTIF('Build Your Schedule'!Q$8:Q$11,$B$5)+COUNTIF('Build Your Schedule'!R$5,$B$5))>0,1,0),0)","v":0},{"$f":"IF('Build Your Schedule'!S$6=$B$5,IF((COUNTIF('Build Your Schedule'!R$8:R$11,$B$5)+COUNTIF('Build Your Schedule'!S$5,$B$5))>0,1,0),0)","v":0},{"$f":"IF('Build Your Schedule'!T$6=$B$5,IF((COUNTIF('Build Your Schedule'!S$8:S$11,$B$5)+COUNTIF('Build Your Schedule'!T$5,$B$5))>0,1,0),0)","v":0},{"$f":"IF('Build Your Schedule'!U$6=$B$5,IF((COUNTIF('Build Your Schedule'!T$8:T$11,$B$5)+COUNTIF('Build Your Schedule'!U$5,$B$5))>0,1,0),0)","v":0},{"$f":"IF('Build Your Schedule'!V$6=$B$5,IF((COUNTIF('Build Your Schedule'!U$8:U$11,$B$5)+COUNTIF('Build Your Schedule'!V$5,$B$5))>0,1,0),0)","v":0},{"$f":"IF('Build Your Schedule'!W$6=$B$5,IF((COUNTIF('Build Your Schedule'!V$8:V$11,$B$5)+COUNTIF('Build Your Schedule'!W$5,$B$5))>0,1,0),0)","v":0},{"$f":"IF('Build Your Schedule'!X$6=$B$5,IF((COUNTIF('Build Your Schedule'!W$8:W$11,$B$5)+COUNTIF('Build Your Schedule'!X$5,$B$5))>0,1,0),0)","v":0},{"$f":"IF('Build Your Schedule'!Y$6=$B$5,IF((COUNTIF('Build Your Schedule'!X$8:X$11,$B$5)+COUNTIF('Build Your Schedule'!Y$5,$B$5))>0,1,0),0)","v":0},{"$f":"IF('Build Your Schedule'!Z$6=$B$5,IF((COUNTIF('Build Your Schedule'!Y$8:Y$11,$B$5)+COUNTIF('Build Your Schedule'!Z$5,$B$5))>0,1,0),0)","v":0},{"$f":"IF('Build Your Schedule'!AA$6=$B$5,IF((COUNTIF('Build Your Schedule'!Z$8:Z$11,$B$5)+COUNTIF('Build Your Schedule'!AA$5,$B$5))>0,1,0),0)","v":0},{"$f":"IF('Build Your Schedule'!AB$6=$B$5,IF((COUNTIF('Build Your Schedule'!AA$8:AA$11,$B$5)+COUNTIF('Build Your Schedule'!AB$5,$B$5))>0,1,0),0)","v":0},{"$f":"IF('Build Your Schedule'!AC$6=$B$5,IF((COUNTIF('Build Your Schedule'!AB$8:AB$11,$B$5)+COUNTIF('Build Your Schedule'!AC$5,$B$5))>0,1,0),0)","v":0},{"$f":"IF('Build Your Schedule'!AD$6=$B$5,IF((COUNTIF('Build Your Schedule'!AC$8:AC$11,$B$5)+COUNTIF('Build Your Schedule'!AD$5,$B$5))>0,1,0),0)","v":0},{"$f":"IF('Build Your Schedule'!AE$6=$B$5,IF((COUNTIF('Build Your Schedule'!AD$8:AD$11,$B$5)+COUNTIF('Build Your Schedule'!AE$5,$B$5))>0,1,0),0)","v":0},{"$f":"IF('Build Your Schedule'!AF$6=$B$5,IF((COUNTIF('Build Your Schedule'!AE$8:AE$11,$B$5)+COUNTIF('Build Your Schedule'!AF$5,$B$5))>0,1,0),0)","v":0},{"$f":"IF('Build Your Schedule'!AG$6=$B$5,IF((COUNTIF('Build Your Schedule'!AF$8:AF$11,$B$5)+COUNTIF('Build Your Schedule'!AG$5,$B$5))>0,1,0),0)","v":0},{"$f":"IF('Build Your Schedule'!AH$6=$B$5,IF((COUNTIF('Build Your Schedule'!AG$8:AG$11,$B$5)+COUNTIF('Build Your Schedule'!AH$5,$B$5))>0,1,0),0)","v":0},{"$f":"IF('Build Your Schedule'!AI$6=$B$5,IF((COUNTIF('Build Your Schedule'!AH$8:AH$11,$B$5)+COUNTIF('Build Your Schedule'!AI$5,$B$5))>0,1,0),0)","v":0},{"$f":"IF('Build Your Schedule'!AJ$6=$B$5,IF((COUNTIF('Build Your Schedule'!AI$8:AI$11,$B$5)+COUNTIF('Build Your Schedule'!AJ$5,$B$5))>0,1,0),0)","v":0},{"$f":"IF('Build Your Schedule'!AK$6=$B$5,IF((COUNTIF('Build Your Schedule'!AJ$8:AJ$11,$B$5)+COUNTIF('Build Your Schedule'!AK$5,$B$5))>0,1,0),0)","v":0}]
[null,"12p-9p",{"$f":"IF('Build Your Schedule'!H$7=$B$5,IF((COUNTIF('Build Your Schedule'!G$10:G$11,$B$5)+COUNTIF('Build Your Schedule'!H$5:H$6,$B$5))>0,1,0),0)","v":0},{"$f":"IF('Build Your Schedule'!I$7=$B$5,IF((COUNTIF('Build Your Schedule'!H$10:H$11,$B$5)+COUNTIF('Build Your Schedule'!I$5:I$6,$B$5))>0,1,0),0)","v":0},{"$f":"IF('Build Your Schedule'!J$7=$B$5,IF((COUNTIF('Build Your Schedule'!I$10:I$11,$B$5)+COUNTIF('Build Your Schedule'!J$5:J$6,$B$5))>0,1,0),0)","v":0},{"$f":"IF('Build Your Schedule'!K$7=$B$5,IF((COUNTIF('Build Your Schedule'!J$10:J$11,$B$5)+COUNTIF('Build Your Schedule'!K$5:K$6,$B$5))>0,1,0),0)","v":0},{"$f":"IF('Build Your Schedule'!L$7=$B$5,IF((COUNTIF('Build Your Schedule'!K$10:K$11,$B$5)+COUNTIF('Build Your Schedule'!L$5:L$6,$B$5))>0,1,0),0)","v":0},{"$f":"IF('Build Your Schedule'!M$7=$B$5,IF((COUNTIF('Build Your Schedule'!L$10:L$11,$B$5)+COUNTIF('Build Your Schedule'!M$5:M$6,$B$5))>0,1,0),0)","v":0},{"$f":"IF('Build Your Schedule'!N$7=$B$5,IF((COUNTIF('Build Your Schedule'!M$10:M$11,$B$5)+COUNTIF('Build Your Schedule'!N$5:N$6,$B$5))>0,1,0),0)","v":0},{"$f":"IF('Build Your Schedule'!O$7=$B$5,IF((COUNTIF('Build Your Schedule'!N$10:N$11,$B$5)+COUNTIF('Build Your Schedule'!O$5:O$6,$B$5))>0,1,0),0)","v":0},{"$f":"IF('Build Your Schedule'!P$7=$B$5,IF((COUNTIF('Build Your Schedule'!O$10:O$11,$B$5)+COUNTIF('Build Your Schedule'!P$5:P$6,$B$5))>0,1,0),0)","v":0},{"$f":"IF('Build Your Schedule'!Q$7=$B$5,IF((COUNTIF('Build Your Schedule'!P$10:P$11,$B$5)+COUNTIF('Build Your Schedule'!Q$5:Q$6,$B$5))>0,1,0),0)","v":0},{"$f":"IF('Build Your Schedule'!R$7=$B$5,IF((COUNTIF('Build Your Schedule'!Q$10:Q$11,$B$5)+COUNTIF('Build Your Schedule'!R$5:R$6,$B$5))>0,1,0),0)","v":0},{"$f":"IF('Build Your Schedule'!S$7=$B$5,IF((COUNTIF('Build Your Schedule'!R$10:R$11,$B$5)+COUNTIF('Build Your Schedule'!S$5:S$6,$B$5))>0,1,0),0)","v":0},{"$f":"IF('Build Your Schedule'!T$7=$B$5,IF((COUNTIF('Build Your Schedule'!S$10:S$11,$B$5)+COUNTIF('Build Your Schedule'!T$5:T$6,$B$5))>0,1,0),0)","v":0},{"$f":"IF('Build Your Schedule'!U$7=$B$5,IF((COUNTIF('Build Your Schedule'!T$10:T$11,$B$5)+COUNTIF('Build Your Schedule'!U$5:U$6,$B$5))>0,1,0),0)","v":0},{"$f":"IF('Build Your Schedule'!V$7=$B$5,IF((COUNTIF('Build Your Schedule'!U$10:U$11,$B$5)+COUNTIF('Build Your Schedule'!V$5:V$6,$B$5))>0,1,0),0)","v":0},{"$f":"IF('Build Your Schedule'!W$7=$B$5,IF((COUNTIF('Build Your Schedule'!V$10:V$11,$B$5)+COUNTIF('Build Your Schedule'!W$5:W$6,$B$5))>0,1,0),0)","v":0},{"$f":"IF('Build Your Schedule'!X$7=$B$5,IF((COUNTIF('Build Your Schedule'!W$10:W$11,$B$5)+COUNTIF('Build Your Schedule'!X$5:X$6,$B$5))>0,1,0),0)","v":0},{"$f":"IF('Build Your Schedule'!Y$7=$B$5,IF((COUNTIF('Build Your Schedule'!X$10:X$11,$B$5)+COUNTIF('Build Your Schedule'!Y$5:Y$6,$B$5))>0,1,0),0)","v":0},{"$f":"IF('Build Your Schedule'!Z$7=$B$5,IF((COUNTIF('Build Your Schedule'!Y$10:Y$11,$B$5)+COUNTIF('Build Your Schedule'!Z$5:Z$6,$B$5))>0,1,0),0)","v":0},{"$f":"IF('Build Your Schedule'!AA$7=$B$5,IF((COUNTIF('Build Your Schedule'!Z$10:Z$11,$B$5)+COUNTIF('Build Your Schedule'!AA$5:AA$6,$B$5))>0,1,0),0)","v":0},{"$f":"IF('Build Your Schedule'!AB$7=$B$5,IF((COUNTIF('Build Your Schedule'!AA$10:AA$11,$B$5)+COUNTIF('Build Your Schedule'!AB$5:AB$6,$B$5))>0,1,0),0)","v":0},{"$f":"IF('Build Your Schedule'!AC$7=$B$5,IF((COUNTIF('Build Your Schedule'!AB$10:AB$11,$B$5)+COUNTIF('Build Your Schedule'!AC$5:AC$6,$B$5))>0,1,0),0)","v":0},{"$f":"IF('Build Your Schedule'!AD$7=$B$5,IF((COUNTIF('Build Your Schedule'!AC$10:AC$11,$B$5)+COUNTIF('Build Your Schedule'!AD$5:AD$6,$B$5))>0,1,0),0)","v":0},{"$f":"IF('Build Your Schedule'!AE$7=$B$5,IF((COUNTIF('Build Your Schedule'!AD$10:AD$11,$B$5)+COUNTIF('Build Your Schedule'!AE$5:AE$6,$B$5))>0,1,0),0)","v":0},{"$f":"IF('Build Your Schedule'!AF$7=$B$5,IF((COUNTIF('Build Your Schedule'!AE$10:AE$11,$B$5)+COUNTIF('Build Your Schedule'!AF$5:AF$6,$B$5))>0,1,0),0)","v":0},{"$f":"IF('Build Your Schedule'!AG$7=$B$5,IF((COUNTIF('Build Your Schedule'!AF$10:AF$11,$B$5)+COUNTIF('Build Your Schedule'!AG$5:AG$6,$B$5))>0,1,0),0)","v":0},{"$f":"IF('Build Your Schedule'!AH$7=$B$5,IF((COUNTIF('Build Your Schedule'!AG$10:AG$11,$B$5)+COUNTIF('Build Your Schedule'!AH$5:AH$6,$B$5))>0,1,0),0)","v":0},{"$f":"IF('Build Your Schedule'!AI$7=$B$5,IF((COUNTIF('Build Your Schedule'!AH$10:AH$11,$B$5)+COUNTIF('Build Your Schedule'!AI$5:AI$6,$B$5))>0,1,0),0)","v":0},{"$f":"IF('Build Your Schedule'!AJ$7=$B$5,IF((COUNTIF('Build Your Schedule'!AI$10:AI$11,$B$5)+COUNTIF('Build Your Schedule'!AJ$5:AJ$6,$B$5))>0,1,0),0)","v":0},{"$f":"IF('Build Your Schedule'!AK$7=$B$5,IF((COUNTIF('Build Your Schedule'!AJ$10:AJ$11,$B$5)+COUNTIF('Build Your Schedule'!AK$5:AK$6,$B$5))>0,1,0),0)","v":0}]
[null,"4p-1a",{"$f":"IF('Build Your Schedule'!H$8=$B$5,IF((COUNTIF('Build Your Schedule'!G$11,$B$5)+COUNTIF('Build Your Schedule'!H$5:H$7,$B$5))>0,1,0),0)","v":0},{"$f":"IF('Build Your Schedule'!I$8=$B$5,IF((COUNTIF('Build Your Schedule'!H$11,$B$5)+COUNTIF('Build Your Schedule'!I$5:I$7,$B$5))>0,1,0),0)","v":0},{"$f":"IF('Build Your Schedule'!J$8=$B$5,IF((COUNTIF('Build Your Schedule'!I$11,$B$5)+COUNTIF('Build Your Schedule'!J$5:J$7,$B$5))>0,1,0),0)","v":0},{"$f":"IF('Build Your Schedule'!K$8=$B$5,IF((COUNTIF('Build Your Schedule'!J$11,$B$5)+COUNTIF('Build Your Schedule'!K$5:K$7,$B$5))>0,1,0),0)","v":0},{"$f":"IF('Build Your Schedule'!L$8=$B$5,IF((COUNTIF('Build Your Schedule'!K$11,$B$5)+COUNTIF('Build Your Schedule'!L$5:L$7,$B$5))>0,1,0),0)","v":0},{"$f":"IF('Build Your Schedule'!M$8=$B$5,IF((COUNTIF('Build Your Schedule'!L$11,$B$5)+COUNTIF('Build Your Schedule'!M$5:M$7,$B$5))>0,1,0),0)","v":0},{"$f":"IF('Build Your Schedule'!N$8=$B$5,IF((COUNTIF('Build Your Schedule'!M$11,$B$5)+COUNTIF('Build Your Schedule'!N$5:N$7,$B$5))>0,1,0),0)","v":0},{"$f":"IF('Build Your Schedule'!O$8=$B$5,IF((COUNTIF('Build Your Schedule'!N$11,$B$5)+COUNTIF('Build Your Schedule'!O$5:O$7,$B$5))>0,1,0),0)","v":0},{"$f":"IF('Build Your Schedule'!P$8=$B$5,IF((COUNTIF('Build Your Schedule'!O$11,$B$5)+COUNTIF('Build Your Schedule'!P$5:P$7,$B$5))>0,1,0),0)","v":0},{"$f":"IF('Build Your Schedule'!Q$8=$B$5,IF((COUNTIF('Build Your Schedule'!P$11,$B$5)+COUNTIF('Build Your Schedule'!Q$5:Q$7,$B$5))>0,1,0),0)","v":0},{"$f":"IF('Build Your Schedule'!R$8=$B$5,IF((COUNTIF('Build Your Schedule'!Q$11,$B$5)+COUNTIF('Build Your Schedule'!R$5:R$7,$B$5))>0,1,0),0)","v":0},{"$f":"IF('Build Your Schedule'!S$8=$B$5,IF((COUNTIF('Build Your Schedule'!R$11,$B$5)+COUNTIF('Build Your Schedule'!S$5:S$7,$B$5))>0,1,0),0)","v":0},{"$f":"IF('Build Your Schedule'!T$8=$B$5,IF((COUNTIF('Build Your Schedule'!S$11,$B$5)+COUNTIF('Build Your Schedule'!T$5:T$7,$B$5))>0,1,0),0)","v":0},{"$f":"IF('Build Your Schedule'!U$8=$B$5,IF((COUNTIF('Build Your Schedule'!T$11,$B$5)+COUNTIF('Build Your Schedule'!U$5:U$7,$B$5))>0,1,0),0)","v":0},{"$f":"IF('Build Your Schedule'!V$8=$B$5,IF((COUNTIF('Build Your Schedule'!U$11,$B$5)+COUNTIF('Build Your Schedule'!V$5:V$7,$B$5))>0,1,0),0)","v":0},{"$f":"IF('Build Your Schedule'!W$8=$B$5,IF((COUNTIF('Build Your Schedule'!V$11,$B$5)+COUNTIF('Build Your Schedule'!W$5:W$7,$B$5))>0,1,0),0)","v":0},{"$f":"IF('Build Your Schedule'!X$8=$B$5,IF((COUNTIF('Build Your Schedule'!W$11,$B$5)+COUNTIF('Build Your Schedule'!X$5:X$7,$B$5))>0,1,0),0)","v":0},{"$f":"IF('Build Your Schedule'!Y$8=$B$5,IF((COUNTIF('Build Your Schedule'!X$11,$B$5)+COUNTIF('Build Your Schedule'!Y$5:Y$7,$B$5))>0,1,0),0)","v":0},{"$f":"IF('Build Your Schedule'!Z$8=$B$5,IF((COUNTIF('Build Your Schedule'!Y$11,$B$5)+COUNTIF('Build Your Schedule'!Z$5:Z$7,$B$5))>0,1,0),0)","v":0},{"$f":"IF('Build Your Schedule'!AA$8=$B$5,IF((COUNTIF('Build Your Schedule'!Z$11,$B$5)+COUNTIF('Build Your Schedule'!AA$5:AA$7,$B$5))>0,1,0),0)","v":0},{"$f":"IF('Build Your Schedule'!AB$8=$B$5,IF((COUNTIF('Build Your Schedule'!AA$11,$B$5)+COUNTIF('Build Your Schedule'!AB$5:AB$7,$B$5))>0,1,0),0)","v":0},{"$f":"IF('Build Your Schedule'!AC$8=$B$5,IF((COUNTIF('Build Your Schedule'!AB$11,$B$5)+COUNTIF('Build Your Schedule'!AC$5:AC$7,$B$5))>0,1,0),0)","v":0},{"$f":"IF('Build Your Schedule'!AD$8=$B$5,IF((COUNTIF('Build Your Schedule'!AC$11,$B$5)+COUNTIF('Build Your Schedule'!AD$5:AD$7,$B$5))>0,1,0),0)","v":0},{"$f":"IF('Build Your Schedule'!AE$8=$B$5,IF((COUNTIF('Build Your Schedule'!AD$11,$B$5)+COUNTIF('Build Your Schedule'!AE$5:AE$7,$B$5))>0,1,0),0)","v":0},{"$f":"IF('Build Your Schedule'!AF$8=$B$5,IF((COUNTIF('Build Your Schedule'!AE$11,$B$5)+COUNTIF('Build Your Schedule'!AF$5:AF$7,$B$5))>0,1,0),0)","v":0},{"$f":"IF('Build Your Schedule'!AG$8=$B$5,IF((COUNTIF('Build Your Schedule'!AF$11,$B$5)+COUNTIF('Build Your Schedule'!AG$5:AG$7,$B$5))>0,1,0),0)","v":0},{"$f":"IF('Build Your Schedule'!AH$8=$B$5,IF((COUNTIF('Build Your Schedule'!AG$11,$B$5)+COUNTIF('Build Your Schedule'!AH$5:AH$7,$B$5))>0,1,0),0)","v":0},{"$f":"IF('Build Your Schedule'!AI$8=$B$5,IF((COUNTIF('Build Your Schedule'!AH$11,$B$5)+COUNTIF('Build Your Schedule'!AI$5:AI$7,$B$5))>0,1,0),0)","v":0},{"$f":"IF('Build Your Schedule'!AJ$8=$B$5,IF((COUNTIF('Build Your Schedule'!AI$11,$B$5)+COUNTIF('Build Your Schedule'!AJ$5:AJ$7,$B$5))>0,1,0),0)","v":0},{"$f":"IF('Build Your Schedule'!AK$8=$B$5,IF((COUNTIF('Build Your Schedule'!AJ$11,$B$5)+COUNTIF('Build Your Schedule'!AK$5:AK$7,$B$5))>0,1,0),0)","v":0}]
[null,"5p-2a",{"$f":"IF('Build Your Schedule'!H$9=$B$5,IF((COUNTIF('Build Your Schedule'!G$11,$B$5)+COUNTIF('Build Your Schedule'!H$5:H$8,$B$5))>0,1,0),0)","v":0},{"$f":"IF('Build Your Schedule'!I$9=$B$5,IF((COUNTIF('Build Your Schedule'!H$11,$B$5)+COUNTIF('Build Your Schedule'!I$5:I$8,$B$5))>0,1,0),0)","v":0},{"$f":"IF('Build Your Schedule'!J$9=$B$5,IF((COUNTIF('Build Your Schedule'!I$11,$B$5)+COUNTIF('Build Your Schedule'!J$5:J$8,$B$5))>0,1,0),0)","v":0},{"$f":"IF('Build Your Schedule'!K$9=$B$5,IF((COUNTIF('Build Your Schedule'!J$11,$B$5)+COUNTIF('Build Your Schedule'!K$5:K$8,$B$5))>0,1,0),0)","v":0},{"$f":"IF('Build Your Schedule'!L$9=$B$5,IF((COUNTIF('Build Your Schedule'!K$11,$B$5)+COUNTIF('Build Your Schedule'!L$5:L$8,$B$5))>0,1,0),0)","v":0},{"$f":"IF('Build Your Schedule'!M$9=$B$5,IF((COUNTIF('Build Your Schedule'!L$11,$B$5)+COUNTIF('Build Your Schedule'!M$5:M$8,$B$5))>0,1,0),0)","v":0},{"$f":"IF('Build Your Schedule'!N$9=$B$5,IF((COUNTIF('Build Your Schedule'!M$11,$B$5)+COUNTIF('Build Your Schedule'!N$5:N$8,$B$5))>0,1,0),0)","v":0},{"$f":"IF('Build Your Schedule'!O$9=$B$5,IF((COUNTIF('Build Your Schedule'!N$11,$B$5)+COUNTIF('Build Your Schedule'!O$5:O$8,$B$5))>0,1,0),0)","v":0},{"$f":"IF('Build Your Schedule'!P$9=$B$5,IF((COUNTIF('Build Your Schedule'!O$11,$B$5)+COUNTIF('Build Your Schedule'!P$5:P$8,$B$5))>0,1,0),0)","v":0},{"$f":"IF('Build Your Schedule'!Q$9=$B$5,IF((COUNTIF('Build Your Schedule'!P$11,$B$5)+COUNTIF('Build Your Schedule'!Q$5:Q$8,$B$5))>0,1,0),0)","v":0},{"$f":"IF('Build Your Schedule'!R$9=$B$5,IF((COUNTIF('Build Your Schedule'!Q$11,$B$5)+COUNTIF('Build Your Schedule'!R$5:R$8,$B$5))>0,1,0),0)","v":0},{"$f":"IF('Build Your Schedule'!S$9=$B$5,IF((COUNTIF('Build Your Schedule'!R$11,$B$5)+COUNTIF('Build Your Schedule'!S$5:S$8,$B$5))>0,1,0),0)","v":0},{"$f":"IF('Build Your Schedule'!T$9=$B$5,IF((COUNTIF('Build Your Schedule'!S$11,$B$5)+COUNTIF('Build Your Schedule'!T$5:T$8,$B$5))>0,1,0),0)","v":0},{"$f":"IF('Build Your Schedule'!U$9=$B$5,IF((COUNTIF('Build Your Schedule'!T$11,$B$5)+COUNTIF('Build Your Schedule'!U$5:U$8,$B$5))>0,1,0),0)","v":0},{"$f":"IF('Build Your Schedule'!V$9=$B$5,IF((COUNTIF('Build Your Schedule'!U$11,$B$5)+COUNTIF('Build Your Schedule'!V$5:V$8,$B$5))>0,1,0),0)","v":0},{"$f":"IF('Build Your Schedule'!W$9=$B$5,IF((COUNTIF('Build Your Schedule'!V$11,$B$5)+COUNTIF('Build Your Schedule'!W$5:W$8,$B$5))>0,1,0),0)","v":0},{"$f":"IF('Build Your Schedule'!X$9=$B$5,IF((COUNTIF('Build Your Schedule'!W$11,$B$5)+COUNTIF('Build Your Schedule'!X$5:X$8,$B$5))>0,1,0),0)","v":0},{"$f":"IF('Build Your Schedule'!Y$9=$B$5,IF((COUNTIF('Build Your Schedule'!X$11,$B$5)+COUNTIF('Build Your Schedule'!Y$5:Y$8,$B$5))>0,1,0),0)","v":0},{"$f":"IF('Build Your Schedule'!Z$9=$B$5,IF((COUNTIF('Build Your Schedule'!Y$11,$B$5)+COUNTIF('Build Your Schedule'!Z$5:Z$8,$B$5))>0,1,0),0)","v":0},{"$f":"IF('Build Your Schedule'!AA$9=$B$5,IF((COUNTIF('Build Your Schedule'!Z$11,$B$5)+COUNTIF('Build Your Schedule'!AA$5:AA$8,$B$5))>0,1,0),0)","v":0},{"$f":"IF('Build Your Schedule'!AB$9=$B$5,IF((COUNTIF('Build Your Schedule'!AA$11,$B$5)+COUNTIF('Build Your Schedule'!AB$5:AB$8,$B$5))>0,1,0),0)","v":0},{"$f":"IF('Build Your Schedule'!AC$9=$B$5,IF((COUNTIF('Build Your Schedule'!AB$11,$B$5)+COUNTIF('Build Your Schedule'!AC$5:AC$8,$B$5))>0,1,0),0)","v":0},{"$f":"IF('Build Your Schedule'!AD$9=$B$5,IF((COUNTIF('Build Your Schedule'!AC$11,$B$5)+COUNTIF('Build Your Schedule'!AD$5:AD$8,$B$5))>0,1,0),0)","v":0},{"$f":"IF('Build Your Schedule'!AE$9=$B$5,IF((COUNTIF('Build Your Schedule'!AD$11,$B$5)+COUNTIF('Build Your Schedule'!AE$5:AE$8,$B$5))>0,1,0),0)","v":0},{"$f":"IF('Build Your Schedule'!AF$9=$B$5,IF((COUNTIF('Build Your Schedule'!AE$11,$B$5)+COUNTIF('Build Your Schedule'!AF$5:AF$8,$B$5))>0,1,0),0)","v":0},{"$f":"IF('Build Your Schedule'!AG$9=$B$5,IF((COUNTIF('Build Your Schedule'!AF$11,$B$5)+COUNTIF('Build Your Schedule'!AG$5:AG$8,$B$5))>0,1,0),0)","v":0},{"$f":"IF('Build Your Schedule'!AH$9=$B$5,IF((COUNTIF('Build Your Schedule'!AG$11,$B$5)+COUNTIF('Build Your Schedule'!AH$5:AH$8,$B$5))>0,1,0),0)","v":0},{"$f":"IF('Build Your Schedule'!AI$9=$B$5,IF((COUNTIF('Build Your Schedule'!AH$11,$B$5)+COUNTIF('Build Your Schedule'!AI$5:AI$8,$B$5))>0,1,0),0)","v":0},{"$f":"IF('Build Your Schedule'!AJ$9=$B$5,IF((COUNTIF('Build Your Schedule'!AI$11,$B$5)+COUNTIF('Build Your Schedule'!AJ$5:AJ$8,$B$5))>0,1,0),0)","v":0},{"$f":"IF('Build Your Schedule'!AK$9=$B$5,IF((COUNTIF('Build Your Schedule'!AJ$11,$B$5)+COUNTIF('Build Your Schedule'!AK$5:AK$8,$B$5))>0,1,0),0)","v":0}]
[null,"8p-5a",{"$f":"IF('Build Your Schedule'!H$10=$B$5,IF(COUNTIF('Build Your Schedule'!H$5:H$9,$B$5)>0,1,0),0)","v":0},{"$f":"IF('Build Your Schedule'!I$10=$B$5,IF(COUNTIF('Build Your Schedule'!I$5:I$9,$B$5)>0,1,0),0)","v":0},{"$f":"IF('Build Your Schedule'!J$10=$B$5,IF(COUNTIF('Build Your Schedule'!J$5:J$9,$B$5)>0,1,0),0)","v":0},{"$f":"IF('Build Your Schedule'!K$10=$B$5,IF(COUNTIF('Build Your Schedule'!K$5:K$9,$B$5)>0,1,0),0)","v":0},{"$f":"IF('Build Your Schedule'!L$10=$B$5,IF(COUNTIF('Build Your Schedule'!L$5:L$9,$B$5)>0,1,0),0)","v":0},{"$f":"IF('Build Your Schedule'!M$10=$B$5,IF(COUNTIF('Build Your Schedule'!M$5:M$9,$B$5)>0,1,0),0)","v":0},{"$f":"IF('Build Your Schedule'!N$10=$B$5,IF(COUNTIF('Build Your Schedule'!N$5:N$9,$B$5)>0,1,0),0)","v":0},{"$f":"IF('Build Your Schedule'!O$10=$B$5,IF(COUNTIF('Build Your Schedule'!O$5:O$9,$B$5)>0,1,0),0)","v":0},{"$f":"IF('Build Your Schedule'!P$10=$B$5,IF(COUNTIF('Build Your Schedule'!P$5:P$9,$B$5)>0,1,0),0)","v":0},{"$f":"IF('Build Your Schedule'!Q$10=$B$5,IF(COUNTIF('Build Your Schedule'!Q$5:Q$9,$B$5)>0,1,0),0)","v":0},{"$f":"IF('Build Your Schedule'!R$10=$B$5,IF(COUNTIF('Build Your Schedule'!R$5:R$9,$B$5)>0,1,0),0)","v":0},{"$f":"IF('Build Your Schedule'!S$10=$B$5,IF(COUNTIF('Build Your Schedule'!S$5:S$9,$B$5)>0,1,0),0)","v":0},{"$f":"IF('Build Your Schedule'!T$10=$B$5,IF(COUNTIF('Build Your Schedule'!T$5:T$9,$B$5)>0,1,0),0)","v":0},{"$f":"IF('Build Your Schedule'!U$10=$B$5,IF(COUNTIF('Build Your Schedule'!U$5:U$9,$B$5)>0,1,0),0)","v":0},{"$f":"IF('Build Your Schedule'!V$10=$B$5,IF(COUNTIF('Build Your Schedule'!V$5:V$9,$B$5)>0,1,0),0)","v":0},{"$f":"IF('Build Your Schedule'!W$10=$B$5,IF(COUNTIF('Build Your Schedule'!W$5:W$9,$B$5)>0,1,0),0)","v":0},{"$f":"IF('Build Your Schedule'!X$10=$B$5,IF(COUNTIF('Build Your Schedule'!X$5:X$9,$B$5)>0,1,0),0)","v":0},{"$f":"IF('Build Your Schedule'!Y$10=$B$5,IF(COUNTIF('Build Your Schedule'!Y$5:Y$9,$B$5)>0,1,0),0)","v":0},{"$f":"IF('Build Your Schedule'!Z$10=$B$5,IF(COUNTIF('Build Your Schedule'!Z$5:Z$9,$B$5)>0,1,0),0)","v":0},{"$f":"IF('Build Your Schedule'!AA$10=$B$5,IF(COUNTIF('Build Your Schedule'!AA$5:AA$9,$B$5)>0,1,0),0)","v":0},{"$f":"IF('Build Your Schedule'!AB$10=$B$5,IF(COUNTIF('Build Your Schedule'!AB$5:AB$9,$B$5)>0,1,0),0)","v":0},{"$f":"IF('Build Your Schedule'!AC$10=$B$5,IF(COUNTIF('Build Your Schedule'!AC$5:AC$9,$B$5)>0,1,0),0)","v":0},{"$f":"IF('Build Your Schedule'!AD$10=$B$5,IF(COUNTIF('Build Your Schedule'!AD$5:AD$9,$B$5)>0,1,0),0)","v":0},{"$f":"IF('Build Your Schedule'!AE$10=$B$5,IF(COUNTIF('Build Your Schedule'!AE$5:AE$9,$B$5)>0,1,0),0)","v":0},{"$f":"IF('Build Your Schedule'!AF$10=$B$5,IF(COUNTIF('Build Your Schedule'!AF$5:AF$9,$B$5)>0,1,0),0)","v":0},{"$f":"IF('Build Your Schedule'!AG$10=$B$5,IF(COUNTIF('Build Your Schedule'!AG$5:AG$9,$B$5)>0,1,0),0)","v":0},{"$f":"IF('Build Your Schedule'!AH$10=$B$5,IF(COUNTIF('Build Your Schedule'!AH$5:AH$9,$B$5)>0,1,0),0)","v":0},{"$f":"IF('Build Your Schedule'!AI$10=$B$5,IF(COUNTIF('Build Your Schedule'!AI$5:AI$9,$B$5)>0,1,0),0)","v":0},{"$f":"IF('Build Your Schedule'!AJ$10=$B$5,IF(COUNTIF('Build Your Schedule'!AJ$5:AJ$9,$B$5)>0,1,0),0)","v":0},{"$f":"IF('Build Your Schedule'!AK$10=$B$5,IF(COUNTIF('Build Your Schedule'!AK$5:AK$9,$B$5)>0,1,0),0)","v":0}]
[null,"11p-8a",{"$f":"IF('Build Your Schedule'!H$11=$B$5,IF(COUNTIF('Build Your Schedule'!H$5:H$10,$B$5)>0,1,0),0)","v":0},{"$f":"IF('Build Your Schedule'!I$11=$B$5,IF(COUNTIF('Build Your Schedule'!I$5:I$10,$B$5)>0,1,0),0)","v":0},{"$f":"IF('Build Your Schedule'!J$11=$B$5,IF(COUNTIF('Build Your Schedule'!J$5:J$10,$B$5)>0,1,0),0)","v":0},{"$f":"IF('Build Your Schedule'!K$11=$B$5,IF(COUNTIF('Build Your Schedule'!K$5:K$10,$B$5)>0,1,0),0)","v":0},{"$f":"IF('Build Your Schedule'!L$11=$B$5,IF(COUNTIF('Build Your Schedule'!L$5:L$10,$B$5)>0,1,0),0)","v":0},{"$f":"IF('Build Your Schedule'!M$11=$B$5,IF(COUNTIF('Build Your Schedule'!M$5:M$10,$B$5)>0,1,0),0)","v":0},{"$f":"IF('Build Your Schedule'!N$11=$B$5,IF(COUNTIF('Build Your Schedule'!N$5:N$10,$B$5)>0,1,0),0)","v":0},{"$f":"IF('Build Your Schedule'!O$11=$B$5,IF(COUNTIF('Build Your Schedule'!O$5:O$10,$B$5)>0,1,0),0)","v":0},{"$f":"IF('Build Your Schedule'!P$11=$B$5,IF(COUNTIF('Build Your Schedule'!P$5:P$10,$B$5)>0,1,0),0)","v":0},{"$f":"IF('Build Your Schedule'!Q$11=$B$5,IF(COUNTIF('Build Your Schedule'!Q$5:Q$10,$B$5)>0,1,0),0)","v":0},{"$f":"IF('Build Your Schedule'!R$11=$B$5,IF(COUNTIF('Build Your Schedule'!R$5:R$10,$B$5)>0,1,0),0)","v":0},{"$f":"IF('Build Your Schedule'!S$11=$B$5,IF(COUNTIF('Build Your Schedule'!S$5:S$10,$B$5)>0,1,0),0)","v":0},{"$f":"IF('Build Your Schedule'!T$11=$B$5,IF(COUNTIF('Build Your Schedule'!T$5:T$10,$B$5)>0,1,0),0)","v":0},{"$f":"IF('Build Your Schedule'!U$11=$B$5,IF(COUNTIF('Build Your Schedule'!U$5:U$10,$B$5)>0,1,0),0)","v":0},{"$f":"IF('Build Your Schedule'!V$11=$B$5,IF(COUNTIF('Build Your Schedule'!V$5:V$10,$B$5)>0,1,0),0)","v":0},{"$f":"IF('Build Your Schedule'!W$11=$B$5,IF(COUNTIF('Build Your Schedule'!W$5:W$10,$B$5)>0,1,0),0)","v":0},{"$f":"IF('Build Your Schedule'!X$11=$B$5,IF(COUNTIF('Build Your Schedule'!X$5:X$10,$B$5)>0,1,0),0)","v":0},{"$f":"IF('Build Your Schedule'!Y$11=$B$5,IF(COUNTIF('Build Your Schedule'!Y$5:Y$10,$B$5)>0,1,0),0)","v":0},{"$f":"IF('Build Your Schedule'!Z$11=$B$5,IF(COUNTIF('Build Your Schedule'!Z$5:Z$10,$B$5)>0,1,0),0)","v":0},{"$f":"IF('Build Your Schedule'!AA$11=$B$5,IF(COUNTIF('Build Your Schedule'!AA$5:AA$10,$B$5)>0,1,0),0)","v":0},{"$f":"IF('Build Your Schedule'!AB$11=$B$5,IF(COUNTIF('Build Your Schedule'!AB$5:AB$10,$B$5)>0,1,0),0)","v":0},{"$f":"IF('Build Your Schedule'!AC$11=$B$5,IF(COUNTIF('Build Your Schedule'!AC$5:AC$10,$B$5)>0,1,0),0)","v":0},{"$f":"IF('Build Your Schedule'!AD$11=$B$5,IF(COUNTIF('Build Your Schedule'!AD$5:AD$10,$B$5)>0,1,0),0)","v":0},{"$f":"IF('Build Your Schedule'!AE$11=$B$5,IF(COUNTIF('Build Your Schedule'!AE$5:AE$10,$B$5)>0,1,0),0)","v":0},{"$f":"IF('Build Your Schedule'!AF$11=$B$5,IF(COUNTIF('Build Your Schedule'!AF$5:AF$10,$B$5)>0,1,0),0)","v":0},{"$f":"IF('Build Your Schedule'!AG$11=$B$5,IF(COUNTIF('Build Your Schedule'!AG$5:AG$10,$B$5)>0,1,0),0)","v":0},{"$f":"IF('Build Your Schedule'!AH$11=$B$5,IF(COUNTIF('Build Your Schedule'!AH$5:AH$10,$B$5)>0,1,0),0)","v":0},{"$f":"IF('Build Your Schedule'!AI$11=$B$5,IF(COUNTIF('Build Your Schedule'!AI$5:AI$10,$B$5)>0,1,0),0)","v":0},{"$f":"IF('Build Your Schedule'!AJ$11=$B$5,IF(COUNTIF('Build Your Schedule'!AJ$5:AJ$10,$B$5)>0,1,0),0)","v":0},{"$f":"IF('Build Your Schedule'!AK$11=$B$5,IF(COUNTIF('Build Your Schedule'!AK$5:AK$10,$B$5)>0,1,0),0)","v":0}]
[]
[null,{"$f":"B6","v":"Dunn"},"2015-06-01","2015-06-02","2015-06-03","2015-06-04","2015-06-05","2015-06-06","2015-06-07","2015-06-08","2015-06-09","2015-06-10","2015-06-11","2015-06-12","2015-06-13","2015-06-14","2015-06-15","2015-06-16","2015-06-17","2015-06-18","2015-06-19","2015-06-20","2015-06-21","2015-06-22","2015-06-23","2015-06-24","2015-06-25","2015-06-26","2015-06-27","2015-06-28","2015-06-29","2015-06-30"]
[null,"7a-4p",{"$f":"IF('Build Your Schedule'!H$5=$B$6,IF(COUNTIF('Build Your Schedule'!G$8:G$11,$B$6)>0,1,0),0)","v":0},{"$f":"IF('Build Your Schedule'!I$5=$B$6,IF(COUNTIF('Build Your Schedule'!H$8:H$11,$B$6)>0,1,0),0)","v":0},{"$f":"IF('Build Your Schedule'!J$5=$B$6,IF(COUNTIF('Build Your Schedule'!I$8:I$11,$B$6)>0,1,0),0)","v":0},{"$f":"IF('Build Your Schedule'!K$5=$B$6,IF(COUNTIF('Build Your Schedule'!J$8:J$11,$B$6)>0,1,0),0)","v":0},{"$f":"IF('Build Your Schedule'!L$5=$B$6,IF(COUNTIF('Build Your Schedule'!K$8:K$11,$B$6)>0,1,0),0)","v":0},{"$f":"IF('Build Your Schedule'!M$5=$B$6,IF(COUNTIF('Build Your Schedule'!L$8:L$11,$B$6)>0,1,0),0)","v":0},{"$f":"IF('Build Your Schedule'!N$5=$B$6,IF(COUNTIF('Build Your Schedule'!M$8:M$11,$B$6)>0,1,0),0)","v":0},{"$f":"IF('Build Your Schedule'!O$5=$B$6,IF(COUNTIF('Build Your Schedule'!N$8:N$11,$B$6)>0,1,0),0)","v":0},{"$f":"IF('Build Your Schedule'!P$5=$B$6,IF(COUNTIF('Build Your Schedule'!O$8:O$11,$B$6)>0,1,0),0)","v":0},{"$f":"IF('Build Your Schedule'!Q$5=$B$6,IF(COUNTIF('Build Your Schedule'!P$8:P$11,$B$6)>0,1,0),0)","v":0},{"$f":"IF('Build Your Schedule'!R$5=$B$6,IF(COUNTIF('Build Your Schedule'!Q$8:Q$11,$B$6)>0,1,0),0)","v":0},{"$f":"IF('Build Your Schedule'!S$5=$B$6,IF(COUNTIF('Build Your Schedule'!R$8:R$11,$B$6)>0,1,0),0)","v":0},{"$f":"IF('Build Your Schedule'!T$5=$B$6,IF(COUNTIF('Build Your Schedule'!S$8:S$11,$B$6)>0,1,0),0)","v":0},{"$f":"IF('Build Your Schedule'!U$5=$B$6,IF(COUNTIF('Build Your Schedule'!T$8:T$11,$B$6)>0,1,0),0)","v":0},{"$f":"IF('Build Your Schedule'!V$5=$B$6,IF(COUNTIF('Build Your Schedule'!U$8:U$11,$B$6)>0,1,0),0)","v":0},{"$f":"IF('Build Your Schedule'!W$5=$B$6,IF(COUNTIF('Build Your Schedule'!V$8:V$11,$B$6)>0,1,0),0)","v":0},{"$f":"IF('Build Your Schedule'!X$5=$B$6,IF(COUNTIF('Build Your Schedule'!W$8:W$11,$B$6)>0,1,0),0)","v":0},{"$f":"IF('Build Your Schedule'!Y$5=$B$6,IF(COUNTIF('Build Your Schedule'!X$8:X$11,$B$6)>0,1,0),0)","v":0},{"$f":"IF('Build Your Schedule'!Z$5=$B$6,IF(COUNTIF('Build Your Schedule'!Y$8:Y$11,$B$6)>0,1,0),0)","v":0},{"$f":"IF('Build Your Schedule'!AA$5=$B$6,IF(COUNTIF('Build Your Schedule'!Z$8:Z$11,$B$6)>0,1,0),0)","v":0},{"$f":"IF('Build Your Schedule'!AB$5=$B$6,IF(COUNTIF('Build Your Schedule'!AA$8:AA$11,$B$6)>0,1,0),0)","v":0},{"$f":"IF('Build Your Schedule'!AC$5=$B$6,IF(COUNTIF('Build Your Schedule'!AB$8:AB$11,$B$6)>0,1,0),0)","v":0},{"$f":"IF('Build Your Schedule'!AD$5=$B$6,IF(COUNTIF('Build Your Schedule'!AC$8:AC$11,$B$6)>0,1,0),0)","v":0},{"$f":"IF('Build Your Schedule'!AE$5=$B$6,IF(COUNTIF('Build Your Schedule'!AD$8:AD$11,$B$6)>0,1,0),0)","v":0},{"$f":"IF('Build Your Schedule'!AF$5=$B$6,IF(COUNTIF('Build Your Schedule'!AE$8:AE$11,$B$6)>0,1,0),0)","v":0},{"$f":"IF('Build Your Schedule'!AG$5=$B$6,IF(COUNTIF('Build Your Schedule'!AF$8:AF$11,$B$6)>0,1,0),0)","v":0},{"$f":"IF('Build Your Schedule'!AH$5=$B$6,IF(COUNTIF('Build Your Schedule'!AG$8:AG$11,$B$6)>0,1,0),0)","v":0},{"$f":"IF('Build Your Schedule'!AI$5=$B$6,IF(COUNTIF('Build Your Schedule'!AH$8:AH$11,$B$6)>0,1,0),0)","v":0},{"$f":"IF('Build Your Schedule'!AJ$5=$B$6,IF(COUNTIF('Build Your Schedule'!AI$8:AI$11,$B$6)>0,1,0),0)","v":0},{"$f":"IF('Build Your Schedule'!AK$5=$B$6,IF(COUNTIF('Build Your Schedule'!AJ$8:AJ$11,$B$6)>0,1,0),0)","v":0}]
[null,"9a-6p",{"$f":"IF('Build Your Schedule'!H$6=$B$6,IF((COUNTIF('Build Your Schedule'!G$8:G$11,$B$6)+COUNTIF('Build Your Schedule'!H$5,$B$6))>0,1,0),0)","v":0},{"$f":"IF('Build Your Schedule'!I$6=$B$6,IF((COUNTIF('Build Your Schedule'!H$8:H$11,$B$6)+COUNTIF('Build Your Schedule'!I$5,$B$6))>0,1,0),0)","v":0},{"$f":"IF('Build Your Schedule'!J$6=$B$6,IF((COUNTIF('Build Your Schedule'!I$8:I$11,$B$6)+COUNTIF('Build Your Schedule'!J$5,$B$6))>0,1,0),0)","v":0},{"$f":"IF('Build Your Schedule'!K$6=$B$6,IF((COUNTIF('Build Your Schedule'!J$8:J$11,$B$6)+COUNTIF('Build Your Schedule'!K$5,$B$6))>0,1,0),0)","v":0},{"$f":"IF('Build Your Schedule'!L$6=$B$6,IF((COUNTIF('Build Your Schedule'!K$8:K$11,$B$6)+COUNTIF('Build Your Schedule'!L$5,$B$6))>0,1,0),0)","v":0},{"$f":"IF('Build Your Schedule'!M$6=$B$6,IF((COUNTIF('Build Your Schedule'!L$8:L$11,$B$6)+COUNTIF('Build Your Schedule'!M$5,$B$6))>0,1,0),0)","v":0},{"$f":"IF('Build Your Schedule'!N$6=$B$6,IF((COUNTIF('Build Your Schedule'!M$8:M$11,$B$6)+COUNTIF('Build Your Schedule'!N$5,$B$6))>0,1,0),0)","v":0},{"$f":"IF('Build Your Schedule'!O$6=$B$6,IF((COUNTIF('Build Your Schedule'!N$8:N$11,$B$6)+COUNTIF('Build Your Schedule'!O$5,$B$6))>0,1,0),0)","v":0},{"$f":"IF('Build Your Schedule'!P$6=$B$6,IF((COUNTIF('Build Your Schedule'!O$8:O$11,$B$6)+COUNTIF('Build Your Schedule'!P$5,$B$6))>0,1,0),0)","v":0},{"$f":"IF('Build Your Schedule'!Q$6=$B$6,IF((COUNTIF('Build Your Schedule'!P$8:P$11,$B$6)+COUNTIF('Build Your Schedule'!Q$5,$B$6))>0,1,0),0)","v":0},{"$f":"IF('Build Your Schedule'!R$6=$B$6,IF((COUNTIF('Build Your Schedule'!Q$8:Q$11,$B$6)+COUNTIF('Build Your Schedule'!R$5,$B$6))>0,1,0),0)","v":0},{"$f":"IF('Build Your Schedule'!S$6=$B$6,IF((COUNTIF('Build Your Schedule'!R$8:R$11,$B$6)+COUNTIF('Build Your Schedule'!S$5,$B$6))>0,1,0),0)","v":0},{"$f":"IF('Build Your Schedule'!T$6=$B$6,IF((COUNTIF('Build Your Schedule'!S$8:S$11,$B$6)+COUNTIF('Build Your Schedule'!T$5,$B$6))>0,1,0),0)","v":0},{"$f":"IF('Build Your Schedule'!U$6=$B$6,IF((COUNTIF('Build Your Schedule'!T$8:T$11,$B$6)+COUNTIF('Build Your Schedule'!U$5,$B$6))>0,1,0),0)","v":0},{"$f":"IF('Build Your Schedule'!V$6=$B$6,IF((COUNTIF('Build Your Schedule'!U$8:U$11,$B$6)+COUNTIF('Build Your Schedule'!V$5,$B$6))>0,1,0),0)","v":0},{"$f":"IF('Build Your Schedule'!W$6=$B$6,IF((COUNTIF('Build Your Schedule'!V$8:V$11,$B$6)+COUNTIF('Build Your Schedule'!W$5,$B$6))>0,1,0),0)","v":0},{"$f":"IF('Build Your Schedule'!X$6=$B$6,IF((COUNTIF('Build Your Schedule'!W$8:W$11,$B$6)+COUNTIF('Build Your Schedule'!X$5,$B$6))>0,1,0),0)","v":0},{"$f":"IF('Build Your Schedule'!Y$6=$B$6,IF((COUNTIF('Build Your Schedule'!X$8:X$11,$B$6)+COUNTIF('Build Your Schedule'!Y$5,$B$6))>0,1,0),0)","v":0},{"$f":"IF('Build Your Schedule'!Z$6=$B$6,IF((COUNTIF('Build Your Schedule'!Y$8:Y$11,$B$6)+COUNTIF('Build Your Schedule'!Z$5,$B$6))>0,1,0),0)","v":0},{"$f":"IF('Build Your Schedule'!AA$6=$B$6,IF((COUNTIF('Build Your Schedule'!Z$8:Z$11,$B$6)+COUNTIF('Build Your Schedule'!AA$5,$B$6))>0,1,0),0)","v":0},{"$f":"IF('Build Your Schedule'!AB$6=$B$6,IF((COUNTIF('Build Your Schedule'!AA$8:AA$11,$B$6)+COUNTIF('Build Your Schedule'!AB$5,$B$6))>0,1,0),0)","v":0},{"$f":"IF('Build Your Schedule'!AC$6=$B$6,IF((COUNTIF('Build Your Schedule'!AB$8:AB$11,$B$6)+COUNTIF('Build Your Schedule'!AC$5,$B$6))>0,1,0),0)","v":0},{"$f":"IF('Build Your Schedule'!AD$6=$B$6,IF((COUNTIF('Build Your Schedule'!AC$8:AC$11,$B$6)+COUNTIF('Build Your Schedule'!AD$5,$B$6))>0,1,0),0)","v":0},{"$f":"IF('Build Your Schedule'!AE$6=$B$6,IF((COUNTIF('Build Your Schedule'!AD$8:AD$11,$B$6)+COUNTIF('Build Your Schedule'!AE$5,$B$6))>0,1,0),0)","v":0},{"$f":"IF('Build Your Schedule'!AF$6=$B$6,IF((COUNTIF('Build Your Schedule'!AE$8:AE$11,$B$6)+COUNTIF('Build Your Schedule'!AF$5,$B$6))>0,1,0),0)","v":0},{"$f":"IF('Build Your Schedule'!AG$6=$B$6,IF((COUNTIF('Build Your Schedule'!AF$8:AF$11,$B$6)+COUNTIF('Build Your Schedule'!AG$5,$B$6))>0,1,0),0)","v":0},{"$f":"IF('Build Your Schedule'!AH$6=$B$6,IF((COUNTIF('Build Your Schedule'!AG$8:AG$11,$B$6)+COUNTIF('Build Your Schedule'!AH$5,$B$6))>0,1,0),0)","v":0},{"$f":"IF('Build Your Schedule'!AI$6=$B$6,IF((COUNTIF('Build Your Schedule'!AH$8:AH$11,$B$6)+COUNTIF('Build Your Schedule'!AI$5,$B$6))>0,1,0),0)","v":0},{"$f":"IF('Build Your Schedule'!AJ$6=$B$6,IF((COUNTIF('Build Your Schedule'!AI$8:AI$11,$B$6)+COUNTIF('Build Your Schedule'!AJ$5,$B$6))>0,1,0),0)","v":0},{"$f":"IF('Build Your Schedule'!AK$6=$B$6,IF((COUNTIF('Build Your Schedule'!AJ$8:AJ$11,$B$6)+COUNTIF('Build Your Schedule'!AK$5,$B$6))>0,1,0),0)","v":0}]
[null,"12p-9p",{"$f":"IF('Build Your Schedule'!H$7=$B$6,IF((COUNTIF('Build Your Schedule'!G$10:G$11,$B$6)+COUNTIF('Build Your Schedule'!H$5:H$6,$B$6))>0,1,0),0)","v":0},{"$f":"IF('Build Your Schedule'!I$7=$B$6,IF((COUNTIF('Build Your Schedule'!H$10:H$11,$B$6)+COUNTIF('Build Your Schedule'!I$5:I$6,$B$6))>0,1,0),0)","v":0},{"$f":"IF('Build Your Schedule'!J$7=$B$6,IF((COUNTIF('Build Your Schedule'!I$10:I$11,$B$6)+COUNTIF('Build Your Schedule'!J$5:J$6,$B$6))>0,1,0),0)","v":0},{"$f":"IF('Build Your Schedule'!K$7=$B$6,IF((COUNTIF('Build Your Schedule'!J$10:J$11,$B$6)+COUNTIF('Build Your Schedule'!K$5:K$6,$B$6))>0,1,0),0)","v":0},{"$f":"IF('Build Your Schedule'!L$7=$B$6,IF((COUNTIF('Build Your Schedule'!K$10:K$11,$B$6)+COUNTIF('Build Your Schedule'!L$5:L$6,$B$6))>0,1,0),0)","v":0},{"$f":"IF('Build Your Schedule'!M$7=$B$6,IF((COUNTIF('Build Your Schedule'!L$10:L$11,$B$6)+COUNTIF('Build Your Schedule'!M$5:M$6,$B$6))>0,1,0),0)","v":0},{"$f":"IF('Build Your Schedule'!N$7=$B$6,IF((COUNTIF('Build Your Schedule'!M$10:M$11,$B$6)+COUNTIF('Build Your Schedule'!N$5:N$6,$B$6))>0,1,0),0)","v":0},{"$f":"IF('Build Your Schedule'!O$7=$B$6,IF((COUNTIF('Build Your Schedule'!N$10:N$11,$B$6)+COUNTIF('Build Your Schedule'!O$5:O$6,$B$6))>0,1,0),0)","v":0},{"$f":"IF('Build Your Schedule'!P$7=$B$6,IF((COUNTIF('Build Your Schedule'!O$10:O$11,$B$6)+COUNTIF('Build Your Schedule'!P$5:P$6,$B$6))>0,1,0),0)","v":0},{"$f":"IF('Build Your Schedule'!Q$7=$B$6,IF((COUNTIF('Build Your Schedule'!P$10:P$11,$B$6)+COUNTIF('Build Your Schedule'!Q$5:Q$6,$B$6))>0,1,0),0)","v":0},{"$f":"IF('Build Your Schedule'!R$7=$B$6,IF((COUNTIF('Build Your Schedule'!Q$10:Q$11,$B$6)+COUNTIF('Build Your Schedule'!R$5:R$6,$B$6))>0,1,0),0)","v":0},{"$f":"IF('Build Your Schedule'!S$7=$B$6,IF((COUNTIF('Build Your Schedule'!R$10:R$11,$B$6)+COUNTIF('Build Your Schedule'!S$5:S$6,$B$6))>0,1,0),0)","v":0},{"$f":"IF('Build Your Schedule'!T$7=$B$6,IF((COUNTIF('Build Your Schedule'!S$10:S$11,$B$6)+COUNTIF('Build Your Schedule'!T$5:T$6,$B$6))>0,1,0),0)","v":0},{"$f":"IF('Build Your Schedule'!U$7=$B$6,IF((COUNTIF('Build Your Schedule'!T$10:T$11,$B$6)+COUNTIF('Build Your Schedule'!U$5:U$6,$B$6))>0,1,0),0)","v":0},{"$f":"IF('Build Your Schedule'!V$7=$B$6,IF((COUNTIF('Build Your Schedule'!U$10:U$11,$B$6)+COUNTIF('Build Your Schedule'!V$5:V$6,$B$6))>0,1,0),0)","v":0},{"$f":"IF('Build Your Schedule'!W$7=$B$6,IF((COUNTIF('Build Your Schedule'!V$10:V$11,$B$6)+COUNTIF('Build Your Schedule'!W$5:W$6,$B$6))>0,1,0),0)","v":0},{"$f":"IF('Build Your Schedule'!X$7=$B$6,IF((COUNTIF('Build Your Schedule'!W$10:W$11,$B$6)+COUNTIF('Build Your Schedule'!X$5:X$6,$B$6))>0,1,0),0)","v":0},{"$f":"IF('Build Your Schedule'!Y$7=$B$6,IF((COUNTIF('Build Your Schedule'!X$10:X$11,$B$6)+COUNTIF('Build Your Schedule'!Y$5:Y$6,$B$6))>0,1,0),0)","v":0},{"$f":"IF('Build Your Schedule'!Z$7=$B$6,IF((COUNTIF('Build Your Schedule'!Y$10:Y$11,$B$6)+COUNTIF('Build Your Schedule'!Z$5:Z$6,$B$6))>0,1,0),0)","v":0},{"$f":"IF('Build Your Schedule'!AA$7=$B$6,IF((COUNTIF('Build Your Schedule'!Z$10:Z$11,$B$6)+COUNTIF('Build Your Schedule'!AA$5:AA$6,$B$6))>0,1,0),0)","v":0},{"$f":"IF('Build Your Schedule'!AB$7=$B$6,IF((COUNTIF('Build Your Schedule'!AA$10:AA$11,$B$6)+COUNTIF('Build Your Schedule'!AB$5:AB$6,$B$6))>0,1,0),0)","v":0},{"$f":"IF('Build Your Schedule'!AC$7=$B$6,IF((COUNTIF('Build Your Schedule'!AB$10:AB$11,$B$6)+COUNTIF('Build Your Schedule'!AC$5:AC$6,$B$6))>0,1,0),0)","v":0},{"$f":"IF('Build Your Schedule'!AD$7=$B$6,IF((COUNTIF('Build Your Schedule'!AC$10:AC$11,$B$6)+COUNTIF('Build Your Schedule'!AD$5:AD$6,$B$6))>0,1,0),0)","v":0},{"$f":"IF('Build Your Schedule'!AE$7=$B$6,IF((COUNTIF('Build Your Schedule'!AD$10:AD$11,$B$6)+COUNTIF('Build Your Schedule'!AE$5:AE$6,$B$6))>0,1,0),0)","v":0},{"$f":"IF('Build Your Schedule'!AF$7=$B$6,IF((COUNTIF('Build Your Schedule'!AE$10:AE$11,$B$6)+COUNTIF('Build Your Schedule'!AF$5:AF$6,$B$6))>0,1,0),0)","v":0},{"$f":"IF('Build Your Schedule'!AG$7=$B$6,IF((COUNTIF('Build Your Schedule'!AF$10:AF$11,$B$6)+COUNTIF('Build Your Schedule'!AG$5:AG$6,$B$6))>0,1,0),0)","v":0},{"$f":"IF('Build Your Schedule'!AH$7=$B$6,IF((COUNTIF('Build Your Schedule'!AG$10:AG$11,$B$6)+COUNTIF('Build Your Schedule'!AH$5:AH$6,$B$6))>0,1,0),0)","v":0},{"$f":"IF('Build Your Schedule'!AI$7=$B$6,IF((COUNTIF('Build Your Schedule'!AH$10:AH$11,$B$6)+COUNTIF('Build Your Schedule'!AI$5:AI$6,$B$6))>0,1,0),0)","v":0},{"$f":"IF('Build Your Schedule'!AJ$7=$B$6,IF((COUNTIF('Build Your Schedule'!AI$10:AI$11,$B$6)+COUNTIF('Build Your Schedule'!AJ$5:AJ$6,$B$6))>0,1,0),0)","v":0},{"$f":"IF('Build Your Schedule'!AK$7=$B$6,IF((COUNTIF('Build Your Schedule'!AJ$10:AJ$11,$B$6)+COUNTIF('Build Your Schedule'!AK$5:AK$6,$B$6))>0,1,0),0)","v":0}]
[null,"4p-1a",{"$f":"IF('Build Your Schedule'!H$8=$B$6,IF((COUNTIF('Build Your Schedule'!G$11,$B$6)+COUNTIF('Build Your Schedule'!H$5:H$7,$B$6))>0,1,0),0)","v":0},{"$f":"IF('Build Your Schedule'!I$8=$B$6,IF((COUNTIF('Build Your Schedule'!H$11,$B$6)+COUNTIF('Build Your Schedule'!I$5:I$7,$B$6))>0,1,0),0)","v":0},{"$f":"IF('Build Your Schedule'!J$8=$B$6,IF((COUNTIF('Build Your Schedule'!I$11,$B$6)+COUNTIF('Build Your Schedule'!J$5:J$7,$B$6))>0,1,0),0)","v":0},{"$f":"IF('Build Your Schedule'!K$8=$B$6,IF((COUNTIF('Build Your Schedule'!J$11,$B$6)+COUNTIF('Build Your Schedule'!K$5:K$7,$B$6))>0,1,0),0)","v":0},{"$f":"IF('Build Your Schedule'!L$8=$B$6,IF((COUNTIF('Build Your Schedule'!K$11,$B$6)+COUNTIF('Build Your Schedule'!L$5:L$7,$B$6))>0,1,0),0)","v":0},{"$f":"IF('Build Your Schedule'!M$8=$B$6,IF((COUNTIF('Build Your Schedule'!L$11,$B$6)+COUNTIF('Build Your Schedule'!M$5:M$7,$B$6))>0,1,0),0)","v":0},{"$f":"IF('Build Your Schedule'!N$8=$B$6,IF((COUNTIF('Build Your Schedule'!M$11,$B$6)+COUNTIF('Build Your Schedule'!N$5:N$7,$B$6))>0,1,0),0)","v":0},{"$f":"IF('Build Your Schedule'!O$8=$B$6,IF((COUNTIF('Build Your Schedule'!N$11,$B$6)+COUNTIF('Build Your Schedule'!O$5:O$7,$B$6))>0,1,0),0)","v":0},{"$f":"IF('Build Your Schedule'!P$8=$B$6,IF((COUNTIF('Build Your Schedule'!O$11,$B$6)+COUNTIF('Build Your Schedule'!P$5:P$7,$B$6))>0,1,0),0)","v":0},{"$f":"IF('Build Your Schedule'!Q$8=$B$6,IF((COUNTIF('Build Your Schedule'!P$11,$B$6)+COUNTIF('Build Your Schedule'!Q$5:Q$7,$B$6))>0,1,0),0)","v":0},{"$f":"IF('Build Your Schedule'!R$8=$B$6,IF((COUNTIF('Build Your Schedule'!Q$11,$B$6)+COUNTIF('Build Your Schedule'!R$5:R$7,$B$6))>0,1,0),0)","v":0},{"$f":"IF('Build Your Schedule'!S$8=$B$6,IF((COUNTIF('Build Your Schedule'!R$11,$B$6)+COUNTIF('Build Your Schedule'!S$5:S$7,$B$6))>0,1,0),0)","v":0},{"$f":"IF('Build Your Schedule'!T$8=$B$6,IF((COUNTIF('Build Your Schedule'!S$11,$B$6)+COUNTIF('Build Your Schedule'!T$5:T$7,$B$6))>0,1,0),0)","v":0},{"$f":"IF('Build Your Schedule'!U$8=$B$6,IF((COUNTIF('Build Your Schedule'!T$11,$B$6)+COUNTIF('Build Your Schedule'!U$5:U$7,$B$6))>0,1,0),0)","v":0},{"$f":"IF('Build Your Schedule'!V$8=$B$6,IF((COUNTIF('Build Your Schedule'!U$11,$B$6)+COUNTIF('Build Your Schedule'!V$5:V$7,$B$6))>0,1,0),0)","v":0},{"$f":"IF('Build Your Schedule'!W$8=$B$6,IF((COUNTIF('Build Your Schedule'!V$11,$B$6)+COUNTIF('Build Your Schedule'!W$5:W$7,$B$6))>0,1,0),0)","v":0},{"$f":"IF('Build Your Schedule'!X$8=$B$6,IF((COUNTIF('Build Your Schedule'!W$11,$B$6)+COUNTIF('Build Your Schedule'!X$5:X$7,$B$6))>0,1,0),0)","v":0},{"$f":"IF('Build Your Schedule'!Y$8=$B$6,IF((COUNTIF('Build Your Schedule'!X$11,$B$6)+COUNTIF('Build Your Schedule'!Y$5:Y$7,$B$6))>0,1,0),0)","v":0},{"$f":"IF('Build Your Schedule'!Z$8=$B$6,IF((COUNTIF('Build Your Schedule'!Y$11,$B$6)+COUNTIF('Build Your Schedule'!Z$5:Z$7,$B$6))>0,1,0),0)","v":0},{"$f":"IF('Build Your Schedule'!AA$8=$B$6,IF((COUNTIF('Build Your Schedule'!Z$11,$B$6)+COUNTIF('Build Your Schedule'!AA$5:AA$7,$B$6))>0,1,0),0)","v":0},{"$f":"IF('Build Your Schedule'!AB$8=$B$6,IF((COUNTIF('Build Your Schedule'!AA$11,$B$6)+COUNTIF('Build Your Schedule'!AB$5:AB$7,$B$6))>0,1,0),0)","v":0},{"$f":"IF('Build Your Schedule'!AC$8=$B$6,IF((COUNTIF('Build Your Schedule'!AB$11,$B$6)+COUNTIF('Build Your Schedule'!AC$5:AC$7,$B$6))>0,1,0),0)","v":0},{"$f":"IF('Build Your Schedule'!AD$8=$B$6,IF((COUNTIF('Build Your Schedule'!AC$11,$B$6)+COUNTIF('Build Your Schedule'!AD$5:AD$7,$B$6))>0,1,0),0)","v":0},{"$f":"IF('Build Your Schedule'!AE$8=$B$6,IF((COUNTIF('Build Your Schedule'!AD$11,$B$6)+COUNTIF('Build Your Schedule'!AE$5:AE$7,$B$6))>0,1,0),0)","v":0},{"$f":"IF('Build Your Schedule'!AF$8=$B$6,IF((COUNTIF('Build Your Schedule'!AE$11,$B$6)+COUNTIF('Build Your Schedule'!AF$5:AF$7,$B$6))>0,1,0),0)","v":0},{"$f":"IF('Build Your Schedule'!AG$8=$B$6,IF((COUNTIF('Build Your Schedule'!AF$11,$B$6)+COUNTIF('Build Your Schedule'!AG$5:AG$7,$B$6))>0,1,0),0)","v":0},{"$f":"IF('Build Your Schedule'!AH$8=$B$6,IF((COUNTIF('Build Your Schedule'!AG$11,$B$6)+COUNTIF('Build Your Schedule'!AH$5:AH$7,$B$6))>0,1,0),0)","v":0},{"$f":"IF('Build Your Schedule'!AI$8=$B$6,IF((COUNTIF('Build Your Schedule'!AH$11,$B$6)+COUNTIF('Build Your Schedule'!AI$5:AI$7,$B$6))>0,1,0),0)","v":0},{"$f":"IF('Build Your Schedule'!AJ$8=$B$6,IF((COUNTIF('Build Your Schedule'!AI$11,$B$6)+COUNTIF('Build Your Schedule'!AJ$5:AJ$7,$B$6))>0,1,0),0)","v":0},{"$f":"IF('Build Your Schedule'!AK$8=$B$6,IF((COUNTIF('Build Your Schedule'!AJ$11,$B$6)+COUNTIF('Build Your Schedule'!AK$5:AK$7,$B$6))>0,1,0),0)","v":0}]
[null,"5p-2a",{"$f":"IF('Build Your Schedule'!H$9=$B$6,IF((COUNTIF('Build Your Schedule'!G$11,$B$6)+COUNTIF('Build Your Schedule'!H$5:H$8,$B$6))>0,1,0),0)","v":0},{"$f":"IF('Build Your Schedule'!I$9=$B$6,IF((COUNTIF('Build Your Schedule'!H$11,$B$6)+COUNTIF('Build Your Schedule'!I$5:I$8,$B$6))>0,1,0),0)","v":0},{"$f":"IF('Build Your Schedule'!J$9=$B$6,IF((COUNTIF('Build Your Schedule'!I$11,$B$6)+COUNTIF('Build Your Schedule'!J$5:J$8,$B$6))>0,1,0),0)","v":0},{"$f":"IF('Build Your Schedule'!K$9=$B$6,IF((COUNTIF('Build Your Schedule'!J$11,$B$6)+COUNTIF('Build Your Schedule'!K$5:K$8,$B$6))>0,1,0),0)","v":0},{"$f":"IF('Build Your Schedule'!L$9=$B$6,IF((COUNTIF('Build Your Schedule'!K$11,$B$6)+COUNTIF('Build Your Schedule'!L$5:L$8,$B$6))>0,1,0),0)","v":0},{"$f":"IF('Build Your Schedule'!M$9=$B$6,IF((COUNTIF('Build Your Schedule'!L$11,$B$6)+COUNTIF('Build Your Schedule'!M$5:M$8,$B$6))>0,1,0),0)","v":0},{"$f":"IF('Build Your Schedule'!N$9=$B$6,IF((COUNTIF('Build Your Schedule'!M$11,$B$6)+COUNTIF('Build Your Schedule'!N$5:N$8,$B$6))>0,1,0),0)","v":0},{"$f":"IF('Build Your Schedule'!O$9=$B$6,IF((COUNTIF('Build Your Schedule'!N$11,$B$6)+COUNTIF('Build Your Schedule'!O$5:O$8,$B$6))>0,1,0),0)","v":0},{"$f":"IF('Build Your Schedule'!P$9=$B$6,IF((COUNTIF('Build Your Schedule'!O$11,$B$6)+COUNTIF('Build Your Schedule'!P$5:P$8,$B$6))>0,1,0),0)","v":0},{"$f":"IF('Build Your Schedule'!Q$9=$B$6,IF((COUNTIF('Build Your Schedule'!P$11,$B$6)+COUNTIF('Build Your Schedule'!Q$5:Q$8,$B$6))>0,1,0),0)","v":0},{"$f":"IF('Build Your Schedule'!R$9=$B$6,IF((COUNTIF('Build Your Schedule'!Q$11,$B$6)+COUNTIF('Build Your Schedule'!R$5:R$8,$B$6))>0,1,0),0)","v":0},{"$f":"IF('Build Your Schedule'!S$9=$B$6,IF((COUNTIF('Build Your Schedule'!R$11,$B$6)+COUNTIF('Build Your Schedule'!S$5:S$8,$B$6))>0,1,0),0)","v":0},{"$f":"IF('Build Your Schedule'!T$9=$B$6,IF((COUNTIF('Build Your Schedule'!S$11,$B$6)+COUNTIF('Build Your Schedule'!T$5:T$8,$B$6))>0,1,0),0)","v":0},{"$f":"IF('Build Your Schedule'!U$9=$B$6,IF((COUNTIF('Build Your Schedule'!T$11,$B$6)+COUNTIF('Build Your Schedule'!U$5:U$8,$B$6))>0,1,0),0)","v":0},{"$f":"IF('Build Your Schedule'!V$9=$B$6,IF((COUNTIF('Build Your Schedule'!U$11,$B$6)+COUNTIF('Build Your Schedule'!V$5:V$8,$B$6))>0,1,0),0)","v":0},{"$f":"IF('Build Your Schedule'!W$9=$B$6,IF((COUNTIF('Build Your Schedule'!V$11,$B$6)+COUNTIF('Build Your Schedule'!W$5:W$8,$B$6))>0,1,0),0)","v":0},{"$f":"IF('Build Your Schedule'!X$9=$B$6,IF((COUNTIF('Build Your Schedule'!W$11,$B$6)+COUNTIF('Build Your Schedule'!X$5:X$8,$B$6))>0,1,0),0)","v":0},{"$f":"IF('Build Your Schedule'!Y$9=$B$6,IF((COUNTIF('Build Your Schedule'!X$11,$B$6)+COUNTIF('Build Your Schedule'!Y$5:Y$8,$B$6))>0,1,0),0)","v":0},{"$f":"IF('Build Your Schedule'!Z$9=$B$6,IF((COUNTIF('Build Your Schedule'!Y$11,$B$6)+COUNTIF('Build Your Schedule'!Z$5:Z$8,$B$6))>0,1,0),0)","v":0},{"$f":"IF('Build Your Schedule'!AA$9=$B$6,IF((COUNTIF('Build Your Schedule'!Z$11,$B$6)+COUNTIF('Build Your Schedule'!AA$5:AA$8,$B$6))>0,1,0),0)","v":0},{"$f":"IF('Build Your Schedule'!AB$9=$B$6,IF((COUNTIF('Build Your Schedule'!AA$11,$B$6)+COUNTIF('Build Your Schedule'!AB$5:AB$8,$B$6))>0,1,0),0)","v":0},{"$f":"IF('Build Your Schedule'!AC$9=$B$6,IF((COUNTIF('Build Your Schedule'!AB$11,$B$6)+COUNTIF('Build Your Schedule'!AC$5:AC$8,$B$6))>0,1,0),0)","v":0},{"$f":"IF('Build Your Schedule'!AD$9=$B$6,IF((COUNTIF('Build Your Schedule'!AC$11,$B$6)+COUNTIF('Build Your Schedule'!AD$5:AD$8,$B$6))>0,1,0),0)","v":0},{"$f":"IF('Build Your Schedule'!AE$9=$B$6,IF((COUNTIF('Build Your Schedule'!AD$11,$B$6)+COUNTIF('Build Your Schedule'!AE$5:AE$8,$B$6))>0,1,0),0)","v":0},{"$f":"IF('Build Your Schedule'!AF$9=$B$6,IF((COUNTIF('Build Your Schedule'!AE$11,$B$6)+COUNTIF('Build Your Schedule'!AF$5:AF$8,$B$6))>0,1,0),0)","v":0},{"$f":"IF('Build Your Schedule'!AG$9=$B$6,IF((COUNTIF('Build Your Schedule'!AF$11,$B$6)+COUNTIF('Build Your Schedule'!AG$5:AG$8,$B$6))>0,1,0),0)","v":0},{"$f":"IF('Build Your Schedule'!AH$9=$B$6,IF((COUNTIF('Build Your Schedule'!AG$11,$B$6)+COUNTIF('Build Your Schedule'!AH$5:AH$8,$B$6))>0,1,0),0)","v":0},{"$f":"IF('Build Your Schedule'!AI$9=$B$6,IF((COUNTIF('Build Your Schedule'!AH$11,$B$6)+COUNTIF('Build Your Schedule'!AI$5:AI$8,$B$6))>0,1,0),0)","v":0},{"$f":"IF('Build Your Schedule'!AJ$9=$B$6,IF((COUNTIF('Build Your Schedule'!AI$11,$B$6)+COUNTIF('Build Your Schedule'!AJ$5:AJ$8,$B$6))>0,1,0),0)","v":0},{"$f":"IF('Build Your Schedule'!AK$9=$B$6,IF((COUNTIF('Build Your Schedule'!AJ$11,$B$6)+COUNTIF('Build Your Schedule'!AK$5:AK$8,$B$6))>0,1,0),0)","v":0}]
[null,"8p-5a",{"$f":"IF('Build Your Schedule'!H$10=$B$6,IF(COUNTIF('Build Your Schedule'!H$5:H$9,$B$6)>0,1,0),0)","v":0},{"$f":"IF('Build Your Schedule'!I$10=$B$6,IF(COUNTIF('Build Your Schedule'!I$5:I$9,$B$6)>0,1,0),0)","v":0},{"$f":"IF('Build Your Schedule'!J$10=$B$6,IF(COUNTIF('Build Your Schedule'!J$5:J$9,$B$6)>0,1,0),0)","v":0},{"$f":"IF('Build Your Schedule'!K$10=$B$6,IF(COUNTIF('Build Your Schedule'!K$5:K$9,$B$6)>0,1,0),0)","v":0},{"$f":"IF('Build Your Schedule'!L$10=$B$6,IF(COUNTIF('Build Your Schedule'!L$5:L$9,$B$6)>0,1,0),0)","v":0},{"$f":"IF('Build Your Schedule'!M$10=$B$6,IF(COUNTIF('Build Your Schedule'!M$5:M$9,$B$6)>0,1,0),0)","v":0},{"$f":"IF('Build Your Schedule'!N$10=$B$6,IF(COUNTIF('Build Your Schedule'!N$5:N$9,$B$6)>0,1,0),0)","v":0},{"$f":"IF('Build Your Schedule'!O$10=$B$6,IF(COUNTIF('Build Your Schedule'!O$5:O$9,$B$6)>0,1,0),0)","v":0},{"$f":"IF('Build Your Schedule'!P$10=$B$6,IF(COUNTIF('Build Your Schedule'!P$5:P$9,$B$6)>0,1,0),0)","v":0},{"$f":"IF('Build Your Schedule'!Q$10=$B$6,IF(COUNTIF('Build Your Schedule'!Q$5:Q$9,$B$6)>0,1,0),0)","v":0},{"$f":"IF('Build Your Schedule'!R$10=$B$6,IF(COUNTIF('Build Your Schedule'!R$5:R$9,$B$6)>0,1,0),0)","v":0},{"$f":"IF('Build Your Schedule'!S$10=$B$6,IF(COUNTIF('Build Your Schedule'!S$5:S$9,$B$6)>0,1,0),0)","v":0},{"$f":"IF('Build Your Schedule'!T$10=$B$6,IF(COUNTIF('Build Your Schedule'!T$5:T$9,$B$6)>0,1,0),0)","v":0},{"$f":"IF('Build Your Schedule'!U$10=$B$6,IF(COUNTIF('Build Your Schedule'!U$5:U$9,$B$6)>0,1,0),0)","v":0},{"$f":"IF('Build Your Schedule'!V$10=$B$6,IF(COUNTIF('Build Your Schedule'!V$5:V$9,$B$6)>0,1,0),0)","v":0},{"$f":"IF('Build Your Schedule'!W$10=$B$6,IF(COUNTIF('Build Your Schedule'!W$5:W$9,$B$6)>0,1,0),0)","v":0},{"$f":"IF('Build Your Schedule'!X$10=$B$6,IF(COUNTIF('Build Your Schedule'!X$5:X$9,$B$6)>0,1,0),0)","v":0},{"$f":"IF('Build Your Schedule'!Y$10=$B$6,IF(COUNTIF('Build Your Schedule'!Y$5:Y$9,$B$6)>0,1,0),0)","v":0},{"$f":"IF('Build Your Schedule'!Z$10=$B$6,IF(COUNTIF('Build Your Schedule'!Z$5:Z$9,$B$6)>0,1,0),0)","v":0},{"$f":"IF('Build Your Schedule'!AA$10=$B$6,IF(COUNTIF('Build Your Schedule'!AA$5:AA$9,$B$6)>0,1,0),0)","v":0},{"$f":"IF('Build Your Schedule'!AB$10=$B$6,IF(COUNTIF('Build Your Schedule'!AB$5:AB$9,$B$6)>0,1,0),0)","v":0},{"$f":"IF('Build Your Schedule'!AC$10=$B$6,IF(COUNTIF('Build Your Schedule'!AC$5:AC$9,$B$6)>0,1,0),0)","v":0},{"$f":"IF('Build Your Schedule'!AD$10=$B$6,IF(COUNTIF('Build Your Schedule'!AD$5:AD$9,$B$6)>0,1,0),0)","v":0},{"$f":"IF('Build Your Schedule'!AE$10=$B$6,IF(COUNTIF('Build Your Schedule'!AE$5:AE$9,$B$6)>0,1,0),0)","v":0},{"$f":"IF('Build Your Schedule'!AF$10=$B$6,IF(COUNTIF('Build Your Schedule'!AF$5:AF$9,$B$6)>0,1,0),0)","v":0},{"$f":"IF('Build Your Schedule'!AG$10=$B$6,IF(COUNTIF('Build Your Schedule'!AG$5:AG$9,$B$6)>0,1,0),0)","v":0},{"$f":"IF('Build Your Schedule'!AH$10=$B$6,IF(COUNTIF('Build Your Schedule'!AH$5:AH$9,$B$6)>0,1,0),0)","v":0},{"$f":"IF('Build Your Schedule'!AI$10=$B$6,IF(COUNTIF('Build Your Schedule'!AI$5:AI$9,$B$6)>0,1,0),0)","v":0},{"$f":"IF('Build Your Schedule'!AJ$10=$B$6,IF(COUNTIF('Build Your Schedule'!AJ$5:AJ$9,$B$6)>0,1,0),0)","v":0},{"$f":"IF('Build Your Schedule'!AK$10=$B$6,IF(COUNTIF('Build Your Schedule'!AK$5:AK$9,$B$6)>0,1,0),0)","v":0}]
[null,"11p-8a",{"$f":"IF('Build Your Schedule'!H$11=$B$6,IF(COUNTIF('Build Your Schedule'!H$5:H$10,$B$6)>0,1,0),0)","v":0},{"$f":"IF('Build Your Schedule'!I$11=$B$6,IF(COUNTIF('Build Your Schedule'!I$5:I$10,$B$6)>0,1,0),0)","v":0},{"$f":"IF('Build Your Schedule'!J$11=$B$6,IF(COUNTIF('Build Your Schedule'!J$5:J$10,$B$6)>0,1,0),0)","v":0},{"$f":"IF('Build Your Schedule'!K$11=$B$6,IF(COUNTIF('Build Your Schedule'!K$5:K$10,$B$6)>0,1,0),0)","v":0},{"$f":"IF('Build Your Schedule'!L$11=$B$6,IF(COUNTIF('Build Your Schedule'!L$5:L$10,$B$6)>0,1,0),0)","v":0},{"$f":"IF('Build Your Schedule'!M$11=$B$6,IF(COUNTIF('Build Your Schedule'!M$5:M$10,$B$6)>0,1,0),0)","v":0},{"$f":"IF('Build Your Schedule'!N$11=$B$6,IF(COUNTIF('Build Your Schedule'!N$5:N$10,$B$6)>0,1,0),0)","v":0},{"$f":"IF('Build Your Schedule'!O$11=$B$6,IF(COUNTIF('Build Your Schedule'!O$5:O$10,$B$6)>0,1,0),0)","v":0},{"$f":"IF('Build Your Schedule'!P$11=$B$6,IF(COUNTIF('Build Your Schedule'!P$5:P$10,$B$6)>0,1,0),0)","v":0},{"$f":"IF('Build Your Schedule'!Q$11=$B$6,IF(COUNTIF('Build Your Schedule'!Q$5:Q$10,$B$6)>0,1,0),0)","v":0},{"$f":"IF('Build Your Schedule'!R$11=$B$6,IF(COUNTIF('Build Your Schedule'!R$5:R$10,$B$6)>0,1,0),0)","v":0},{"$f":"IF('Build Your Schedule'!S$11=$B$6,IF(COUNTIF('Build Your Schedule'!S$5:S$10,$B$6)>0,1,0),0)","v":0},{"$f":"IF('Build Your Schedule'!T$11=$B$6,IF(COUNTIF('Build Your Schedule'!T$5:T$10,$B$6)>0,1,0),0)","v":0},{"$f":"IF('Build Your Schedule'!U$11=$B$6,IF(COUNTIF('Build Your Schedule'!U$5:U$10,$B$6)>0,1,0),0)","v":0},{"$f":"IF('Build Your Schedule'!V$11=$B$6,IF(COUNTIF('Build Your Schedule'!V$5:V$10,$B$6)>0,1,0),0)","v":0},{"$f":"IF('Build Your Schedule'!W$11=$B$6,IF(COUNTIF('Build Your Schedule'!W$5:W$10,$B$6)>0,1,0),0)","v":0},{"$f":"IF('Build Your Schedule'!X$11=$B$6,IF(COUNTIF('Build Your Schedule'!X$5:X$10,$B$6)>0,1,0),0)","v":0},{"$f":"IF('Build Your Schedule'!Y$11=$B$6,IF(COUNTIF('Build Your Schedule'!Y$5:Y$10,$B$6)>0,1,0),0)","v":0},{"$f":"IF('Build Your Schedule'!Z$11=$B$6,IF(COUNTIF('Build Your Schedule'!Z$5:Z$10,$B$6)>0,1,0),0)","v":0},{"$f":"IF('Build Your Schedule'!AA$11=$B$6,IF(COUNTIF('Build Your Schedule'!AA$5:AA$10,$B$6)>0,1,0),0)","v":0},{"$f":"IF('Build Your Schedule'!AB$11=$B$6,IF(COUNTIF('Build Your Schedule'!AB$5:AB$10,$B$6)>0,1,0),0)","v":0},{"$f":"IF('Build Your Schedule'!AC$11=$B$6,IF(COUNTIF('Build Your Schedule'!AC$5:AC$10,$B$6)>0,1,0),0)","v":0},{"$f":"IF('Build Your Schedule'!AD$11=$B$6,IF(COUNTIF('Build Your Schedule'!AD$5:AD$10,$B$6)>0,1,0),0)","v":0},{"$f":"IF('Build Your Schedule'!AE$11=$B$6,IF(COUNTIF('Build Your Schedule'!AE$5:AE$10,$B$6)>0,1,0),0)","v":0},{"$f":"IF('Build Your Schedule'!AF$11=$B$6,IF(COUNTIF('Build Your Schedule'!AF$5:AF$10,$B$6)>0,1,0),0)","v":0},{"$f":"IF('Build Your Schedule'!AG$11=$B$6,IF(COUNTIF('Build Your Schedule'!AG$5:AG$10,$B$6)>0,1,0),0)","v":0},{"$f":"IF('Build Your Schedule'!AH$11=$B$6,IF(COUNTIF('Build Your Schedule'!AH$5:AH$10,$B$6)>0,1,0),0)","v":0},{"$f":"IF('Build Your Schedule'!AI$11=$B$6,IF(COUNTIF('Build Your Schedule'!AI$5:AI$10,$B$6)>0,1,0),0)","v":0},{"$f":"IF('Build Your Schedule'!AJ$11=$B$6,IF(COUNTIF('Build Your Schedule'!AJ$5:AJ$10,$B$6)>0,1,0),0)","v":0},{"$f":"IF('Build Your Schedule'!AK$11=$B$6,IF(COUNTIF('Build Your Schedule'!AK$5:AK$10,$B$6)>0,1,0),0)","v":0}]
[]
[null,{"$f":"B7","v":"Elder"},"2015-06-01","2015-06-02","2015-06-03","2015-06-04","2015-06-05","2015-06-06","2015-06-07","2015-06-08","2015-06-09","2015-06-10","2015-06-11","2015-06-12","2015-06-13","2015-06-14","2015-06-15","2015-06-16","2015-06-17","2015-06-18","2015-06-19","2015-06-20","2015-06-21","2015-06-22","2015-06-23","2015-06-24","2015-06-25","2015-06-26","2015-06-27","2015-06-28","2015-06-29","2015-06-30"]
[null,"7a-4p",{"$f":"IF('Build Your Schedule'!H$5=$B$7,IF(COUNTIF('Build Your Schedule'!G$8:G$11,$B$7)>0,1,0),0)","v":0},{"$f":"IF('Build Your Schedule'!I$5=$B$7,IF(COUNTIF('Build Your Schedule'!H$8:H$11,$B$7)>0,1,0),0)","v":0},{"$f":"IF('Build Your Schedule'!J$5=$B$7,IF(COUNTIF('Build Your Schedule'!I$8:I$11,$B$7)>0,1,0),0)","v":0},{"$f":"IF('Build Your Schedule'!K$5=$B$7,IF(COUNTIF('Build Your Schedule'!J$8:J$11,$B$7)>0,1,0),0)","v":0},{"$f":"IF('Build Your Schedule'!L$5=$B$7,IF(COUNTIF('Build Your Schedule'!K$8:K$11,$B$7)>0,1,0),0)","v":0},{"$f":"IF('Build Your Schedule'!M$5=$B$7,IF(COUNTIF('Build Your Schedule'!L$8:L$11,$B$7)>0,1,0),0)","v":0},{"$f":"IF('Build Your Schedule'!N$5=$B$7,IF(COUNTIF('Build Your Schedule'!M$8:M$11,$B$7)>0,1,0),0)","v":0},{"$f":"IF('Build Your Schedule'!O$5=$B$7,IF(COUNTIF('Build Your Schedule'!N$8:N$11,$B$7)>0,1,0),0)","v":0},{"$f":"IF('Build Your Schedule'!P$5=$B$7,IF(COUNTIF('Build Your Schedule'!O$8:O$11,$B$7)>0,1,0),0)","v":0},{"$f":"IF('Build Your Schedule'!Q$5=$B$7,IF(COUNTIF('Build Your Schedule'!P$8:P$11,$B$7)>0,1,0),0)","v":0},{"$f":"IF('Build Your Schedule'!R$5=$B$7,IF(COUNTIF('Build Your Schedule'!Q$8:Q$11,$B$7)>0,1,0),0)","v":0},{"$f":"IF('Build Your Schedule'!S$5=$B$7,IF(COUNTIF('Build Your Schedule'!R$8:R$11,$B$7)>0,1,0),0)","v":0},{"$f":"IF('Build Your Schedule'!T$5=$B$7,IF(COUNTIF('Build Your Schedule'!S$8:S$11,$B$7)>0,1,0),0)","v":0},{"$f":"IF('Build Your Schedule'!U$5=$B$7,IF(COUNTIF('Build Your Schedule'!T$8:T$11,$B$7)>0,1,0),0)","v":0},{"$f":"IF('Build Your Schedule'!V$5=$B$7,IF(COUNTIF('Build Your Schedule'!U$8:U$11,$B$7)>0,1,0),0)","v":0},{"$f":"IF('Build Your Schedule'!W$5=$B$7,IF(COUNTIF('Build Your Schedule'!V$8:V$11,$B$7)>0,1,0),0)","v":0},{"$f":"IF('Build Your Schedule'!X$5=$B$7,IF(COUNTIF('Build Your Schedule'!W$8:W$11,$B$7)>0,1,0),0)","v":0},{"$f":"IF('Build Your Schedule'!Y$5=$B$7,IF(COUNTIF('Build Your Schedule'!X$8:X$11,$B$7)>0,1,0),0)","v":0},{"$f":"IF('Build Your Schedule'!Z$5=$B$7,IF(COUNTIF('Build Your Schedule'!Y$8:Y$11,$B$7)>0,1,0),0)","v":0},{"$f":"IF('Build Your Schedule'!AA$5=$B$7,IF(COUNTIF('Build Your Schedule'!Z$8:Z$11,$B$7)>0,1,0),0)","v":0},{"$f":"IF('Build Your Schedule'!AB$5=$B$7,IF(COUNTIF('Build Your Schedule'!AA$8:AA$11,$B$7)>0,1,0),0)","v":0},{"$f":"IF('Build Your Schedule'!AC$5=$B$7,IF(COUNTIF('Build Your Schedule'!AB$8:AB$11,$B$7)>0,1,0),0)","v":0},{"$f":"IF('Build Your Schedule'!AD$5=$B$7,IF(COUNTIF('Build Your Schedule'!AC$8:AC$11,$B$7)>0,1,0),0)","v":0},{"$f":"IF('Build Your Schedule'!AE$5=$B$7,IF(COUNTIF('Build Your Schedule'!AD$8:AD$11,$B$7)>0,1,0),0)","v":0},{"$f":"IF('Build Your Schedule'!AF$5=$B$7,IF(COUNTIF('Build Your Schedule'!AE$8:AE$11,$B$7)>0,1,0),0)","v":0},{"$f":"IF('Build Your Schedule'!AG$5=$B$7,IF(COUNTIF('Build Your Schedule'!AF$8:AF$11,$B$7)>0,1,0),0)","v":0},{"$f":"IF('Build Your Schedule'!AH$5=$B$7,IF(COUNTIF('Build Your Schedule'!AG$8:AG$11,$B$7)>0,1,0),0)","v":0},{"$f":"IF('Build Your Schedule'!AI$5=$B$7,IF(COUNTIF('Build Your Schedule'!AH$8:AH$11,$B$7)>0,1,0),0)","v":0},{"$f":"IF('Build Your Schedule'!AJ$5=$B$7,IF(COUNTIF('Build Your Schedule'!AI$8:AI$11,$B$7)>0,1,0),0)","v":0},{"$f":"IF('Build Your Schedule'!AK$5=$B$7,IF(COUNTIF('Build Your Schedule'!AJ$8:AJ$11,$B$7)>0,1,0),0)","v":0}]
[null,"9a-6p",{"$f":"IF('Build Your Schedule'!H$6=$B$7,IF((COUNTIF('Build Your Schedule'!G$8:G$11,$B$7)+COUNTIF('Build Your Schedule'!H$5,$B$7))>0,1,0),0)","v":0},{"$f":"IF('Build Your Schedule'!I$6=$B$7,IF((COUNTIF('Build Your Schedule'!H$8:H$11,$B$7)+COUNTIF('Build Your Schedule'!I$5,$B$7))>0,1,0),0)","v":0},{"$f":"IF('Build Your Schedule'!J$6=$B$7,IF((COUNTIF('Build Your Schedule'!I$8:I$11,$B$7)+COUNTIF('Build Your Schedule'!J$5,$B$7))>0,1,0),0)","v":0},{"$f":"IF('Build Your Schedule'!K$6=$B$7,IF((COUNTIF('Build Your Schedule'!J$8:J$11,$B$7)+COUNTIF('Build Your Schedule'!K$5,$B$7))>0,1,0),0)","v":0},{"$f":"IF('Build Your Schedule'!L$6=$B$7,IF((COUNTIF('Build Your Schedule'!K$8:K$11,$B$7)+COUNTIF('Build Your Schedule'!L$5,$B$7))>0,1,0),0)","v":0},{"$f":"IF('Build Your Schedule'!M$6=$B$7,IF((COUNTIF('Build Your Schedule'!L$8:L$11,$B$7)+COUNTIF('Build Your Schedule'!M$5,$B$7))>0,1,0),0)","v":0},{"$f":"IF('Build Your Schedule'!N$6=$B$7,IF((COUNTIF('Build Your Schedule'!M$8:M$11,$B$7)+COUNTIF('Build Your Schedule'!N$5,$B$7))>0,1,0),0)","v":0},{"$f":"IF('Build Your Schedule'!O$6=$B$7,IF((COUNTIF('Build Your Schedule'!N$8:N$11,$B$7)+COUNTIF('Build Your Schedule'!O$5,$B$7))>0,1,0),0)","v":0},{"$f":"IF('Build Your Schedule'!P$6=$B$7,IF((COUNTIF('Build Your Schedule'!O$8:O$11,$B$7)+COUNTIF('Build Your Schedule'!P$5,$B$7))>0,1,0),0)","v":0},{"$f":"IF('Build Your Schedule'!Q$6=$B$7,IF((COUNTIF('Build Your Schedule'!P$8:P$11,$B$7)+COUNTIF('Build Your Schedule'!Q$5,$B$7))>0,1,0),0)","v":0},{"$f":"IF('Build Your Schedule'!R$6=$B$7,IF((COUNTIF('Build Your Schedule'!Q$8:Q$11,$B$7)+COUNTIF('Build Your Schedule'!R$5,$B$7))>0,1,0),0)","v":0},{"$f":"IF('Build Your Schedule'!S$6=$B$7,IF((COUNTIF('Build Your Schedule'!R$8:R$11,$B$7)+COUNTIF('Build Your Schedule'!S$5,$B$7))>0,1,0),0)","v":0},{"$f":"IF('Build Your Schedule'!T$6=$B$7,IF((COUNTIF('Build Your Schedule'!S$8:S$11,$B$7)+COUNTIF('Build Your Schedule'!T$5,$B$7))>0,1,0),0)","v":0},{"$f":"IF('Build Your Schedule'!U$6=$B$7,IF((COUNTIF('Build Your Schedule'!T$8:T$11,$B$7)+COUNTIF('Build Your Schedule'!U$5,$B$7))>0,1,0),0)","v":0},{"$f":"IF('Build Your Schedule'!V$6=$B$7,IF((COUNTIF('Build Your Schedule'!U$8:U$11,$B$7)+COUNTIF('Build Your Schedule'!V$5,$B$7))>0,1,0),0)","v":0},{"$f":"IF('Build Your Schedule'!W$6=$B$7,IF((COUNTIF('Build Your Schedule'!V$8:V$11,$B$7)+COUNTIF('Build Your Schedule'!W$5,$B$7))>0,1,0),0)","v":0},{"$f":"IF('Build Your Schedule'!X$6=$B$7,IF((COUNTIF('Build Your Schedule'!W$8:W$11,$B$7)+COUNTIF('Build Your Schedule'!X$5,$B$7))>0,1,0),0)","v":0},{"$f":"IF('Build Your Schedule'!Y$6=$B$7,IF((COUNTIF('Build Your Schedule'!X$8:X$11,$B$7)+COUNTIF('Build Your Schedule'!Y$5,$B$7))>0,1,0),0)","v":0},{"$f":"IF('Build Your Schedule'!Z$6=$B$7,IF((COUNTIF('Build Your Schedule'!Y$8:Y$11,$B$7)+COUNTIF('Build Your Schedule'!Z$5,$B$7))>0,1,0),0)","v":0},{"$f":"IF('Build Your Schedule'!AA$6=$B$7,IF((COUNTIF('Build Your Schedule'!Z$8:Z$11,$B$7)+COUNTIF('Build Your Schedule'!AA$5,$B$7))>0,1,0),0)","v":0},{"$f":"IF('Build Your Schedule'!AB$6=$B$7,IF((COUNTIF('Build Your Schedule'!AA$8:AA$11,$B$7)+COUNTIF('Build Your Schedule'!AB$5,$B$7))>0,1,0),0)","v":0},{"$f":"IF('Build Your Schedule'!AC$6=$B$7,IF((COUNTIF('Build Your Schedule'!AB$8:AB$11,$B$7)+COUNTIF('Build Your Schedule'!AC$5,$B$7))>0,1,0),0)","v":0},{"$f":"IF('Build Your Schedule'!AD$6=$B$7,IF((COUNTIF('Build Your Schedule'!AC$8:AC$11,$B$7)+COUNTIF('Build Your Schedule'!AD$5,$B$7))>0,1,0),0)","v":0},{"$f":"IF('Build Your Schedule'!AE$6=$B$7,IF((COUNTIF('Build Your Schedule'!AD$8:AD$11,$B$7)+COUNTIF('Build Your Schedule'!AE$5,$B$7))>0,1,0),0)","v":0},{"$f":"IF('Build Your Schedule'!AF$6=$B$7,IF((COUNTIF('Build Your Schedule'!AE$8:AE$11,$B$7)+COUNTIF('Build Your Schedule'!AF$5,$B$7))>0,1,0),0)","v":0},{"$f":"IF('Build Your Schedule'!AG$6=$B$7,IF((COUNTIF('Build Your Schedule'!AF$8:AF$11,$B$7)+COUNTIF('Build Your Schedule'!AG$5,$B$7))>0,1,0),0)","v":0},{"$f":"IF('Build Your Schedule'!AH$6=$B$7,IF((COUNTIF('Build Your Schedule'!AG$8:AG$11,$B$7)+COUNTIF('Build Your Schedule'!AH$5,$B$7))>0,1,0),0)","v":0},{"$f":"IF('Build Your Schedule'!AI$6=$B$7,IF((COUNTIF('Build Your Schedule'!AH$8:AH$11,$B$7)+COUNTIF('Build Your Schedule'!AI$5,$B$7))>0,1,0),0)","v":0},{"$f":"IF('Build Your Schedule'!AJ$6=$B$7,IF((COUNTIF('Build Your Schedule'!AI$8:AI$11,$B$7)+COUNTIF('Build Your Schedule'!AJ$5,$B$7))>0,1,0),0)","v":0},{"$f":"IF('Build Your Schedule'!AK$6=$B$7,IF((COUNTIF('Build Your Schedule'!AJ$8:AJ$11,$B$7)+COUNTIF('Build Your Schedule'!AK$5,$B$7))>0,1,0),0)","v":0}]
[null,"12p-9p",{"$f":"IF('Build Your Schedule'!H$7=$B$7,IF((COUNTIF('Build Your Schedule'!G$10:G$11,$B$7)+COUNTIF('Build Your Schedule'!H$5:H$6,$B$7))>0,1,0),0)","v":0},{"$f":"IF('Build Your Schedule'!I$7=$B$7,IF((COUNTIF('Build Your Schedule'!H$10:H$11,$B$7)+COUNTIF('Build Your Schedule'!I$5:I$6,$B$7))>0,1,0),0)","v":0},{"$f":"IF('Build Your Schedule'!J$7=$B$7,IF((COUNTIF('Build Your Schedule'!I$10:I$11,$B$7)+COUNTIF('Build Your Schedule'!J$5:J$6,$B$7))>0,1,0),0)","v":0},{"$f":"IF('Build Your Schedule'!K$7=$B$7,IF((COUNTIF('Build Your Schedule'!J$10:J$11,$B$7)+COUNTIF('Build Your Schedule'!K$5:K$6,$B$7))>0,1,0),0)","v":0},{"$f":"IF('Build Your Schedule'!L$7=$B$7,IF((COUNTIF('Build Your Schedule'!K$10:K$11,$B$7)+COUNTIF('Build Your Schedule'!L$5:L$6,$B$7))>0,1,0),0)","v":0},{"$f":"IF('Build Your Schedule'!M$7=$B$7,IF((COUNTIF('Build Your Schedule'!L$10:L$11,$B$7)+COUNTIF('Build Your Schedule'!M$5:M$6,$B$7))>0,1,0),0)","v":0},{"$f":"IF('Build Your Schedule'!N$7=$B$7,IF((COUNTIF('Build Your Schedule'!M$10:M$11,$B$7)+COUNTIF('Build Your Schedule'!N$5:N$6,$B$7))>0,1,0),0)","v":0},{"$f":"IF('Build Your Schedule'!O$7=$B$7,IF((COUNTIF('Build Your Schedule'!N$10:N$11,$B$7)+COUNTIF('Build Your Schedule'!O$5:O$6,$B$7))>0,1,0),0)","v":0},{"$f":"IF('Build Your Schedule'!P$7=$B$7,IF((COUNTIF('Build Your Schedule'!O$10:O$11,$B$7)+COUNTIF('Build Your Schedule'!P$5:P$6,$B$7))>0,1,0),0)","v":0},{"$f":"IF('Build Your Schedule'!Q$7=$B$7,IF((COUNTIF('Build Your Schedule'!P$10:P$11,$B$7)+COUNTIF('Build Your Schedule'!Q$5:Q$6,$B$7))>0,1,0),0)","v":0},{"$f":"IF('Build Your Schedule'!R$7=$B$7,IF((COUNTIF('Build Your Schedule'!Q$10:Q$11,$B$7)+COUNTIF('Build Your Schedule'!R$5:R$6,$B$7))>0,1,0),0)","v":0},{"$f":"IF('Build Your Schedule'!S$7=$B$7,IF((COUNTIF('Build Your Schedule'!R$10:R$11,$B$7)+COUNTIF('Build Your Schedule'!S$5:S$6,$B$7))>0,1,0),0)","v":0},{"$f":"IF('Build Your Schedule'!T$7=$B$7,IF((COUNTIF('Build Your Schedule'!S$10:S$11,$B$7)+COUNTIF('Build Your Schedule'!T$5:T$6,$B$7))>0,1,0),0)","v":0},{"$f":"IF('Build Your Schedule'!U$7=$B$7,IF((COUNTIF('Build Your Schedule'!T$10:T$11,$B$7)+COUNTIF('Build Your Schedule'!U$5:U$6,$B$7))>0,1,0),0)","v":0},{"$f":"IF('Build Your Schedule'!V$7=$B$7,IF((COUNTIF('Build Your Schedule'!U$10:U$11,$B$7)+COUNTIF('Build Your Schedule'!V$5:V$6,$B$7))>0,1,0),0)","v":0},{"$f":"IF('Build Your Schedule'!W$7=$B$7,IF((COUNTIF('Build Your Schedule'!V$10:V$11,$B$7)+COUNTIF('Build Your Schedule'!W$5:W$6,$B$7))>0,1,0),0)","v":0},{"$f":"IF('Build Your Schedule'!X$7=$B$7,IF((COUNTIF('Build Your Schedule'!W$10:W$11,$B$7)+COUNTIF('Build Your Schedule'!X$5:X$6,$B$7))>0,1,0),0)","v":0},{"$f":"IF('Build Your Schedule'!Y$7=$B$7,IF((COUNTIF('Build Your Schedule'!X$10:X$11,$B$7)+COUNTIF('Build Your Schedule'!Y$5:Y$6,$B$7))>0,1,0),0)","v":0},{"$f":"IF('Build Your Schedule'!Z$7=$B$7,IF((COUNTIF('Build Your Schedule'!Y$10:Y$11,$B$7)+COUNTIF('Build Your Schedule'!Z$5:Z$6,$B$7))>0,1,0),0)","v":0},{"$f":"IF('Build Your Schedule'!AA$7=$B$7,IF((COUNTIF('Build Your Schedule'!Z$10:Z$11,$B$7)+COUNTIF('Build Your Schedule'!AA$5:AA$6,$B$7))>0,1,0),0)","v":0},{"$f":"IF('Build Your Schedule'!AB$7=$B$7,IF((COUNTIF('Build Your Schedule'!AA$10:AA$11,$B$7)+COUNTIF('Build Your Schedule'!AB$5:AB$6,$B$7))>0,1,0),0)","v":0},{"$f":"IF('Build Your Schedule'!AC$7=$B$7,IF((COUNTIF('Build Your Schedule'!AB$10:AB$11,$B$7)+COUNTIF('Build Your Schedule'!AC$5:AC$6,$B$7))>0,1,0),0)","v":0},{"$f":"IF('Build Your Schedule'!AD$7=$B$7,IF((COUNTIF('Build Your Schedule'!AC$10:AC$11,$B$7)+COUNTIF('Build Your Schedule'!AD$5:AD$6,$B$7))>0,1,0),0)","v":0},{"$f":"IF('Build Your Schedule'!AE$7=$B$7,IF((COUNTIF('Build Your Schedule'!AD$10:AD$11,$B$7)+COUNTIF('Build Your Schedule'!AE$5:AE$6,$B$7))>0,1,0),0)","v":0},{"$f":"IF('Build Your Schedule'!AF$7=$B$7,IF((COUNTIF('Build Your Schedule'!AE$10:AE$11,$B$7)+COUNTIF('Build Your Schedule'!AF$5:AF$6,$B$7))>0,1,0),0)","v":0},{"$f":"IF('Build Your Schedule'!AG$7=$B$7,IF((COUNTIF('Build Your Schedule'!AF$10:AF$11,$B$7)+COUNTIF('Build Your Schedule'!AG$5:AG$6,$B$7))>0,1,0),0)","v":0},{"$f":"IF('Build Your Schedule'!AH$7=$B$7,IF((COUNTIF('Build Your Schedule'!AG$10:AG$11,$B$7)+COUNTIF('Build Your Schedule'!AH$5:AH$6,$B$7))>0,1,0),0)","v":0},{"$f":"IF('Build Your Schedule'!AI$7=$B$7,IF((COUNTIF('Build Your Schedule'!AH$10:AH$11,$B$7)+COUNTIF('Build Your Schedule'!AI$5:AI$6,$B$7))>0,1,0),0)","v":0},{"$f":"IF('Build Your Schedule'!AJ$7=$B$7,IF((COUNTIF('Build Your Schedule'!AI$10:AI$11,$B$7)+COUNTIF('Build Your Schedule'!AJ$5:AJ$6,$B$7))>0,1,0),0)","v":0},{"$f":"IF('Build Your Schedule'!AK$7=$B$7,IF((COUNTIF('Build Your Schedule'!AJ$10:AJ$11,$B$7)+COUNTIF('Build Your Schedule'!AK$5:AK$6,$B$7))>0,1,0),0)","v":0}]
[null,"4p-1a",{"$f":"IF('Build Your Schedule'!H$8=$B$7,IF((COUNTIF('Build Your Schedule'!G$11,$B$7)+COUNTIF('Build Your Schedule'!H$5:H$7,$B$7))>0,1,0),0)","v":0},{"$f":"IF('Build Your Schedule'!I$8=$B$7,IF((COUNTIF('Build Your Schedule'!H$11,$B$7)+COUNTIF('Build Your Schedule'!I$5:I$7,$B$7))>0,1,0),0)","v":0},{"$f":"IF('Build Your Schedule'!J$8=$B$7,IF((COUNTIF('Build Your Schedule'!I$11,$B$7)+COUNTIF('Build Your Schedule'!J$5:J$7,$B$7))>0,1,0),0)","v":0},{"$f":"IF('Build Your Schedule'!K$8=$B$7,IF((COUNTIF('Build Your Schedule'!J$11,$B$7)+COUNTIF('Build Your Schedule'!K$5:K$7,$B$7))>0,1,0),0)","v":0},{"$f":"IF('Build Your Schedule'!L$8=$B$7,IF((COUNTIF('Build Your Schedule'!K$11,$B$7)+COUNTIF('Build Your Schedule'!L$5:L$7,$B$7))>0,1,0),0)","v":0},{"$f":"IF('Build Your Schedule'!M$8=$B$7,IF((COUNTIF('Build Your Schedule'!L$11,$B$7)+COUNTIF('Build Your Schedule'!M$5:M$7,$B$7))>0,1,0),0)","v":0},{"$f":"IF('Build Your Schedule'!N$8=$B$7,IF((COUNTIF('Build Your Schedule'!M$11,$B$7)+COUNTIF('Build Your Schedule'!N$5:N$7,$B$7))>0,1,0),0)","v":0},{"$f":"IF('Build Your Schedule'!O$8=$B$7,IF((COUNTIF('Build Your Schedule'!N$11,$B$7)+COUNTIF('Build Your Schedule'!O$5:O$7,$B$7))>0,1,0),0)","v":0},{"$f":"IF('Build Your Schedule'!P$8=$B$7,IF((COUNTIF('Build Your Schedule'!O$11,$B$7)+COUNTIF('Build Your Schedule'!P$5:P$7,$B$7))>0,1,0),0)","v":0},{"$f":"IF('Build Your Schedule'!Q$8=$B$7,IF((COUNTIF('Build Your Schedule'!P$11,$B$7)+COUNTIF('Build Your Schedule'!Q$5:Q$7,$B$7))>0,1,0),0)","v":0},{"$f":"IF('Build Your Schedule'!R$8=$B$7,IF((COUNTIF('Build Your Schedule'!Q$11,$B$7)+COUNTIF('Build Your Schedule'!R$5:R$7,$B$7))>0,1,0),0)","v":0},{"$f":"IF('Build Your Schedule'!S$8=$B$7,IF((COUNTIF('Build Your Schedule'!R$11,$B$7)+COUNTIF('Build Your Schedule'!S$5:S$7,$B$7))>0,1,0),0)","v":0},{"$f":"IF('Build Your Schedule'!T$8=$B$7,IF((COUNTIF('Build Your Schedule'!S$11,$B$7)+COUNTIF('Build Your Schedule'!T$5:T$7,$B$7))>0,1,0),0)","v":0},{"$f":"IF('Build Your Schedule'!U$8=$B$7,IF((COUNTIF('Build Your Schedule'!T$11,$B$7)+COUNTIF('Build Your Schedule'!U$5:U$7,$B$7))>0,1,0),0)","v":0},{"$f":"IF('Build Your Schedule'!V$8=$B$7,IF((COUNTIF('Build Your Schedule'!U$11,$B$7)+COUNTIF('Build Your Schedule'!V$5:V$7,$B$7))>0,1,0),0)","v":0},{"$f":"IF('Build Your Schedule'!W$8=$B$7,IF((COUNTIF('Build Your Schedule'!V$11,$B$7)+COUNTIF('Build Your Schedule'!W$5:W$7,$B$7))>0,1,0),0)","v":0},{"$f":"IF('Build Your Schedule'!X$8=$B$7,IF((COUNTIF('Build Your Schedule'!W$11,$B$7)+COUNTIF('Build Your Schedule'!X$5:X$7,$B$7))>0,1,0),0)","v":0},{"$f":"IF('Build Your Schedule'!Y$8=$B$7,IF((COUNTIF('Build Your Schedule'!X$11,$B$7)+COUNTIF('Build Your Schedule'!Y$5:Y$7,$B$7))>0,1,0),0)","v":0},{"$f":"IF('Build Your Schedule'!Z$8=$B$7,IF((COUNTIF('Build Your Schedule'!Y$11,$B$7)+COUNTIF('Build Your Schedule'!Z$5:Z$7,$B$7))>0,1,0),0)","v":0},{"$f":"IF('Build Your Schedule'!AA$8=$B$7,IF((COUNTIF('Build Your Schedule'!Z$11,$B$7)+COUNTIF('Build Your Schedule'!AA$5:AA$7,$B$7))>0,1,0),0)","v":0},{"$f":"IF('Build Your Schedule'!AB$8=$B$7,IF((COUNTIF('Build Your Schedule'!AA$11,$B$7)+COUNTIF('Build Your Schedule'!AB$5:AB$7,$B$7))>0,1,0),0)","v":0},{"$f":"IF('Build Your Schedule'!AC$8=$B$7,IF((COUNTIF('Build Your Schedule'!AB$11,$B$7)+COUNTIF('Build Your Schedule'!AC$5:AC$7,$B$7))>0,1,0),0)","v":0},{"$f":"IF('Build Your Schedule'!AD$8=$B$7,IF((COUNTIF('Build Your Schedule'!AC$11,$B$7)+COUNTIF('Build Your Schedule'!AD$5:AD$7,$B$7))>0,1,0),0)","v":0},{"$f":"IF('Build Your Schedule'!AE$8=$B$7,IF((COUNTIF('Build Your Schedule'!AD$11,$B$7)+COUNTIF('Build Your Schedule'!AE$5:AE$7,$B$7))>0,1,0),0)","v":0},{"$f":"IF('Build Your Schedule'!AF$8=$B$7,IF((COUNTIF('Build Your Schedule'!AE$11,$B$7)+COUNTIF('Build Your Schedule'!AF$5:AF$7,$B$7))>0,1,0),0)","v":0},{"$f":"IF('Build Your Schedule'!AG$8=$B$7,IF((COUNTIF('Build Your Schedule'!AF$11,$B$7)+COUNTIF('Build Your Schedule'!AG$5:AG$7,$B$7))>0,1,0),0)","v":0},{"$f":"IF('Build Your Schedule'!AH$8=$B$7,IF((COUNTIF('Build Your Schedule'!AG$11,$B$7)+COUNTIF('Build Your Schedule'!AH$5:AH$7,$B$7))>0,1,0),0)","v":0},{"$f":"IF('Build Your Schedule'!AI$8=$B$7,IF((COUNTIF('Build Your Schedule'!AH$11,$B$7)+COUNTIF('Build Your Schedule'!AI$5:AI$7,$B$7))>0,1,0),0)","v":0},{"$f":"IF('Build Your Schedule'!AJ$8=$B$7,IF((COUNTIF('Build Your Schedule'!AI$11,$B$7)+COUNTIF('Build Your Schedule'!AJ$5:AJ$7,$B$7))>0,1,0),0)","v":0},{"$f":"IF('Build Your Schedule'!AK$8=$B$7,IF((COUNTIF('Build Your Schedule'!AJ$11,$B$7)+COUNTIF('Build Your Schedule'!AK$5:AK$7,$B$7))>0,1,0),0)","v":0}]
[null,"5p-2a",{"$f":"IF('Build Your Schedule'!H$9=$B$7,IF((COUNTIF('Build Your Schedule'!G$11,$B$7)+COUNTIF('Build Your Schedule'!H$5:H$8,$B$7))>0,1,0),0)","v":0},{"$f":"IF('Build Your Schedule'!I$9=$B$7,IF((COUNTIF('Build Your Schedule'!H$11,$B$7)+COUNTIF('Build Your Schedule'!I$5:I$8,$B$7))>0,1,0),0)","v":0},{"$f":"IF('Build Your Schedule'!J$9=$B$7,IF((COUNTIF('Build Your Schedule'!I$11,$B$7)+COUNTIF('Build Your Schedule'!J$5:J$8,$B$7))>0,1,0),0)","v":0},{"$f":"IF('Build Your Schedule'!K$9=$B$7,IF((COUNTIF('Build Your Schedule'!J$11,$B$7)+COUNTIF('Build Your Schedule'!K$5:K$8,$B$7))>0,1,0),0)","v":0},{"$f":"IF('Build Your Schedule'!L$9=$B$7,IF((COUNTIF('Build Your Schedule'!K$11,$B$7)+COUNTIF('Build Your Schedule'!L$5:L$8,$B$7))>0,1,0),0)","v":0},{"$f":"IF('Build Your Schedule'!M$9=$B$7,IF((COUNTIF('Build Your Schedule'!L$11,$B$7)+COUNTIF('Build Your Schedule'!M$5:M$8,$B$7))>0,1,0),0)","v":0},{"$f":"IF('Build Your Schedule'!N$9=$B$7,IF((COUNTIF('Build Your Schedule'!M$11,$B$7)+COUNTIF('Build Your Schedule'!N$5:N$8,$B$7))>0,1,0),0)","v":0},{"$f":"IF('Build Your Schedule'!O$9=$B$7,IF((COUNTIF('Build Your Schedule'!N$11,$B$7)+COUNTIF('Build Your Schedule'!O$5:O$8,$B$7))>0,1,0),0)","v":0},{"$f":"IF('Build Your Schedule'!P$9=$B$7,IF((COUNTIF('Build Your Schedule'!O$11,$B$7)+COUNTIF('Build Your Schedule'!P$5:P$8,$B$7))>0,1,0),0)","v":0},{"$f":"IF('Build Your Schedule'!Q$9=$B$7,IF((COUNTIF('Build Your Schedule'!P$11,$B$7)+COUNTIF('Build Your Schedule'!Q$5:Q$8,$B$7))>0,1,0),0)","v":0},{"$f":"IF('Build Your Schedule'!R$9=$B$7,IF((COUNTIF('Build Your Schedule'!Q$11,$B$7)+COUNTIF('Build Your Schedule'!R$5:R$8,$B$7))>0,1,0),0)","v":0},{"$f":"IF('Build Your Schedule'!S$9=$B$7,IF((COUNTIF('Build Your Schedule'!R$11,$B$7)+COUNTIF('Build Your Schedule'!S$5:S$8,$B$7))>0,1,0),0)","v":0},{"$f":"IF('Build Your Schedule'!T$9=$B$7,IF((COUNTIF('Build Your Schedule'!S$11,$B$7)+COUNTIF('Build Your Schedule'!T$5:T$8,$B$7))>0,1,0),0)","v":0},{"$f":"IF('Build Your Schedule'!U$9=$B$7,IF((COUNTIF('Build Your Schedule'!T$11,$B$7)+COUNTIF('Build Your Schedule'!U$5:U$8,$B$7))>0,1,0),0)","v":0},{"$f":"IF('Build Your Schedule'!V$9=$B$7,IF((COUNTIF('Build Your Schedule'!U$11,$B$7)+COUNTIF('Build Your Schedule'!V$5:V$8,$B$7))>0,1,0),0)","v":0},{"$f":"IF('Build Your Schedule'!W$9=$B$7,IF((COUNTIF('Build Your Schedule'!V$11,$B$7)+COUNTIF('Build Your Schedule'!W$5:W$8,$B$7))>0,1,0),0)","v":0},{"$f":"IF('Build Your Schedule'!X$9=$B$7,IF((COUNTIF('Build Your Schedule'!W$11,$B$7)+COUNTIF('Build Your Schedule'!X$5:X$8,$B$7))>0,1,0),0)","v":0},{"$f":"IF('Build Your Schedule'!Y$9=$B$7,IF((COUNTIF('Build Your Schedule'!X$11,$B$7)+COUNTIF('Build Your Schedule'!Y$5:Y$8,$B$7))>0,1,0),0)","v":0},{"$f":"IF('Build Your Schedule'!Z$9=$B$7,IF((COUNTIF('Build Your Schedule'!Y$11,$B$7)+COUNTIF('Build Your Schedule'!Z$5:Z$8,$B$7))>0,1,0),0)","v":0},{"$f":"IF('Build Your Schedule'!AA$9=$B$7,IF((COUNTIF('Build Your Schedule'!Z$11,$B$7)+COUNTIF('Build Your Schedule'!AA$5:AA$8,$B$7))>0,1,0),0)","v":0},{"$f":"IF('Build Your Schedule'!AB$9=$B$7,IF((COUNTIF('Build Your Schedule'!AA$11,$B$7)+COUNTIF('Build Your Schedule'!AB$5:AB$8,$B$7))>0,1,0),0)","v":0},{"$f":"IF('Build Your Schedule'!AC$9=$B$7,IF((COUNTIF('Build Your Schedule'!AB$11,$B$7)+COUNTIF('Build Your Schedule'!AC$5:AC$8,$B$7))>0,1,0),0)","v":0},{"$f":"IF('Build Your Schedule'!AD$9=$B$7,IF((COUNTIF('Build Your Schedule'!AC$11,$B$7)+COUNTIF('Build Your Schedule'!AD$5:AD$8,$B$7))>0,1,0),0)","v":0},{"$f":"IF('Build Your Schedule'!AE$9=$B$7,IF((COUNTIF('Build Your Schedule'!AD$11,$B$7)+COUNTIF('Build Your Schedule'!AE$5:AE$8,$B$7))>0,1,0),0)","v":0},{"$f":"IF('Build Your Schedule'!AF$9=$B$7,IF((COUNTIF('Build Your Schedule'!AE$11,$B$7)+COUNTIF('Build Your Schedule'!AF$5:AF$8,$B$7))>0,1,0),0)","v":0},{"$f":"IF('Build Your Schedule'!AG$9=$B$7,IF((COUNTIF('Build Your Schedule'!AF$11,$B$7)+COUNTIF('Build Your Schedule'!AG$5:AG$8,$B$7))>0,1,0),0)","v":0},{"$f":"IF('Build Your Schedule'!AH$9=$B$7,IF((COUNTIF('Build Your Schedule'!AG$11,$B$7)+COUNTIF('Build Your Schedule'!AH$5:AH$8,$B$7))>0,1,0),0)","v":0},{"$f":"IF('Build Your Schedule'!AI$9=$B$7,IF((COUNTIF('Build Your Schedule'!AH$11,$B$7)+COUNTIF('Build Your Schedule'!AI$5:AI$8,$B$7))>0,1,0),0)","v":0},{"$f":"IF('Build Your Schedule'!AJ$9=$B$7,IF((COUNTIF('Build Your Schedule'!AI$11,$B$7)+COUNTIF('Build Your Schedule'!AJ$5:AJ$8,$B$7))>0,1,0),0)","v":0},{"$f":"IF('Build Your Schedule'!AK$9=$B$7,IF((COUNTIF('Build Your Schedule'!AJ$11,$B$7)+COUNTIF('Build Your Schedule'!AK$5:AK$8,$B$7))>0,1,0),0)","v":0}]
[null,"8p-5a",{"$f":"IF('Build Your Schedule'!H$10=$B$7,IF(COUNTIF('Build Your Schedule'!H$5:H$9,$B$7)>0,1,0),0)","v":0},{"$f":"IF('Build Your Schedule'!I$10=$B$7,IF(COUNTIF('Build Your Schedule'!I$5:I$9,$B$7)>0,1,0),0)","v":0},{"$f":"IF('Build Your Schedule'!J$10=$B$7,IF(COUNTIF('Build Your Schedule'!J$5:J$9,$B$7)>0,1,0),0)","v":0},{"$f":"IF('Build Your Schedule'!K$10=$B$7,IF(COUNTIF('Build Your Schedule'!K$5:K$9,$B$7)>0,1,0),0)","v":0},{"$f":"IF('Build Your Schedule'!L$10=$B$7,IF(COUNTIF('Build Your Schedule'!L$5:L$9,$B$7)>0,1,0),0)","v":0},{"$f":"IF('Build Your Schedule'!M$10=$B$7,IF(COUNTIF('Build Your Schedule'!M$5:M$9,$B$7)>0,1,0),0)","v":0},{"$f":"IF('Build Your Schedule'!N$10=$B$7,IF(COUNTIF('Build Your Schedule'!N$5:N$9,$B$7)>0,1,0),0)","v":0},{"$f":"IF('Build Your Schedule'!O$10=$B$7,IF(COUNTIF('Build Your Schedule'!O$5:O$9,$B$7)>0,1,0),0)","v":0},{"$f":"IF('Build Your Schedule'!P$10=$B$7,IF(COUNTIF('Build Your Schedule'!P$5:P$9,$B$7)>0,1,0),0)","v":0},{"$f":"IF('Build Your Schedule'!Q$10=$B$7,IF(COUNTIF('Build Your Schedule'!Q$5:Q$9,$B$7)>0,1,0),0)","v":0},{"$f":"IF('Build Your Schedule'!R$10=$B$7,IF(COUNTIF('Build Your Schedule'!R$5:R$9,$B$7)>0,1,0),0)","v":0},{"$f":"IF('Build Your Schedule'!S$10=$B$7,IF(COUNTIF('Build Your Schedule'!S$5:S$9,$B$7)>0,1,0),0)","v":0},{"$f":"IF('Build Your Schedule'!T$10=$B$7,IF(COUNTIF('Build Your Schedule'!T$5:T$9,$B$7)>0,1,0),0)","v":0},{"$f":"IF('Build Your Schedule'!U$10=$B$7,IF(COUNTIF('Build Your Schedule'!U$5:U$9,$B$7)>0,1,0),0)","v":0},{"$f":"IF('Build Your Schedule'!V$10=$B$7,IF(COUNTIF('Build Your Schedule'!V$5:V$9,$B$7)>0,1,0),0)","v":0},{"$f":"IF('Build Your Schedule'!W$10=$B$7,IF(COUNTIF('Build Your Schedule'!W$5:W$9,$B$7)>0,1,0),0)","v":0},{"$f":"IF('Build Your Schedule'!X$10=$B$7,IF(COUNTIF('Build Your Schedule'!X$5:X$9,$B$7)>0,1,0),0)","v":0},{"$f":"IF('Build Your Schedule'!Y$10=$B$7,IF(COUNTIF('Build Your Schedule'!Y$5:Y$9,$B$7)>0,1,0),0)","v":0},{"$f":"IF('Build Your Schedule'!Z$10=$B$7,IF(COUNTIF('Build Your Schedule'!Z$5:Z$9,$B$7)>0,1,0),0)","v":0},{"$f":"IF('Build Your Schedule'!AA$10=$B$7,IF(COUNTIF('Build Your Schedule'!AA$5:AA$9,$B$7)>0,1,0),0)","v":0},{"$f":"IF('Build Your Schedule'!AB$10=$B$7,IF(COUNTIF('Build Your Schedule'!AB$5:AB$9,$B$7)>0,1,0),0)","v":0},{"$f":"IF('Build Your Schedule'!AC$10=$B$7,IF(COUNTIF('Build Your Schedule'!AC$5:AC$9,$B$7)>0,1,0),0)","v":0},{"$f":"IF('Build Your Schedule'!AD$10=$B$7,IF(COUNTIF('Build Your Schedule'!AD$5:AD$9,$B$7)>0,1,0),0)","v":0},{"$f":"IF('Build Your Schedule'!AE$10=$B$7,IF(COUNTIF('Build Your Schedule'!AE$5:AE$9,$B$7)>0,1,0),0)","v":0},{"$f":"IF('Build Your Schedule'!AF$10=$B$7,IF(COUNTIF('Build Your Schedule'!AF$5:AF$9,$B$7)>0,1,0),0)","v":0},{"$f":"IF('Build Your Schedule'!AG$10=$B$7,IF(COUNTIF('Build Your Schedule'!AG$5:AG$9,$B$7)>0,1,0),0)","v":0},{"$f":"IF('Build Your Schedule'!AH$10=$B$7,IF(COUNTIF('Build Your Schedule'!AH$5:AH$9,$B$7)>0,1,0),0)","v":0},{"$f":"IF('Build Your Schedule'!AI$10=$B$7,IF(COUNTIF('Build Your Schedule'!AI$5:AI$9,$B$7)>0,1,0),0)","v":0},{"$f":"IF('Build Your Schedule'!AJ$10=$B$7,IF(COUNTIF('Build Your Schedule'!AJ$5:AJ$9,$B$7)>0,1,0),0)","v":0},{"$f":"IF('Build Your Schedule'!AK$10=$B$7,IF(COUNTIF('Build Your Schedule'!AK$5:AK$9,$B$7)>0,1,0),0)","v":0}]
[null,"11p-8a",{"$f":"IF('Build Your Schedule'!H$11=$B$7,IF(COUNTIF('Build Your Schedule'!H$5:H$10,$B$7)>0,1,0),0)","v":0},{"$f":"IF('Build Your Schedule'!I$11=$B$7,IF(COUNTIF('Build Your Schedule'!I$5:I$10,$B$7)>0,1,0),0)","v":0},{"$f":"IF('Build Your Schedule'!J$11=$B$7,IF(COUNTIF('Build Your Schedule'!J$5:J$10,$B$7)>0,1,0),0)","v":0},{"$f":"IF('Build Your Schedule'!K$11=$B$7,IF(COUNTIF('Build Your Schedule'!K$5:K$10,$B$7)>0,1,0),0)","v":0},{"$f":"IF('Build Your Schedule'!L$11=$B$7,IF(COUNTIF('Build Your Schedule'!L$5:L$10,$B$7)>0,1,0),0)","v":0},{"$f":"IF('Build Your Schedule'!M$11=$B$7,IF(COUNTIF('Build Your Schedule'!M$5:M$10,$B$7)>0,1,0),0)","v":0},{"$f":"IF('Build Your Schedule'!N$11=$B$7,IF(COUNTIF('Build Your Schedule'!N$5:N$10,$B$7)>0,1,0),0)","v":0},{"$f":"IF('Build Your Schedule'!O$11=$B$7,IF(COUNTIF('Build Your Schedule'!O$5:O$10,$B$7)>0,1,0),0)","v":0},{"$f":"IF('Build Your Schedule'!P$11=$B$7,IF(COUNTIF('Build Your Schedule'!P$5:P$10,$B$7)>0,1,0),0)","v":0},{"$f":"IF('Build Your Schedule'!Q$11=$B$7,IF(COUNTIF('Build Your Schedule'!Q$5:Q$10,$B$7)>0,1,0),0)","v":0},{"$f":"IF('Build Your Schedule'!R$11=$B$7,IF(COUNTIF('Build Your Schedule'!R$5:R$10,$B$7)>0,1,0),0)","v":0},{"$f":"IF('Build Your Schedule'!S$11=$B$7,IF(COUNTIF('Build Your Schedule'!S$5:S$10,$B$7)>0,1,0),0)","v":0},{"$f":"IF('Build Your Schedule'!T$11=$B$7,IF(COUNTIF('Build Your Schedule'!T$5:T$10,$B$7)>0,1,0),0)","v":0},{"$f":"IF('Build Your Schedule'!U$11=$B$7,IF(COUNTIF('Build Your Schedule'!U$5:U$10,$B$7)>0,1,0),0)","v":0},{"$f":"IF('Build Your Schedule'!V$11=$B$7,IF(COUNTIF('Build Your Schedule'!V$5:V$10,$B$7)>0,1,0),0)","v":0},{"$f":"IF('Build Your Schedule'!W$11=$B$7,IF(COUNTIF('Build Your Schedule'!W$5:W$10,$B$7)>0,1,0),0)","v":0},{"$f":"IF('Build Your Schedule'!X$11=$B$7,IF(COUNTIF('Build Your Schedule'!X$5:X$10,$B$7)>0,1,0),0)","v":0},{"$f":"IF('Build Your Schedule'!Y$11=$B$7,IF(COUNTIF('Build Your Schedule'!Y$5:Y$10,$B$7)>0,1,0),0)","v":0},{"$f":"IF('Build Your Schedule'!Z$11=$B$7,IF(COUNTIF('Build Your Schedule'!Z$5:Z$10,$B$7)>0,1,0),0)","v":0},{"$f":"IF('Build Your Schedule'!AA$11=$B$7,IF(COUNTIF('Build Your Schedule'!AA$5:AA$10,$B$7)>0,1,0),0)","v":0},{"$f":"IF('Build Your Schedule'!AB$11=$B$7,IF(COUNTIF('Build Your Schedule'!AB$5:AB$10,$B$7)>0,1,0),0)","v":0},{"$f":"IF('Build Your Schedule'!AC$11=$B$7,IF(COUNTIF('Build Your Schedule'!AC$5:AC$10,$B$7)>0,1,0),0)","v":0},{"$f":"IF('Build Your Schedule'!AD$11=$B$7,IF(COUNTIF('Build Your Schedule'!AD$5:AD$10,$B$7)>0,1,0),0)","v":0},{"$f":"IF('Build Your Schedule'!AE$11=$B$7,IF(COUNTIF('Build Your Schedule'!AE$5:AE$10,$B$7)>0,1,0),0)","v":0},{"$f":"IF('Build Your Schedule'!AF$11=$B$7,IF(COUNTIF('Build Your Schedule'!AF$5:AF$10,$B$7)>0,1,0),0)","v":0},{"$f":"IF('Build Your Schedule'!AG$11=$B$7,IF(COUNTIF('Build Your Schedule'!AG$5:AG$10,$B$7)>0,1,0),0)","v":0},{"$f":"IF('Build Your Schedule'!AH$11=$B$7,IF(COUNTIF('Build Your Schedule'!AH$5:AH$10,$B$7)>0,1,0),0)","v":0},{"$f":"IF('Build Your Schedule'!AI$11=$B$7,IF(COUNTIF('Build Your Schedule'!AI$5:AI$10,$B$7)>0,1,0),0)","v":0},{"$f":"IF('Build Your Schedule'!AJ$11=$B$7,IF(COUNTIF('Build Your Schedule'!AJ$5:AJ$10,$B$7)>0,1,0),0)","v":0},{"$f":"IF('Build Your Schedule'!AK$11=$B$7,IF(COUNTIF('Build Your Schedule'!AK$5:AK$10,$B$7)>0,1,0),0)","v":0}]
[]
[null,{"$f":"B8","v":"Ellington"},"2015-06-01","2015-06-02","2015-06-03","2015-06-04","2015-06-05","2015-06-06","2015-06-07","2015-06-08","2015-06-09","2015-06-10","2015-06-11","2015-06-12","2015-06-13","2015-06-14","2015-06-15","2015-06-16","2015-06-17","2015-06-18","2015-06-19","2015-06-20","2015-06-21","2015-06-22","2015-06-23","2015-06-24","2015-06-25","2015-06-26","2015-06-27","2015-06-28","2015-06-29","2015-06-30"]
[null,"7a-4p",{"$f":"IF('Build Your Schedule'!H$5=$B$8,IF(COUNTIF('Build Your Schedule'!G$8:G$11,$B$8)>0,1,0),0)","v":0},{"$f":"IF('Build Your Schedule'!I$5=$B$8,IF(COUNTIF('Build Your Schedule'!H$8:H$11,$B$8)>0,1,0),0)","v":0},{"$f":"IF('Build Your Schedule'!J$5=$B$8,IF(COUNTIF('Build Your Schedule'!I$8:I$11,$B$8)>0,1,0),0)","v":0},{"$f":"IF('Build Your Schedule'!K$5=$B$8,IF(COUNTIF('Build Your Schedule'!J$8:J$11,$B$8)>0,1,0),0)","v":0},{"$f":"IF('Build Your Schedule'!L$5=$B$8,IF(COUNTIF('Build Your Schedule'!K$8:K$11,$B$8)>0,1,0),0)","v":0},{"$f":"IF('Build Your Schedule'!M$5=$B$8,IF(COUNTIF('Build Your Schedule'!L$8:L$11,$B$8)>0,1,0),0)","v":0},{"$f":"IF('Build Your Schedule'!N$5=$B$8,IF(COUNTIF('Build Your Schedule'!M$8:M$11,$B$8)>0,1,0),0)","v":0},{"$f":"IF('Build Your Schedule'!O$5=$B$8,IF(COUNTIF('Build Your Schedule'!N$8:N$11,$B$8)>0,1,0),0)","v":0},{"$f":"IF('Build Your Schedule'!P$5=$B$8,IF(COUNTIF('Build Your Schedule'!O$8:O$11,$B$8)>0,1,0),0)","v":0},{"$f":"IF('Build Your Schedule'!Q$5=$B$8,IF(COUNTIF('Build Your Schedule'!P$8:P$11,$B$8)>0,1,0),0)","v":0},{"$f":"IF('Build Your Schedule'!R$5=$B$8,IF(COUNTIF('Build Your Schedule'!Q$8:Q$11,$B$8)>0,1,0),0)","v":0},{"$f":"IF('Build Your Schedule'!S$5=$B$8,IF(COUNTIF('Build Your Schedule'!R$8:R$11,$B$8)>0,1,0),0)","v":0},{"$f":"IF('Build Your Schedule'!T$5=$B$8,IF(COUNTIF('Build Your Schedule'!S$8:S$11,$B$8)>0,1,0),0)","v":0},{"$f":"IF('Build Your Schedule'!U$5=$B$8,IF(COUNTIF('Build Your Schedule'!T$8:T$11,$B$8)>0,1,0),0)","v":0},{"$f":"IF('Build Your Schedule'!V$5=$B$8,IF(COUNTIF('Build Your Schedule'!U$8:U$11,$B$8)>0,1,0),0)","v":0},{"$f":"IF('Build Your Schedule'!W$5=$B$8,IF(COUNTIF('Build Your Schedule'!V$8:V$11,$B$8)>0,1,0),0)","v":0},{"$f":"IF('Build Your Schedule'!X$5=$B$8,IF(COUNTIF('Build Your Schedule'!W$8:W$11,$B$8)>0,1,0),0)","v":0},{"$f":"IF('Build Your Schedule'!Y$5=$B$8,IF(COUNTIF('Build Your Schedule'!X$8:X$11,$B$8)>0,1,0),0)","v":0},{"$f":"IF('Build Your Schedule'!Z$5=$B$8,IF(COUNTIF('Build Your Schedule'!Y$8:Y$11,$B$8)>0,1,0),0)","v":0},{"$f":"IF('Build Your Schedule'!AA$5=$B$8,IF(COUNTIF('Build Your Schedule'!Z$8:Z$11,$B$8)>0,1,0),0)","v":0},{"$f":"IF('Build Your Schedule'!AB$5=$B$8,IF(COUNTIF('Build Your Schedule'!AA$8:AA$11,$B$8)>0,1,0),0)","v":0},{"$f":"IF('Build Your Schedule'!AC$5=$B$8,IF(COUNTIF('Build Your Schedule'!AB$8:AB$11,$B$8)>0,1,0),0)","v":0},{"$f":"IF('Build Your Schedule'!AD$5=$B$8,IF(COUNTIF('Build Your Schedule'!AC$8:AC$11,$B$8)>0,1,0),0)","v":0},{"$f":"IF('Build Your Schedule'!AE$5=$B$8,IF(COUNTIF('Build Your Schedule'!AD$8:AD$11,$B$8)>0,1,0),0)","v":0},{"$f":"IF('Build Your Schedule'!AF$5=$B$8,IF(COUNTIF('Build Your Schedule'!AE$8:AE$11,$B$8)>0,1,0),0)","v":0},{"$f":"IF('Build Your Schedule'!AG$5=$B$8,IF(COUNTIF('Build Your Schedule'!AF$8:AF$11,$B$8)>0,1,0),0)","v":0},{"$f":"IF('Build Your Schedule'!AH$5=$B$8,IF(COUNTIF('Build Your Schedule'!AG$8:AG$11,$B$8)>0,1,0),0)","v":0},{"$f":"IF('Build Your Schedule'!AI$5=$B$8,IF(COUNTIF('Build Your Schedule'!AH$8:AH$11,$B$8)>0,1,0),0)","v":0},{"$f":"IF('Build Your Schedule'!AJ$5=$B$8,IF(COUNTIF('Build Your Schedule'!AI$8:AI$11,$B$8)>0,1,0),0)","v":0},{"$f":"IF('Build Your Schedule'!AK$5=$B$8,IF(COUNTIF('Build Your Schedule'!AJ$8:AJ$11,$B$8)>0,1,0),0)","v":0}]
[null,"9a-6p",{"$f":"IF('Build Your Schedule'!H$6=$B$8,IF((COUNTIF('Build Your Schedule'!G$8:G$11,$B$8)+COUNTIF('Build Your Schedule'!H$5,$B$8))>0,1,0),0)","v":0},{"$f":"IF('Build Your Schedule'!I$6=$B$8,IF((COUNTIF('Build Your Schedule'!H$8:H$11,$B$8)+COUNTIF('Build Your Schedule'!I$5,$B$8))>0,1,0),0)","v":0},{"$f":"IF('Build Your Schedule'!J$6=$B$8,IF((COUNTIF('Build Your Schedule'!I$8:I$11,$B$8)+COUNTIF('Build Your Schedule'!J$5,$B$8))>0,1,0),0)","v":0},{"$f":"IF('Build Your Schedule'!K$6=$B$8,IF((COUNTIF('Build Your Schedule'!J$8:J$11,$B$8)+COUNTIF('Build Your Schedule'!K$5,$B$8))>0,1,0),0)","v":0},{"$f":"IF('Build Your Schedule'!L$6=$B$8,IF((COUNTIF('Build Your Schedule'!K$8:K$11,$B$8)+COUNTIF('Build Your Schedule'!L$5,$B$8))>0,1,0),0)","v":0},{"$f":"IF('Build Your Schedule'!M$6=$B$8,IF((COUNTIF('Build Your Schedule'!L$8:L$11,$B$8)+COUNTIF('Build Your Schedule'!M$5,$B$8))>0,1,0),0)","v":0},{"$f":"IF('Build Your Schedule'!N$6=$B$8,IF((COUNTIF('Build Your Schedule'!M$8:M$11,$B$8)+COUNTIF('Build Your Schedule'!N$5,$B$8))>0,1,0),0)","v":0},{"$f":"IF('Build Your Schedule'!O$6=$B$8,IF((COUNTIF('Build Your Schedule'!N$8:N$11,$B$8)+COUNTIF('Build Your Schedule'!O$5,$B$8))>0,1,0),0)","v":0},{"$f":"IF('Build Your Schedule'!P$6=$B$8,IF((COUNTIF('Build Your Schedule'!O$8:O$11,$B$8)+COUNTIF('Build Your Schedule'!P$5,$B$8))>0,1,0),0)","v":0},{"$f":"IF('Build Your Schedule'!Q$6=$B$8,IF((COUNTIF('Build Your Schedule'!P$8:P$11,$B$8)+COUNTIF('Build Your Schedule'!Q$5,$B$8))>0,1,0),0)","v":0},{"$f":"IF('Build Your Schedule'!R$6=$B$8,IF((COUNTIF('Build Your Schedule'!Q$8:Q$11,$B$8)+COUNTIF('Build Your Schedule'!R$5,$B$8))>0,1,0),0)","v":0},{"$f":"IF('Build Your Schedule'!S$6=$B$8,IF((COUNTIF('Build Your Schedule'!R$8:R$11,$B$8)+COUNTIF('Build Your Schedule'!S$5,$B$8))>0,1,0),0)","v":0},{"$f":"IF('Build Your Schedule'!T$6=$B$8,IF((COUNTIF('Build Your Schedule'!S$8:S$11,$B$8)+COUNTIF('Build Your Schedule'!T$5,$B$8))>0,1,0),0)","v":0},{"$f":"IF('Build Your Schedule'!U$6=$B$8,IF((COUNTIF('Build Your Schedule'!T$8:T$11,$B$8)+COUNTIF('Build Your Schedule'!U$5,$B$8))>0,1,0),0)","v":0},{"$f":"IF('Build Your Schedule'!V$6=$B$8,IF((COUNTIF('Build Your Schedule'!U$8:U$11,$B$8)+COUNTIF('Build Your Schedule'!V$5,$B$8))>0,1,0),0)","v":0},{"$f":"IF('Build Your Schedule'!W$6=$B$8,IF((COUNTIF('Build Your Schedule'!V$8:V$11,$B$8)+COUNTIF('Build Your Schedule'!W$5,$B$8))>0,1,0),0)","v":0},{"$f":"IF('Build Your Schedule'!X$6=$B$8,IF((COUNTIF('Build Your Schedule'!W$8:W$11,$B$8)+COUNTIF('Build Your Schedule'!X$5,$B$8))>0,1,0),0)","v":0},{"$f":"IF('Build Your Schedule'!Y$6=$B$8,IF((COUNTIF('Build Your Schedule'!X$8:X$11,$B$8)+COUNTIF('Build Your Schedule'!Y$5,$B$8))>0,1,0),0)","v":0},{"$f":"IF('Build Your Schedule'!Z$6=$B$8,IF((COUNTIF('Build Your Schedule'!Y$8:Y$11,$B$8)+COUNTIF('Build Your Schedule'!Z$5,$B$8))>0,1,0),0)","v":0},{"$f":"IF('Build Your Schedule'!AA$6=$B$8,IF((COUNTIF('Build Your Schedule'!Z$8:Z$11,$B$8)+COUNTIF('Build Your Schedule'!AA$5,$B$8))>0,1,0),0)","v":0},{"$f":"IF('Build Your Schedule'!AB$6=$B$8,IF((COUNTIF('Build Your Schedule'!AA$8:AA$11,$B$8)+COUNTIF('Build Your Schedule'!AB$5,$B$8))>0,1,0),0)","v":0},{"$f":"IF('Build Your Schedule'!AC$6=$B$8,IF((COUNTIF('Build Your Schedule'!AB$8:AB$11,$B$8)+COUNTIF('Build Your Schedule'!AC$5,$B$8))>0,1,0),0)","v":0},{"$f":"IF('Build Your Schedule'!AD$6=$B$8,IF((COUNTIF('Build Your Schedule'!AC$8:AC$11,$B$8)+COUNTIF('Build Your Schedule'!AD$5,$B$8))>0,1,0),0)","v":0},{"$f":"IF('Build Your Schedule'!AE$6=$B$8,IF((COUNTIF('Build Your Schedule'!AD$8:AD$11,$B$8)+COUNTIF('Build Your Schedule'!AE$5,$B$8))>0,1,0),0)","v":0},{"$f":"IF('Build Your Schedule'!AF$6=$B$8,IF((COUNTIF('Build Your Schedule'!AE$8:AE$11,$B$8)+COUNTIF('Build Your Schedule'!AF$5,$B$8))>0,1,0),0)","v":0},{"$f":"IF('Build Your Schedule'!AG$6=$B$8,IF((COUNTIF('Build Your Schedule'!AF$8:AF$11,$B$8)+COUNTIF('Build Your Schedule'!AG$5,$B$8))>0,1,0),0)","v":0},{"$f":"IF('Build Your Schedule'!AH$6=$B$8,IF((COUNTIF('Build Your Schedule'!AG$8:AG$11,$B$8)+COUNTIF('Build Your Schedule'!AH$5,$B$8))>0,1,0),0)","v":0},{"$f":"IF('Build Your Schedule'!AI$6=$B$8,IF((COUNTIF('Build Your Schedule'!AH$8:AH$11,$B$8)+COUNTIF('Build Your Schedule'!AI$5,$B$8))>0,1,0),0)","v":0},{"$f":"IF('Build Your Schedule'!AJ$6=$B$8,IF((COUNTIF('Build Your Schedule'!AI$8:AI$11,$B$8)+COUNTIF('Build Your Schedule'!AJ$5,$B$8))>0,1,0),0)","v":0},{"$f":"IF('Build Your Schedule'!AK$6=$B$8,IF((COUNTIF('Build Your Schedule'!AJ$8:AJ$11,$B$8)+COUNTIF('Build Your Schedule'!AK$5,$B$8))>0,1,0),0)","v":0}]
[null,"12p-9p",{"$f":"IF('Build Your Schedule'!H$7=$B$8,IF((COUNTIF('Build Your Schedule'!G$10:G$11,$B$8)+COUNTIF('Build Your Schedule'!H$5:H$6,$B$8))>0,1,0),0)","v":0},{"$f":"IF('Build Your Schedule'!I$7=$B$8,IF((COUNTIF('Build Your Schedule'!H$10:H$11,$B$8)+COUNTIF('Build Your Schedule'!I$5:I$6,$B$8))>0,1,0),0)","v":0},{"$f":"IF('Build Your Schedule'!J$7=$B$8,IF((COUNTIF('Build Your Schedule'!I$10:I$11,$B$8)+COUNTIF('Build Your Schedule'!J$5:J$6,$B$8))>0,1,0),0)","v":0},{"$f":"IF('Build Your Schedule'!K$7=$B$8,IF((COUNTIF('Build Your Schedule'!J$10:J$11,$B$8)+COUNTIF('Build Your Schedule'!K$5:K$6,$B$8))>0,1,0),0)","v":0},{"$f":"IF('Build Your Schedule'!L$7=$B$8,IF((COUNTIF('Build Your Schedule'!K$10:K$11,$B$8)+COUNTIF('Build Your Schedule'!L$5:L$6,$B$8))>0,1,0),0)","v":0},{"$f":"IF('Build Your Schedule'!M$7=$B$8,IF((COUNTIF('Build Your Schedule'!L$10:L$11,$B$8)+COUNTIF('Build Your Schedule'!M$5:M$6,$B$8))>0,1,0),0)","v":0},{"$f":"IF('Build Your Schedule'!N$7=$B$8,IF((COUNTIF('Build Your Schedule'!M$10:M$11,$B$8)+COUNTIF('Build Your Schedule'!N$5:N$6,$B$8))>0,1,0),0)","v":0},{"$f":"IF('Build Your Schedule'!O$7=$B$8,IF((COUNTIF('Build Your Schedule'!N$10:N$11,$B$8)+COUNTIF('Build Your Schedule'!O$5:O$6,$B$8))>0,1,0),0)","v":0},{"$f":"IF('Build Your Schedule'!P$7=$B$8,IF((COUNTIF('Build Your Schedule'!O$10:O$11,$B$8)+COUNTIF('Build Your Schedule'!P$5:P$6,$B$8))>0,1,0),0)","v":0},{"$f":"IF('Build Your Schedule'!Q$7=$B$8,IF((COUNTIF('Build Your Schedule'!P$10:P$11,$B$8)+COUNTIF('Build Your Schedule'!Q$5:Q$6,$B$8))>0,1,0),0)","v":0},{"$f":"IF('Build Your Schedule'!R$7=$B$8,IF((COUNTIF('Build Your Schedule'!Q$10:Q$11,$B$8)+COUNTIF('Build Your Schedule'!R$5:R$6,$B$8))>0,1,0),0)","v":0},{"$f":"IF('Build Your Schedule'!S$7=$B$8,IF((COUNTIF('Build Your Schedule'!R$10:R$11,$B$8)+COUNTIF('Build Your Schedule'!S$5:S$6,$B$8))>0,1,0),0)","v":0},{"$f":"IF('Build Your Schedule'!T$7=$B$8,IF((COUNTIF('Build Your Schedule'!S$10:S$11,$B$8)+COUNTIF('Build Your Schedule'!T$5:T$6,$B$8))>0,1,0),0)","v":0},{"$f":"IF('Build Your Schedule'!U$7=$B$8,IF((COUNTIF('Build Your Schedule'!T$10:T$11,$B$8)+COUNTIF('Build Your Schedule'!U$5:U$6,$B$8))>0,1,0),0)","v":0},{"$f":"IF('Build Your Schedule'!V$7=$B$8,IF((COUNTIF('Build Your Schedule'!U$10:U$11,$B$8)+COUNTIF('Build Your Schedule'!V$5:V$6,$B$8))>0,1,0),0)","v":0},{"$f":"IF('Build Your Schedule'!W$7=$B$8,IF((COUNTIF('Build Your Schedule'!V$10:V$11,$B$8)+COUNTIF('Build Your Schedule'!W$5:W$6,$B$8))>0,1,0),0)","v":0},{"$f":"IF('Build Your Schedule'!X$7=$B$8,IF((COUNTIF('Build Your Schedule'!W$10:W$11,$B$8)+COUNTIF('Build Your Schedule'!X$5:X$6,$B$8))>0,1,0),0)","v":0},{"$f":"IF('Build Your Schedule'!Y$7=$B$8,IF((COUNTIF('Build Your Schedule'!X$10:X$11,$B$8)+COUNTIF('Build Your Schedule'!Y$5:Y$6,$B$8))>0,1,0),0)","v":0},{"$f":"IF('Build Your Schedule'!Z$7=$B$8,IF((COUNTIF('Build Your Schedule'!Y$10:Y$11,$B$8)+COUNTIF('Build Your Schedule'!Z$5:Z$6,$B$8))>0,1,0),0)","v":0},{"$f":"IF('Build Your Schedule'!AA$7=$B$8,IF((COUNTIF('Build Your Schedule'!Z$10:Z$11,$B$8)+COUNTIF('Build Your Schedule'!AA$5:AA$6,$B$8))>0,1,0),0)","v":0},{"$f":"IF('Build Your Schedule'!AB$7=$B$8,IF((COUNTIF('Build Your Schedule'!AA$10:AA$11,$B$8)+COUNTIF('Build Your Schedule'!AB$5:AB$6,$B$8))>0,1,0),0)","v":0},{"$f":"IF('Build Your Schedule'!AC$7=$B$8,IF((COUNTIF('Build Your Schedule'!AB$10:AB$11,$B$8)+COUNTIF('Build Your Schedule'!AC$5:AC$6,$B$8))>0,1,0),0)","v":0},{"$f":"IF('Build Your Schedule'!AD$7=$B$8,IF((COUNTIF('Build Your Schedule'!AC$10:AC$11,$B$8)+COUNTIF('Build Your Schedule'!AD$5:AD$6,$B$8))>0,1,0),0)","v":0},{"$f":"IF('Build Your Schedule'!AE$7=$B$8,IF((COUNTIF('Build Your Schedule'!AD$10:AD$11,$B$8)+COUNTIF('Build Your Schedule'!AE$5:AE$6,$B$8))>0,1,0),0)","v":0},{"$f":"IF('Build Your Schedule'!AF$7=$B$8,IF((COUNTIF('Build Your Schedule'!AE$10:AE$11,$B$8)+COUNTIF('Build Your Schedule'!AF$5:AF$6,$B$8))>0,1,0),0)","v":0},{"$f":"IF('Build Your Schedule'!AG$7=$B$8,IF((COUNTIF('Build Your Schedule'!AF$10:AF$11,$B$8)+COUNTIF('Build Your Schedule'!AG$5:AG$6,$B$8))>0,1,0),0)","v":0},{"$f":"IF('Build Your Schedule'!AH$7=$B$8,IF((COUNTIF('Build Your Schedule'!AG$10:AG$11,$B$8)+COUNTIF('Build Your Schedule'!AH$5:AH$6,$B$8))>0,1,0),0)","v":0},{"$f":"IF('Build Your Schedule'!AI$7=$B$8,IF((COUNTIF('Build Your Schedule'!AH$10:AH$11,$B$8)+COUNTIF('Build Your Schedule'!AI$5:AI$6,$B$8))>0,1,0),0)","v":0},{"$f":"IF('Build Your Schedule'!AJ$7=$B$8,IF((COUNTIF('Build Your Schedule'!AI$10:AI$11,$B$8)+COUNTIF('Build Your Schedule'!AJ$5:AJ$6,$B$8))>0,1,0),0)","v":0},{"$f":"IF('Build Your Schedule'!AK$7=$B$8,IF((COUNTIF('Build Your Schedule'!AJ$10:AJ$11,$B$8)+COUNTIF('Build Your Schedule'!AK$5:AK$6,$B$8))>0,1,0),0)","v":0}]
[null,"4p-1a",{"$f":"IF('Build Your Schedule'!H$8=$B$8,IF((COUNTIF('Build Your Schedule'!G$11,$B$8)+COUNTIF('Build Your Schedule'!H$5:H$7,$B$8))>0,1,0),0)","v":0},{"$f":"IF('Build Your Schedule'!I$8=$B$8,IF((COUNTIF('Build Your Schedule'!H$11,$B$8)+COUNTIF('Build Your Schedule'!I$5:I$7,$B$8))>0,1,0),0)","v":0},{"$f":"IF('Build Your Schedule'!J$8=$B$8,IF((COUNTIF('Build Your Schedule'!I$11,$B$8)+COUNTIF('Build Your Schedule'!J$5:J$7,$B$8))>0,1,0),0)","v":0},{"$f":"IF('Build Your Schedule'!K$8=$B$8,IF((COUNTIF('Build Your Schedule'!J$11,$B$8)+COUNTIF('Build Your Schedule'!K$5:K$7,$B$8))>0,1,0),0)","v":0},{"$f":"IF('Build Your Schedule'!L$8=$B$8,IF((COUNTIF('Build Your Schedule'!K$11,$B$8)+COUNTIF('Build Your Schedule'!L$5:L$7,$B$8))>0,1,0),0)","v":0},{"$f":"IF('Build Your Schedule'!M$8=$B$8,IF((COUNTIF('Build Your Schedule'!L$11,$B$8)+COUNTIF('Build Your Schedule'!M$5:M$7,$B$8))>0,1,0),0)","v":0},{"$f":"IF('Build Your Schedule'!N$8=$B$8,IF((COUNTIF('Build Your Schedule'!M$11,$B$8)+COUNTIF('Build Your Schedule'!N$5:N$7,$B$8))>0,1,0),0)","v":0},{"$f":"IF('Build Your Schedule'!O$8=$B$8,IF((COUNTIF('Build Your Schedule'!N$11,$B$8)+COUNTIF('Build Your Schedule'!O$5:O$7,$B$8))>0,1,0),0)","v":0},{"$f":"IF('Build Your Schedule'!P$8=$B$8,IF((COUNTIF('Build Your Schedule'!O$11,$B$8)+COUNTIF('Build Your Schedule'!P$5:P$7,$B$8))>0,1,0),0)","v":0},{"$f":"IF('Build Your Schedule'!Q$8=$B$8,IF((COUNTIF('Build Your Schedule'!P$11,$B$8)+COUNTIF('Build Your Schedule'!Q$5:Q$7,$B$8))>0,1,0),0)","v":0},{"$f":"IF('Build Your Schedule'!R$8=$B$8,IF((COUNTIF('Build Your Schedule'!Q$11,$B$8)+COUNTIF('Build Your Schedule'!R$5:R$7,$B$8))>0,1,0),0)","v":0},{"$f":"IF('Build Your Schedule'!S$8=$B$8,IF((COUNTIF('Build Your Schedule'!R$11,$B$8)+COUNTIF('Build Your Schedule'!S$5:S$7,$B$8))>0,1,0),0)","v":0},{"$f":"IF('Build Your Schedule'!T$8=$B$8,IF((COUNTIF('Build Your Schedule'!S$11,$B$8)+COUNTIF('Build Your Schedule'!T$5:T$7,$B$8))>0,1,0),0)","v":0},{"$f":"IF('Build Your Schedule'!U$8=$B$8,IF((COUNTIF('Build Your Schedule'!T$11,$B$8)+COUNTIF('Build Your Schedule'!U$5:U$7,$B$8))>0,1,0),0)","v":0},{"$f":"IF('Build Your Schedule'!V$8=$B$8,IF((COUNTIF('Build Your Schedule'!U$11,$B$8)+COUNTIF('Build Your Schedule'!V$5:V$7,$B$8))>0,1,0),0)","v":0},{"$f":"IF('Build Your Schedule'!W$8=$B$8,IF((COUNTIF('Build Your Schedule'!V$11,$B$8)+COUNTIF('Build Your Schedule'!W$5:W$7,$B$8))>0,1,0),0)","v":0},{"$f":"IF('Build Your Schedule'!X$8=$B$8,IF((COUNTIF('Build Your Schedule'!W$11,$B$8)+COUNTIF('Build Your Schedule'!X$5:X$7,$B$8))>0,1,0),0)","v":0},{"$f":"IF('Build Your Schedule'!Y$8=$B$8,IF((COUNTIF('Build Your Schedule'!X$11,$B$8)+COUNTIF('Build Your Schedule'!Y$5:Y$7,$B$8))>0,1,0),0)","v":0},{"$f":"IF('Build Your Schedule'!Z$8=$B$8,IF((COUNTIF('Build Your Schedule'!Y$11,$B$8)+COUNTIF('Build Your Schedule'!Z$5:Z$7,$B$8))>0,1,0),0)","v":0},{"$f":"IF('Build Your Schedule'!AA$8=$B$8,IF((COUNTIF('Build Your Schedule'!Z$11,$B$8)+COUNTIF('Build Your Schedule'!AA$5:AA$7,$B$8))>0,1,0),0)","v":0},{"$f":"IF('Build Your Schedule'!AB$8=$B$8,IF((COUNTIF('Build Your Schedule'!AA$11,$B$8)+COUNTIF('Build Your Schedule'!AB$5:AB$7,$B$8))>0,1,0),0)","v":0},{"$f":"IF('Build Your Schedule'!AC$8=$B$8,IF((COUNTIF('Build Your Schedule'!AB$11,$B$8)+COUNTIF('Build Your Schedule'!AC$5:AC$7,$B$8))>0,1,0),0)","v":0},{"$f":"IF('Build Your Schedule'!AD$8=$B$8,IF((COUNTIF('Build Your Schedule'!AC$11,$B$8)+COUNTIF('Build Your Schedule'!AD$5:AD$7,$B$8))>0,1,0),0)","v":0},{"$f":"IF('Build Your Schedule'!AE$8=$B$8,IF((COUNTIF('Build Your Schedule'!AD$11,$B$8)+COUNTIF('Build Your Schedule'!AE$5:AE$7,$B$8))>0,1,0),0)","v":0},{"$f":"IF('Build Your Schedule'!AF$8=$B$8,IF((COUNTIF('Build Your Schedule'!AE$11,$B$8)+COUNTIF('Build Your Schedule'!AF$5:AF$7,$B$8))>0,1,0),0)","v":0},{"$f":"IF('Build Your Schedule'!AG$8=$B$8,IF((COUNTIF('Build Your Schedule'!AF$11,$B$8)+COUNTIF('Build Your Schedule'!AG$5:AG$7,$B$8))>0,1,0),0)","v":0},{"$f":"IF('Build Your Schedule'!AH$8=$B$8,IF((COUNTIF('Build Your Schedule'!AG$11,$B$8)+COUNTIF('Build Your Schedule'!AH$5:AH$7,$B$8))>0,1,0),0)","v":0},{"$f":"IF('Build Your Schedule'!AI$8=$B$8,IF((COUNTIF('Build Your Schedule'!AH$11,$B$8)+COUNTIF('Build Your Schedule'!AI$5:AI$7,$B$8))>0,1,0),0)","v":0},{"$f":"IF('Build Your Schedule'!AJ$8=$B$8,IF((COUNTIF('Build Your Schedule'!AI$11,$B$8)+COUNTIF('Build Your Schedule'!AJ$5:AJ$7,$B$8))>0,1,0),0)","v":0},{"$f":"IF('Build Your Schedule'!AK$8=$B$8,IF((COUNTIF('Build Your Schedule'!AJ$11,$B$8)+COUNTIF('Build Your Schedule'!AK$5:AK$7,$B$8))>0,1,0),0)","v":0}]
[null,"5p-2a",{"$f":"IF('Build Your Schedule'!H$9=$B$8,IF((COUNTIF('Build Your Schedule'!G$11,$B$8)+COUNTIF('Build Your Schedule'!H$5:H$8,$B$8))>0,1,0),0)","v":0},{"$f":"IF('Build Your Schedule'!I$9=$B$8,IF((COUNTIF('Build Your Schedule'!H$11,$B$8)+COUNTIF('Build Your Schedule'!I$5:I$8,$B$8))>0,1,0),0)","v":0},{"$f":"IF('Build Your Schedule'!J$9=$B$8,IF((COUNTIF('Build Your Schedule'!I$11,$B$8)+COUNTIF('Build Your Schedule'!J$5:J$8,$B$8))>0,1,0),0)","v":0},{"$f":"IF('Build Your Schedule'!K$9=$B$8,IF((COUNTIF('Build Your Schedule'!J$11,$B$8)+COUNTIF('Build Your Schedule'!K$5:K$8,$B$8))>0,1,0),0)","v":0},{"$f":"IF('Build Your Schedule'!L$9=$B$8,IF((COUNTIF('Build Your Schedule'!K$11,$B$8)+COUNTIF('Build Your Schedule'!L$5:L$8,$B$8))>0,1,0),0)","v":0},{"$f":"IF('Build Your Schedule'!M$9=$B$8,IF((COUNTIF('Build Your Schedule'!L$11,$B$8)+COUNTIF('Build Your Schedule'!M$5:M$8,$B$8))>0,1,0),0)","v":0},{"$f":"IF('Build Your Schedule'!N$9=$B$8,IF((COUNTIF('Build Your Schedule'!M$11,$B$8)+COUNTIF('Build Your Schedule'!N$5:N$8,$B$8))>0,1,0),0)","v":0},{"$f":"IF('Build Your Schedule'!O$9=$B$8,IF((COUNTIF('Build Your Schedule'!N$11,$B$8)+COUNTIF('Build Your Schedule'!O$5:O$8,$B$8))>0,1,0),0)","v":0},{"$f":"IF('Build Your Schedule'!P$9=$B$8,IF((COUNTIF('Build Your Schedule'!O$11,$B$8)+COUNTIF('Build Your Schedule'!P$5:P$8,$B$8))>0,1,0),0)","v":0},{"$f":"IF('Build Your Schedule'!Q$9=$B$8,IF((COUNTIF('Build Your Schedule'!P$11,$B$8)+COUNTIF('Build Your Schedule'!Q$5:Q$8,$B$8))>0,1,0),0)","v":0},{"$f":"IF('Build Your Schedule'!R$9=$B$8,IF((COUNTIF('Build Your Schedule'!Q$11,$B$8)+COUNTIF('Build Your Schedule'!R$5:R$8,$B$8))>0,1,0),0)","v":0},{"$f":"IF('Build Your Schedule'!S$9=$B$8,IF((COUNTIF('Build Your Schedule'!R$11,$B$8)+COUNTIF('Build Your Schedule'!S$5:S$8,$B$8))>0,1,0),0)","v":0},{"$f":"IF('Build Your Schedule'!T$9=$B$8,IF((COUNTIF('Build Your Schedule'!S$11,$B$8)+COUNTIF('Build Your Schedule'!T$5:T$8,$B$8))>0,1,0),0)","v":0},{"$f":"IF('Build Your Schedule'!U$9=$B$8,IF((COUNTIF('Build Your Schedule'!T$11,$B$8)+COUNTIF('Build Your Schedule'!U$5:U$8,$B$8))>0,1,0),0)","v":0},{"$f":"IF('Build Your Schedule'!V$9=$B$8,IF((COUNTIF('Build Your Schedule'!U$11,$B$8)+COUNTIF('Build Your Schedule'!V$5:V$8,$B$8))>0,1,0),0)","v":0},{"$f":"IF('Build Your Schedule'!W$9=$B$8,IF((COUNTIF('Build Your Schedule'!V$11,$B$8)+COUNTIF('Build Your Schedule'!W$5:W$8,$B$8))>0,1,0),0)","v":0},{"$f":"IF('Build Your Schedule'!X$9=$B$8,IF((COUNTIF('Build Your Schedule'!W$11,$B$8)+COUNTIF('Build Your Schedule'!X$5:X$8,$B$8))>0,1,0),0)","v":0},{"$f":"IF('Build Your Schedule'!Y$9=$B$8,IF((COUNTIF('Build Your Schedule'!X$11,$B$8)+COUNTIF('Build Your Schedule'!Y$5:Y$8,$B$8))>0,1,0),0)","v":0},{"$f":"IF('Build Your Schedule'!Z$9=$B$8,IF((COUNTIF('Build Your Schedule'!Y$11,$B$8)+COUNTIF('Build Your Schedule'!Z$5:Z$8,$B$8))>0,1,0),0)","v":0},{"$f":"IF('Build Your Schedule'!AA$9=$B$8,IF((COUNTIF('Build Your Schedule'!Z$11,$B$8)+COUNTIF('Build Your Schedule'!AA$5:AA$8,$B$8))>0,1,0),0)","v":0},{"$f":"IF('Build Your Schedule'!AB$9=$B$8,IF((COUNTIF('Build Your Schedule'!AA$11,$B$8)+COUNTIF('Build Your Schedule'!AB$5:AB$8,$B$8))>0,1,0),0)","v":0},{"$f":"IF('Build Your Schedule'!AC$9=$B$8,IF((COUNTIF('Build Your Schedule'!AB$11,$B$8)+COUNTIF('Build Your Schedule'!AC$5:AC$8,$B$8))>0,1,0),0)","v":0},{"$f":"IF('Build Your Schedule'!AD$9=$B$8,IF((COUNTIF('Build Your Schedule'!AC$11,$B$8)+COUNTIF('Build Your Schedule'!AD$5:AD$8,$B$8))>0,1,0),0)","v":0},{"$f":"IF('Build Your Schedule'!AE$9=$B$8,IF((COUNTIF('Build Your Schedule'!AD$11,$B$8)+COUNTIF('Build Your Schedule'!AE$5:AE$8,$B$8))>0,1,0),0)","v":0},{"$f":"IF('Build Your Schedule'!AF$9=$B$8,IF((COUNTIF('Build Your Schedule'!AE$11,$B$8)+COUNTIF('Build Your Schedule'!AF$5:AF$8,$B$8))>0,1,0),0)","v":0},{"$f":"IF('Build Your Schedule'!AG$9=$B$8,IF((COUNTIF('Build Your Schedule'!AF$11,$B$8)+COUNTIF('Build Your Schedule'!AG$5:AG$8,$B$8))>0,1,0),0)","v":0},{"$f":"IF('Build Your Schedule'!AH$9=$B$8,IF((COUNTIF('Build Your Schedule'!AG$11,$B$8)+COUNTIF('Build Your Schedule'!AH$5:AH$8,$B$8))>0,1,0),0)","v":0},{"$f":"IF('Build Your Schedule'!AI$9=$B$8,IF((COUNTIF('Build Your Schedule'!AH$11,$B$8)+COUNTIF('Build Your Schedule'!AI$5:AI$8,$B$8))>0,1,0),0)","v":0},{"$f":"IF('Build Your Schedule'!AJ$9=$B$8,IF((COUNTIF('Build Your Schedule'!AI$11,$B$8)+COUNTIF('Build Your Schedule'!AJ$5:AJ$8,$B$8))>0,1,0),0)","v":0},{"$f":"IF('Build Your Schedule'!AK$9=$B$8,IF((COUNTIF('Build Your Schedule'!AJ$11,$B$8)+COUNTIF('Build Your Schedule'!AK$5:AK$8,$B$8))>0,1,0),0)","v":0}]
[null,"8p-5a",{"$f":"IF('Build Your Schedule'!H$10=$B$8,IF(COUNTIF('Build Your Schedule'!H$5:H$9,$B$8)>0,1,0),0)","v":0},{"$f":"IF('Build Your Schedule'!I$10=$B$8,IF(COUNTIF('Build Your Schedule'!I$5:I$9,$B$8)>0,1,0),0)","v":0},{"$f":"IF('Build Your Schedule'!J$10=$B$8,IF(COUNTIF('Build Your Schedule'!J$5:J$9,$B$8)>0,1,0),0)","v":0},{"$f":"IF('Build Your Schedule'!K$10=$B$8,IF(COUNTIF('Build Your Schedule'!K$5:K$9,$B$8)>0,1,0),0)","v":0},{"$f":"IF('Build Your Schedule'!L$10=$B$8,IF(COUNTIF('Build Your Schedule'!L$5:L$9,$B$8)>0,1,0),0)","v":0},{"$f":"IF('Build Your Schedule'!M$10=$B$8,IF(COUNTIF('Build Your Schedule'!M$5:M$9,$B$8)>0,1,0),0)","v":0},{"$f":"IF('Build Your Schedule'!N$10=$B$8,IF(COUNTIF('Build Your Schedule'!N$5:N$9,$B$8)>0,1,0),0)","v":0},{"$f":"IF('Build Your Schedule'!O$10=$B$8,IF(COUNTIF('Build Your Schedule'!O$5:O$9,$B$8)>0,1,0),0)","v":0},{"$f":"IF('Build Your Schedule'!P$10=$B$8,IF(COUNTIF('Build Your Schedule'!P$5:P$9,$B$8)>0,1,0),0)","v":0},{"$f":"IF('Build Your Schedule'!Q$10=$B$8,IF(COUNTIF('Build Your Schedule'!Q$5:Q$9,$B$8)>0,1,0),0)","v":0},{"$f":"IF('Build Your Schedule'!R$10=$B$8,IF(COUNTIF('Build Your Schedule'!R$5:R$9,$B$8)>0,1,0),0)","v":0},{"$f":"IF('Build Your Schedule'!S$10=$B$8,IF(COUNTIF('Build Your Schedule'!S$5:S$9,$B$8)>0,1,0),0)","v":0},{"$f":"IF('Build Your Schedule'!T$10=$B$8,IF(COUNTIF('Build Your Schedule'!T$5:T$9,$B$8)>0,1,0),0)","v":0},{"$f":"IF('Build Your Schedule'!U$10=$B$8,IF(COUNTIF('Build Your Schedule'!U$5:U$9,$B$8)>0,1,0),0)","v":0},{"$f":"IF('Build Your Schedule'!V$10=$B$8,IF(COUNTIF('Build Your Schedule'!V$5:V$9,$B$8)>0,1,0),0)","v":0},{"$f":"IF('Build Your Schedule'!W$10=$B$8,IF(COUNTIF('Build Your Schedule'!W$5:W$9,$B$8)>0,1,0),0)","v":0},{"$f":"IF('Build Your Schedule'!X$10=$B$8,IF(COUNTIF('Build Your Schedule'!X$5:X$9,$B$8)>0,1,0),0)","v":0},{"$f":"IF('Build Your Schedule'!Y$10=$B$8,IF(COUNTIF('Build Your Schedule'!Y$5:Y$9,$B$8)>0,1,0),0)","v":0},{"$f":"IF('Build Your Schedule'!Z$10=$B$8,IF(COUNTIF('Build Your Schedule'!Z$5:Z$9,$B$8)>0,1,0),0)","v":0},{"$f":"IF('Build Your Schedule'!AA$10=$B$8,IF(COUNTIF('Build Your Schedule'!AA$5:AA$9,$B$8)>0,1,0),0)","v":0},{"$f":"IF('Build Your Schedule'!AB$10=$B$8,IF(COUNTIF('Build Your Schedule'!AB$5:AB$9,$B$8)>0,1,0),0)","v":0},{"$f":"IF('Build Your Schedule'!AC$10=$B$8,IF(COUNTIF('Build Your Schedule'!AC$5:AC$9,$B$8)>0,1,0),0)","v":0},{"$f":"IF('Build Your Schedule'!AD$10=$B$8,IF(COUNTIF('Build Your Schedule'!AD$5:AD$9,$B$8)>0,1,0),0)","v":0},{"$f":"IF('Build Your Schedule'!AE$10=$B$8,IF(COUNTIF('Build Your Schedule'!AE$5:AE$9,$B$8)>0,1,0),0)","v":0},{"$f":"IF('Build Your Schedule'!AF$10=$B$8,IF(COUNTIF('Build Your Schedule'!AF$5:AF$9,$B$8)>0,1,0),0)","v":0},{"$f":"IF('Build Your Schedule'!AG$10=$B$8,IF(COUNTIF('Build Your Schedule'!AG$5:AG$9,$B$8)>0,1,0),0)","v":0},{"$f":"IF('Build Your Schedule'!AH$10=$B$8,IF(COUNTIF('Build Your Schedule'!AH$5:AH$9,$B$8)>0,1,0),0)","v":0},{"$f":"IF('Build Your Schedule'!AI$10=$B$8,IF(COUNTIF('Build Your Schedule'!AI$5:AI$9,$B$8)>0,1,0),0)","v":0},{"$f":"IF('Build Your Schedule'!AJ$10=$B$8,IF(COUNTIF('Build Your Schedule'!AJ$5:AJ$9,$B$8)>0,1,0),0)","v":0},{"$f":"IF('Build Your Schedule'!AK$10=$B$8,IF(COUNTIF('Build Your Schedule'!AK$5:AK$9,$B$8)>0,1,0),0)","v":0}]
[null,"11p-8a",{"$f":"IF('Build Your Schedule'!H$11=$B$8,IF(COUNTIF('Build Your Schedule'!H$5:H$10,$B$8)>0,1,0),0)","v":0},{"$f":"IF('Build Your Schedule'!I$11=$B$8,IF(COUNTIF('Build Your Schedule'!I$5:I$10,$B$8)>0,1,0),0)","v":0},{"$f":"IF('Build Your Schedule'!J$11=$B$8,IF(COUNTIF('Build Your Schedule'!J$5:J$10,$B$8)>0,1,0),0)","v":0},{"$f":"IF('Build Your Schedule'!K$11=$B$8,IF(COUNTIF('Build Your Schedule'!K$5:K$10,$B$8)>0,1,0),0)","v":0},{"$f":"IF('Build Your Schedule'!L$11=$B$8,IF(COUNTIF('Build Your Schedule'!L$5:L$10,$B$8)>0,1,0),0)","v":0},{"$f":"IF('Build Your Schedule'!M$11=$B$8,IF(COUNTIF('Build Your Schedule'!M$5:M$10,$B$8)>0,1,0),0)","v":0},{"$f":"IF('Build Your Schedule'!N$11=$B$8,IF(COUNTIF('Build Your Schedule'!N$5:N$10,$B$8)>0,1,0),0)","v":0},{"$f":"IF('Build Your Schedule'!O$11=$B$8,IF(COUNTIF('Build Your Schedule'!O$5:O$10,$B$8)>0,1,0),0)","v":0},{"$f":"IF('Build Your Schedule'!P$11=$B$8,IF(COUNTIF('Build Your Schedule'!P$5:P$10,$B$8)>0,1,0),0)","v":0},{"$f":"IF('Build Your Schedule'!Q$11=$B$8,IF(COUNTIF('Build Your Schedule'!Q$5:Q$10,$B$8)>0,1,0),0)","v":0},{"$f":"IF('Build Your Schedule'!R$11=$B$8,IF(COUNTIF('Build Your Schedule'!R$5:R$10,$B$8)>0,1,0),0)","v":0},{"$f":"IF('Build Your Schedule'!S$11=$B$8,IF(COUNTIF('Build Your Schedule'!S$5:S$10,$B$8)>0,1,0),0)","v":0},{"$f":"IF('Build Your Schedule'!T$11=$B$8,IF(COUNTIF('Build Your Schedule'!T$5:T$10,$B$8)>0,1,0),0)","v":0},{"$f":"IF('Build Your Schedule'!U$11=$B$8,IF(COUNTIF('Build Your Schedule'!U$5:U$10,$B$8)>0,1,0),0)","v":0},{"$f":"IF('Build Your Schedule'!V$11=$B$8,IF(COUNTIF('Build Your Schedule'!V$5:V$10,$B$8)>0,1,0),0)","v":0},{"$f":"IF('Build Your Schedule'!W$11=$B$8,IF(COUNTIF('Build Your Schedule'!W$5:W$10,$B$8)>0,1,0),0)","v":0},{"$f":"IF('Build Your Schedule'!X$11=$B$8,IF(COUNTIF('Build Your Schedule'!X$5:X$10,$B$8)>0,1,0),0)","v":0},{"$f":"IF('Build Your Schedule'!Y$11=$B$8,IF(COUNTIF('Build Your Schedule'!Y$5:Y$10,$B$8)>0,1,0),0)","v":0},{"$f":"IF('Build Your Schedule'!Z$11=$B$8,IF(COUNTIF('Build Your Schedule'!Z$5:Z$10,$B$8)>0,1,0),0)","v":0},{"$f":"IF('Build Your Schedule'!AA$11=$B$8,IF(COUNTIF('Build Your Schedule'!AA$5:AA$10,$B$8)>0,1,0),0)","v":0},{"$f":"IF('Build Your Schedule'!AB$11=$B$8,IF(COUNTIF('Build Your Schedule'!AB$5:AB$10,$B$8)>0,1,0),0)","v":0},{"$f":"IF('Build Your Schedule'!AC$11=$B$8,IF(COUNTIF('Build Your Schedule'!AC$5:AC$10,$B$8)>0,1,0),0)","v":0},{"$f":"IF('Build Your Schedule'!AD$11=$B$8,IF(COUNTIF('Build Your Schedule'!AD$5:AD$10,$B$8)>0,1,0),0)","v":0},{"$f":"IF('Build Your Schedule'!AE$11=$B$8,IF(COUNTIF('Build Your Schedule'!AE$5:AE$10,$B$8)>0,1,0),0)","v":0},{"$f":"IF('Build Your Schedule'!AF$11=$B$8,IF(COUNTIF('Build Your Schedule'!AF$5:AF$10,$B$8)>0,1,0),0)","v":0},{"$f":"IF('Build Your Schedule'!AG$11=$B$8,IF(COUNTIF('Build Your Schedule'!AG$5:AG$10,$B$8)>0,1,0),0)","v":0},{"$f":"IF('Build Your Schedule'!AH$11=$B$8,IF(COUNTIF('Build Your Schedule'!AH$5:AH$10,$B$8)>0,1,0),0)","v":0},{"$f":"IF('Build Your Schedule'!AI$11=$B$8,IF(COUNTIF('Build Your Schedule'!AI$5:AI$10,$B$8)>0,1,0),0)","v":0},{"$f":"IF('Build Your Schedule'!AJ$11=$B$8,IF(COUNTIF('Build Your Schedule'!AJ$5:AJ$10,$B$8)>0,1,0),0)","v":0},{"$f":"IF('Build Your Schedule'!AK$11=$B$8,IF(COUNTIF('Build Your Schedule'!AK$5:AK$10,$B$8)>0,1,0),0)","v":0}]
[]
[null,{"$f":"B9","v":"Haynes"},"2015-06-01","2015-06-02","2015-06-03","2015-06-04","2015-06-05","2015-06-06","2015-06-07","2015-06-08","2015-06-09","2015-06-10","2015-06-11","2015-06-12","2015-06-13","2015-06-14","2015-06-15","2015-06-16","2015-06-17","2015-06-18","2015-06-19","2015-06-20","2015-06-21","2015-06-22","2015-06-23","2015-06-24","2015-06-25","2015-06-26","2015-06-27","2015-06-28","2015-06-29","2015-06-30"]
[null,"7a-4p",{"$f":"IF('Build Your Schedule'!H$5=$B$9,IF(COUNTIF('Build Your Schedule'!G$8:G$11,$B$9)>0,1,0),0)","v":0},{"$f":"IF('Build Your Schedule'!I$5=$B$9,IF(COUNTIF('Build Your Schedule'!H$8:H$11,$B$9)>0,1,0),0)","v":0},{"$f":"IF('Build Your Schedule'!J$5=$B$9,IF(COUNTIF('Build Your Schedule'!I$8:I$11,$B$9)>0,1,0),0)","v":0},{"$f":"IF('Build Your Schedule'!K$5=$B$9,IF(COUNTIF('Build Your Schedule'!J$8:J$11,$B$9)>0,1,0),0)","v":0},{"$f":"IF('Build Your Schedule'!L$5=$B$9,IF(COUNTIF('Build Your Schedule'!K$8:K$11,$B$9)>0,1,0),0)","v":0},{"$f":"IF('Build Your Schedule'!M$5=$B$9,IF(COUNTIF('Build Your Schedule'!L$8:L$11,$B$9)>0,1,0),0)","v":0},{"$f":"IF('Build Your Schedule'!N$5=$B$9,IF(COUNTIF('Build Your Schedule'!M$8:M$11,$B$9)>0,1,0),0)","v":0},{"$f":"IF('Build Your Schedule'!O$5=$B$9,IF(COUNTIF('Build Your Schedule'!N$8:N$11,$B$9)>0,1,0),0)","v":0},{"$f":"IF('Build Your Schedule'!P$5=$B$9,IF(COUNTIF('Build Your Schedule'!O$8:O$11,$B$9)>0,1,0),0)","v":0},{"$f":"IF('Build Your Schedule'!Q$5=$B$9,IF(COUNTIF('Build Your Schedule'!P$8:P$11,$B$9)>0,1,0),0)","v":0},{"$f":"IF('Build Your Schedule'!R$5=$B$9,IF(COUNTIF('Build Your Schedule'!Q$8:Q$11,$B$9)>0,1,0),0)","v":0},{"$f":"IF('Build Your Schedule'!S$5=$B$9,IF(COUNTIF('Build Your Schedule'!R$8:R$11,$B$9)>0,1,0),0)","v":0},{"$f":"IF('Build Your Schedule'!T$5=$B$9,IF(COUNTIF('Build Your Schedule'!S$8:S$11,$B$9)>0,1,0),0)","v":0},{"$f":"IF('Build Your Schedule'!U$5=$B$9,IF(COUNTIF('Build Your Schedule'!T$8:T$11,$B$9)>0,1,0),0)","v":0},{"$f":"IF('Build Your Schedule'!V$5=$B$9,IF(COUNTIF('Build Your Schedule'!U$8:U$11,$B$9)>0,1,0),0)","v":0},{"$f":"IF('Build Your Schedule'!W$5=$B$9,IF(COUNTIF('Build Your Schedule'!V$8:V$11,$B$9)>0,1,0),0)","v":0},{"$f":"IF('Build Your Schedule'!X$5=$B$9,IF(COUNTIF('Build Your Schedule'!W$8:W$11,$B$9)>0,1,0),0)","v":0},{"$f":"IF('Build Your Schedule'!Y$5=$B$9,IF(COUNTIF('Build Your Schedule'!X$8:X$11,$B$9)>0,1,0),0)","v":0},{"$f":"IF('Build Your Schedule'!Z$5=$B$9,IF(COUNTIF('Build Your Schedule'!Y$8:Y$11,$B$9)>0,1,0),0)","v":0},{"$f":"IF('Build Your Schedule'!AA$5=$B$9,IF(COUNTIF('Build Your Schedule'!Z$8:Z$11,$B$9)>0,1,0),0)","v":0},{"$f":"IF('Build Your Schedule'!AB$5=$B$9,IF(COUNTIF('Build Your Schedule'!AA$8:AA$11,$B$9)>0,1,0),0)","v":0},{"$f":"IF('Build Your Schedule'!AC$5=$B$9,IF(COUNTIF('Build Your Schedule'!AB$8:AB$11,$B$9)>0,1,0),0)","v":0},{"$f":"IF('Build Your Schedule'!AD$5=$B$9,IF(COUNTIF('Build Your Schedule'!AC$8:AC$11,$B$9)>0,1,0),0)","v":0},{"$f":"IF('Build Your Schedule'!AE$5=$B$9,IF(COUNTIF('Build Your Schedule'!AD$8:AD$11,$B$9)>0,1,0),0)","v":0},{"$f":"IF('Build Your Schedule'!AF$5=$B$9,IF(COUNTIF('Build Your Schedule'!AE$8:AE$11,$B$9)>0,1,0),0)","v":0},{"$f":"IF('Build Your Schedule'!AG$5=$B$9,IF(COUNTIF('Build Your Schedule'!AF$8:AF$11,$B$9)>0,1,0),0)","v":0},{"$f":"IF('Build Your Schedule'!AH$5=$B$9,IF(COUNTIF('Build Your Schedule'!AG$8:AG$11,$B$9)>0,1,0),0)","v":0},{"$f":"IF('Build Your Schedule'!AI$5=$B$9,IF(COUNTIF('Build Your Schedule'!AH$8:AH$11,$B$9)>0,1,0),0)","v":0},{"$f":"IF('Build Your Schedule'!AJ$5=$B$9,IF(COUNTIF('Build Your Schedule'!AI$8:AI$11,$B$9)>0,1,0),0)","v":0},{"$f":"IF('Build Your Schedule'!AK$5=$B$9,IF(COUNTIF('Build Your Schedule'!AJ$8:AJ$11,$B$9)>0,1,0),0)","v":0}]
[null,"9a-6p",{"$f":"IF('Build Your Schedule'!H$6=$B$9,IF((COUNTIF('Build Your Schedule'!G$8:G$11,$B$9)+COUNTIF('Build Your Schedule'!H$5,$B$9))>0,1,0),0)","v":0},{"$f":"IF('Build Your Schedule'!I$6=$B$9,IF((COUNTIF('Build Your Schedule'!H$8:H$11,$B$9)+COUNTIF('Build Your Schedule'!I$5,$B$9))>0,1,0),0)","v":0},{"$f":"IF('Build Your Schedule'!J$6=$B$9,IF((COUNTIF('Build Your Schedule'!I$8:I$11,$B$9)+COUNTIF('Build Your Schedule'!J$5,$B$9))>0,1,0),0)","v":0},{"$f":"IF('Build Your Schedule'!K$6=$B$9,IF((COUNTIF('Build Your Schedule'!J$8:J$11,$B$9)+COUNTIF('Build Your Schedule'!K$5,$B$9))>0,1,0),0)","v":0},{"$f":"IF('Build Your Schedule'!L$6=$B$9,IF((COUNTIF('Build Your Schedule'!K$8:K$11,$B$9)+COUNTIF('Build Your Schedule'!L$5,$B$9))>0,1,0),0)","v":0},{"$f":"IF('Build Your Schedule'!M$6=$B$9,IF((COUNTIF('Build Your Schedule'!L$8:L$11,$B$9)+COUNTIF('Build Your Schedule'!M$5,$B$9))>0,1,0),0)","v":0},{"$f":"IF('Build Your Schedule'!N$6=$B$9,IF((COUNTIF('Build Your Schedule'!M$8:M$11,$B$9)+COUNTIF('Build Your Schedule'!N$5,$B$9))>0,1,0),0)","v":0},{"$f":"IF('Build Your Schedule'!O$6=$B$9,IF((COUNTIF('Build Your Schedule'!N$8:N$11,$B$9)+COUNTIF('Build Your Schedule'!O$5,$B$9))>0,1,0),0)","v":0},{"$f":"IF('Build Your Schedule'!P$6=$B$9,IF((COUNTIF('Build Your Schedule'!O$8:O$11,$B$9)+COUNTIF('Build Your Schedule'!P$5,$B$9))>0,1,0),0)","v":0},{"$f":"IF('Build Your Schedule'!Q$6=$B$9,IF((COUNTIF('Build Your Schedule'!P$8:P$11,$B$9)+COUNTIF('Build Your Schedule'!Q$5,$B$9))>0,1,0),0)","v":0},{"$f":"IF('Build Your Schedule'!R$6=$B$9,IF((COUNTIF('Build Your Schedule'!Q$8:Q$11,$B$9)+COUNTIF('Build Your Schedule'!R$5,$B$9))>0,1,0),0)","v":0},{"$f":"IF('Build Your Schedule'!S$6=$B$9,IF((COUNTIF('Build Your Schedule'!R$8:R$11,$B$9)+COUNTIF('Build Your Schedule'!S$5,$B$9))>0,1,0),0)","v":0},{"$f":"IF('Build Your Schedule'!T$6=$B$9,IF((COUNTIF('Build Your Schedule'!S$8:S$11,$B$9)+COUNTIF('Build Your Schedule'!T$5,$B$9))>0,1,0),0)","v":0},{"$f":"IF('Build Your Schedule'!U$6=$B$9,IF((COUNTIF('Build Your Schedule'!T$8:T$11,$B$9)+COUNTIF('Build Your Schedule'!U$5,$B$9))>0,1,0),0)","v":0},{"$f":"IF('Build Your Schedule'!V$6=$B$9,IF((COUNTIF('Build Your Schedule'!U$8:U$11,$B$9)+COUNTIF('Build Your Schedule'!V$5,$B$9))>0,1,0),0)","v":0},{"$f":"IF('Build Your Schedule'!W$6=$B$9,IF((COUNTIF('Build Your Schedule'!V$8:V$11,$B$9)+COUNTIF('Build Your Schedule'!W$5,$B$9))>0,1,0),0)","v":0},{"$f":"IF('Build Your Schedule'!X$6=$B$9,IF((COUNTIF('Build Your Schedule'!W$8:W$11,$B$9)+COUNTIF('Build Your Schedule'!X$5,$B$9))>0,1,0),0)","v":0},{"$f":"IF('Build Your Schedule'!Y$6=$B$9,IF((COUNTIF('Build Your Schedule'!X$8:X$11,$B$9)+COUNTIF('Build Your Schedule'!Y$5,$B$9))>0,1,0),0)","v":0},{"$f":"IF('Build Your Schedule'!Z$6=$B$9,IF((COUNTIF('Build Your Schedule'!Y$8:Y$11,$B$9)+COUNTIF('Build Your Schedule'!Z$5,$B$9))>0,1,0),0)","v":0},{"$f":"IF('Build Your Schedule'!AA$6=$B$9,IF((COUNTIF('Build Your Schedule'!Z$8:Z$11,$B$9)+COUNTIF('Build Your Schedule'!AA$5,$B$9))>0,1,0),0)","v":0},{"$f":"IF('Build Your Schedule'!AB$6=$B$9,IF((COUNTIF('Build Your Schedule'!AA$8:AA$11,$B$9)+COUNTIF('Build Your Schedule'!AB$5,$B$9))>0,1,0),0)","v":0},{"$f":"IF('Build Your Schedule'!AC$6=$B$9,IF((COUNTIF('Build Your Schedule'!AB$8:AB$11,$B$9)+COUNTIF('Build Your Schedule'!AC$5,$B$9))>0,1,0),0)","v":0},{"$f":"IF('Build Your Schedule'!AD$6=$B$9,IF((COUNTIF('Build Your Schedule'!AC$8:AC$11,$B$9)+COUNTIF('Build Your Schedule'!AD$5,$B$9))>0,1,0),0)","v":0},{"$f":"IF('Build Your Schedule'!AE$6=$B$9,IF((COUNTIF('Build Your Schedule'!AD$8:AD$11,$B$9)+COUNTIF('Build Your Schedule'!AE$5,$B$9))>0,1,0),0)","v":0},{"$f":"IF('Build Your Schedule'!AF$6=$B$9,IF((COUNTIF('Build Your Schedule'!AE$8:AE$11,$B$9)+COUNTIF('Build Your Schedule'!AF$5,$B$9))>0,1,0),0)","v":0},{"$f":"IF('Build Your Schedule'!AG$6=$B$9,IF((COUNTIF('Build Your Schedule'!AF$8:AF$11,$B$9)+COUNTIF('Build Your Schedule'!AG$5,$B$9))>0,1,0),0)","v":0},{"$f":"IF('Build Your Schedule'!AH$6=$B$9,IF((COUNTIF('Build Your Schedule'!AG$8:AG$11,$B$9)+COUNTIF('Build Your Schedule'!AH$5,$B$9))>0,1,0),0)","v":0},{"$f":"IF('Build Your Schedule'!AI$6=$B$9,IF((COUNTIF('Build Your Schedule'!AH$8:AH$11,$B$9)+COUNTIF('Build Your Schedule'!AI$5,$B$9))>0,1,0),0)","v":0},{"$f":"IF('Build Your Schedule'!AJ$6=$B$9,IF((COUNTIF('Build Your Schedule'!AI$8:AI$11,$B$9)+COUNTIF('Build Your Schedule'!AJ$5,$B$9))>0,1,0),0)","v":0},{"$f":"IF('Build Your Schedule'!AK$6=$B$9,IF((COUNTIF('Build Your Schedule'!AJ$8:AJ$11,$B$9)+COUNTIF('Build Your Schedule'!AK$5,$B$9))>0,1,0),0)","v":0}]
[null,"12p-9p",{"$f":"IF('Build Your Schedule'!H$7=$B$9,IF((COUNTIF('Build Your Schedule'!G$10:G$11,$B$9)+COUNTIF('Build Your Schedule'!H$5:H$6,$B$9))>0,1,0),0)","v":0},{"$f":"IF('Build Your Schedule'!I$7=$B$9,IF((COUNTIF('Build Your Schedule'!H$10:H$11,$B$9)+COUNTIF('Build Your Schedule'!I$5:I$6,$B$9))>0,1,0),0)","v":0},{"$f":"IF('Build Your Schedule'!J$7=$B$9,IF((COUNTIF('Build Your Schedule'!I$10:I$11,$B$9)+COUNTIF('Build Your Schedule'!J$5:J$6,$B$9))>0,1,0),0)","v":0},{"$f":"IF('Build Your Schedule'!K$7=$B$9,IF((COUNTIF('Build Your Schedule'!J$10:J$11,$B$9)+COUNTIF('Build Your Schedule'!K$5:K$6,$B$9))>0,1,0),0)","v":0},{"$f":"IF('Build Your Schedule'!L$7=$B$9,IF((COUNTIF('Build Your Schedule'!K$10:K$11,$B$9)+COUNTIF('Build Your Schedule'!L$5:L$6,$B$9))>0,1,0),0)","v":0},{"$f":"IF('Build Your Schedule'!M$7=$B$9,IF((COUNTIF('Build Your Schedule'!L$10:L$11,$B$9)+COUNTIF('Build Your Schedule'!M$5:M$6,$B$9))>0,1,0),0)","v":0},{"$f":"IF('Build Your Schedule'!N$7=$B$9,IF((COUNTIF('Build Your Schedule'!M$10:M$11,$B$9)+COUNTIF('Build Your Schedule'!N$5:N$6,$B$9))>0,1,0),0)","v":0},{"$f":"IF('Build Your Schedule'!O$7=$B$9,IF((COUNTIF('Build Your Schedule'!N$10:N$11,$B$9)+COUNTIF('Build Your Schedule'!O$5:O$6,$B$9))>0,1,0),0)","v":0},{"$f":"IF('Build Your Schedule'!P$7=$B$9,IF((COUNTIF('Build Your Schedule'!O$10:O$11,$B$9)+COUNTIF('Build Your Schedule'!P$5:P$6,$B$9))>0,1,0),0)","v":0},{"$f":"IF('Build Your Schedule'!Q$7=$B$9,IF((COUNTIF('Build Your Schedule'!P$10:P$11,$B$9)+COUNTIF('Build Your Schedule'!Q$5:Q$6,$B$9))>0,1,0),0)","v":0},{"$f":"IF('Build Your Schedule'!R$7=$B$9,IF((COUNTIF('Build Your Schedule'!Q$10:Q$11,$B$9)+COUNTIF('Build Your Schedule'!R$5:R$6,$B$9))>0,1,0),0)","v":0},{"$f":"IF('Build Your Schedule'!S$7=$B$9,IF((COUNTIF('Build Your Schedule'!R$10:R$11,$B$9)+COUNTIF('Build Your Schedule'!S$5:S$6,$B$9))>0,1,0),0)","v":0},{"$f":"IF('Build Your Schedule'!T$7=$B$9,IF((COUNTIF('Build Your Schedule'!S$10:S$11,$B$9)+COUNTIF('Build Your Schedule'!T$5:T$6,$B$9))>0,1,0),0)","v":0},{"$f":"IF('Build Your Schedule'!U$7=$B$9,IF((COUNTIF('Build Your Schedule'!T$10:T$11,$B$9)+COUNTIF('Build Your Schedule'!U$5:U$6,$B$9))>0,1,0),0)","v":0},{"$f":"IF('Build Your Schedule'!V$7=$B$9,IF((COUNTIF('Build Your Schedule'!U$10:U$11,$B$9)+COUNTIF('Build Your Schedule'!V$5:V$6,$B$9))>0,1,0),0)","v":0},{"$f":"IF('Build Your Schedule'!W$7=$B$9,IF((COUNTIF('Build Your Schedule'!V$10:V$11,$B$9)+COUNTIF('Build Your Schedule'!W$5:W$6,$B$9))>0,1,0),0)","v":0},{"$f":"IF('Build Your Schedule'!X$7=$B$9,IF((COUNTIF('Build Your Schedule'!W$10:W$11,$B$9)+COUNTIF('Build Your Schedule'!X$5:X$6,$B$9))>0,1,0),0)","v":0},{"$f":"IF('Build Your Schedule'!Y$7=$B$9,IF((COUNTIF('Build Your Schedule'!X$10:X$11,$B$9)+COUNTIF('Build Your Schedule'!Y$5:Y$6,$B$9))>0,1,0),0)","v":0},{"$f":"IF('Build Your Schedule'!Z$7=$B$9,IF((COUNTIF('Build Your Schedule'!Y$10:Y$11,$B$9)+COUNTIF('Build Your Schedule'!Z$5:Z$6,$B$9))>0,1,0),0)","v":0},{"$f":"IF('Build Your Schedule'!AA$7=$B$9,IF((COUNTIF('Build Your Schedule'!Z$10:Z$11,$B$9)+COUNTIF('Build Your Schedule'!AA$5:AA$6,$B$9))>0,1,0),0)","v":0},{"$f":"IF('Build Your Schedule'!AB$7=$B$9,IF((COUNTIF('Build Your Schedule'!AA$10:AA$11,$B$9)+COUNTIF('Build Your Schedule'!AB$5:AB$6,$B$9))>0,1,0),0)","v":0},{"$f":"IF('Build Your Schedule'!AC$7=$B$9,IF((COUNTIF('Build Your Schedule'!AB$10:AB$11,$B$9)+COUNTIF('Build Your Schedule'!AC$5:AC$6,$B$9))>0,1,0),0)","v":0},{"$f":"IF('Build Your Schedule'!AD$7=$B$9,IF((COUNTIF('Build Your Schedule'!AC$10:AC$11,$B$9)+COUNTIF('Build Your Schedule'!AD$5:AD$6,$B$9))>0,1,0),0)","v":0},{"$f":"IF('Build Your Schedule'!AE$7=$B$9,IF((COUNTIF('Build Your Schedule'!AD$10:AD$11,$B$9)+COUNTIF('Build Your Schedule'!AE$5:AE$6,$B$9))>0,1,0),0)","v":0},{"$f":"IF('Build Your Schedule'!AF$7=$B$9,IF((COUNTIF('Build Your Schedule'!AE$10:AE$11,$B$9)+COUNTIF('Build Your Schedule'!AF$5:AF$6,$B$9))>0,1,0),0)","v":0},{"$f":"IF('Build Your Schedule'!AG$7=$B$9,IF((COUNTIF('Build Your Schedule'!AF$10:AF$11,$B$9)+COUNTIF('Build Your Schedule'!AG$5:AG$6,$B$9))>0,1,0),0)","v":0},{"$f":"IF('Build Your Schedule'!AH$7=$B$9,IF((COUNTIF('Build Your Schedule'!AG$10:AG$11,$B$9)+COUNTIF('Build Your Schedule'!AH$5:AH$6,$B$9))>0,1,0),0)","v":0},{"$f":"IF('Build Your Schedule'!AI$7=$B$9,IF((COUNTIF('Build Your Schedule'!AH$10:AH$11,$B$9)+COUNTIF('Build Your Schedule'!AI$5:AI$6,$B$9))>0,1,0),0)","v":0},{"$f":"IF('Build Your Schedule'!AJ$7=$B$9,IF((COUNTIF('Build Your Schedule'!AI$10:AI$11,$B$9)+COUNTIF('Build Your Schedule'!AJ$5:AJ$6,$B$9))>0,1,0),0)","v":0},{"$f":"IF('Build Your Schedule'!AK$7=$B$9,IF((COUNTIF('Build Your Schedule'!AJ$10:AJ$11,$B$9)+COUNTIF('Build Your Schedule'!AK$5:AK$6,$B$9))>0,1,0),0)","v":0}]
[null,"4p-1a",{"$f":"IF('Build Your Schedule'!H$8=$B$9,IF((COUNTIF('Build Your Schedule'!G$11,$B$9)+COUNTIF('Build Your Schedule'!H$5:H$7,$B$9))>0,1,0),0)","v":0},{"$f":"IF('Build Your Schedule'!I$8=$B$9,IF((COUNTIF('Build Your Schedule'!H$11,$B$9)+COUNTIF('Build Your Schedule'!I$5:I$7,$B$9))>0,1,0),0)","v":0},{"$f":"IF('Build Your Schedule'!J$8=$B$9,IF((COUNTIF('Build Your Schedule'!I$11,$B$9)+COUNTIF('Build Your Schedule'!J$5:J$7,$B$9))>0,1,0),0)","v":0},{"$f":"IF('Build Your Schedule'!K$8=$B$9,IF((COUNTIF('Build Your Schedule'!J$11,$B$9)+COUNTIF('Build Your Schedule'!K$5:K$7,$B$9))>0,1,0),0)","v":0},{"$f":"IF('Build Your Schedule'!L$8=$B$9,IF((COUNTIF('Build Your Schedule'!K$11,$B$9)+COUNTIF('Build Your Schedule'!L$5:L$7,$B$9))>0,1,0),0)","v":0},{"$f":"IF('Build Your Schedule'!M$8=$B$9,IF((COUNTIF('Build Your Schedule'!L$11,$B$9)+COUNTIF('Build Your Schedule'!M$5:M$7,$B$9))>0,1,0),0)","v":0},{"$f":"IF('Build Your Schedule'!N$8=$B$9,IF((COUNTIF('Build Your Schedule'!M$11,$B$9)+COUNTIF('Build Your Schedule'!N$5:N$7,$B$9))>0,1,0),0)","v":0},{"$f":"IF('Build Your Schedule'!O$8=$B$9,IF((COUNTIF('Build Your Schedule'!N$11,$B$9)+COUNTIF('Build Your Schedule'!O$5:O$7,$B$9))>0,1,0),0)","v":0},{"$f":"IF('Build Your Schedule'!P$8=$B$9,IF((COUNTIF('Build Your Schedule'!O$11,$B$9)+COUNTIF('Build Your Schedule'!P$5:P$7,$B$9))>0,1,0),0)","v":0},{"$f":"IF('Build Your Schedule'!Q$8=$B$9,IF((COUNTIF('Build Your Schedule'!P$11,$B$9)+COUNTIF('Build Your Schedule'!Q$5:Q$7,$B$9))>0,1,0),0)","v":0},{"$f":"IF('Build Your Schedule'!R$8=$B$9,IF((COUNTIF('Build Your Schedule'!Q$11,$B$9)+COUNTIF('Build Your Schedule'!R$5:R$7,$B$9))>0,1,0),0)","v":0},{"$f":"IF('Build Your Schedule'!S$8=$B$9,IF((COUNTIF('Build Your Schedule'!R$11,$B$9)+COUNTIF('Build Your Schedule'!S$5:S$7,$B$9))>0,1,0),0)","v":0},{"$f":"IF('Build Your Schedule'!T$8=$B$9,IF((COUNTIF('Build Your Schedule'!S$11,$B$9)+COUNTIF('Build Your Schedule'!T$5:T$7,$B$9))>0,1,0),0)","v":0},{"$f":"IF('Build Your Schedule'!U$8=$B$9,IF((COUNTIF('Build Your Schedule'!T$11,$B$9)+COUNTIF('Build Your Schedule'!U$5:U$7,$B$9))>0,1,0),0)","v":0},{"$f":"IF('Build Your Schedule'!V$8=$B$9,IF((COUNTIF('Build Your Schedule'!U$11,$B$9)+COUNTIF('Build Your Schedule'!V$5:V$7,$B$9))>0,1,0),0)","v":0},{"$f":"IF('Build Your Schedule'!W$8=$B$9,IF((COUNTIF('Build Your Schedule'!V$11,$B$9)+COUNTIF('Build Your Schedule'!W$5:W$7,$B$9))>0,1,0),0)","v":0},{"$f":"IF('Build Your Schedule'!X$8=$B$9,IF((COUNTIF('Build Your Schedule'!W$11,$B$9)+COUNTIF('Build Your Schedule'!X$5:X$7,$B$9))>0,1,0),0)","v":0},{"$f":"IF('Build Your Schedule'!Y$8=$B$9,IF((COUNTIF('Build Your Schedule'!X$11,$B$9)+COUNTIF('Build Your Schedule'!Y$5:Y$7,$B$9))>0,1,0),0)","v":0},{"$f":"IF('Build Your Schedule'!Z$8=$B$9,IF((COUNTIF('Build Your Schedule'!Y$11,$B$9)+COUNTIF('Build Your Schedule'!Z$5:Z$7,$B$9))>0,1,0),0)","v":0},{"$f":"IF('Build Your Schedule'!AA$8=$B$9,IF((COUNTIF('Build Your Schedule'!Z$11,$B$9)+COUNTIF('Build Your Schedule'!AA$5:AA$7,$B$9))>0,1,0),0)","v":0},{"$f":"IF('Build Your Schedule'!AB$8=$B$9,IF((COUNTIF('Build Your Schedule'!AA$11,$B$9)+COUNTIF('Build Your Schedule'!AB$5:AB$7,$B$9))>0,1,0),0)","v":0},{"$f":"IF('Build Your Schedule'!AC$8=$B$9,IF((COUNTIF('Build Your Schedule'!AB$11,$B$9)+COUNTIF('Build Your Schedule'!AC$5:AC$7,$B$9))>0,1,0),0)","v":0},{"$f":"IF('Build Your Schedule'!AD$8=$B$9,IF((COUNTIF('Build Your Schedule'!AC$11,$B$9)+COUNTIF('Build Your Schedule'!AD$5:AD$7,$B$9))>0,1,0),0)","v":0},{"$f":"IF('Build Your Schedule'!AE$8=$B$9,IF((COUNTIF('Build Your Schedule'!AD$11,$B$9)+COUNTIF('Build Your Schedule'!AE$5:AE$7,$B$9))>0,1,0),0)","v":0},{"$f":"IF('Build Your Schedule'!AF$8=$B$9,IF((COUNTIF('Build Your Schedule'!AE$11,$B$9)+COUNTIF('Build Your Schedule'!AF$5:AF$7,$B$9))>0,1,0),0)","v":0},{"$f":"IF('Build Your Schedule'!AG$8=$B$9,IF((COUNTIF('Build Your Schedule'!AF$11,$B$9)+COUNTIF('Build Your Schedule'!AG$5:AG$7,$B$9))>0,1,0),0)","v":0},{"$f":"IF('Build Your Schedule'!AH$8=$B$9,IF((COUNTIF('Build Your Schedule'!AG$11,$B$9)+COUNTIF('Build Your Schedule'!AH$5:AH$7,$B$9))>0,1,0),0)","v":0},{"$f":"IF('Build Your Schedule'!AI$8=$B$9,IF((COUNTIF('Build Your Schedule'!AH$11,$B$9)+COUNTIF('Build Your Schedule'!AI$5:AI$7,$B$9))>0,1,0),0)","v":0},{"$f":"IF('Build Your Schedule'!AJ$8=$B$9,IF((COUNTIF('Build Your Schedule'!AI$11,$B$9)+COUNTIF('Build Your Schedule'!AJ$5:AJ$7,$B$9))>0,1,0),0)","v":0},{"$f":"IF('Build Your Schedule'!AK$8=$B$9,IF((COUNTIF('Build Your Schedule'!AJ$11,$B$9)+COUNTIF('Build Your Schedule'!AK$5:AK$7,$B$9))>0,1,0),0)","v":0}]
[null,"5p-2a",{"$f":"IF('Build Your Schedule'!H$9=$B$9,IF((COUNTIF('Build Your Schedule'!G$11,$B$9)+COUNTIF('Build Your Schedule'!H$5:H$8,$B$9))>0,1,0),0)","v":0},{"$f":"IF('Build Your Schedule'!I$9=$B$9,IF((COUNTIF('Build Your Schedule'!H$11,$B$9)+COUNTIF('Build Your Schedule'!I$5:I$8,$B$9))>0,1,0),0)","v":0},{"$f":"IF('Build Your Schedule'!J$9=$B$9,IF((COUNTIF('Build Your Schedule'!I$11,$B$9)+COUNTIF('Build Your Schedule'!J$5:J$8,$B$9))>0,1,0),0)","v":0},{"$f":"IF('Build Your Schedule'!K$9=$B$9,IF((COUNTIF('Build Your Schedule'!J$11,$B$9)+COUNTIF('Build Your Schedule'!K$5:K$8,$B$9))>0,1,0),0)","v":0},{"$f":"IF('Build Your Schedule'!L$9=$B$9,IF((COUNTIF('Build Your Schedule'!K$11,$B$9)+COUNTIF('Build Your Schedule'!L$5:L$8,$B$9))>0,1,0),0)","v":0},{"$f":"IF('Build Your Schedule'!M$9=$B$9,IF((COUNTIF('Build Your Schedule'!L$11,$B$9)+COUNTIF('Build Your Schedule'!M$5:M$8,$B$9))>0,1,0),0)","v":0},{"$f":"IF('Build Your Schedule'!N$9=$B$9,IF((COUNTIF('Build Your Schedule'!M$11,$B$9)+COUNTIF('Build Your Schedule'!N$5:N$8,$B$9))>0,1,0),0)","v":0},{"$f":"IF('Build Your Schedule'!O$9=$B$9,IF((COUNTIF('Build Your Schedule'!N$11,$B$9)+COUNTIF('Build Your Schedule'!O$5:O$8,$B$9))>0,1,0),0)","v":0},{"$f":"IF('Build Your Schedule'!P$9=$B$9,IF((COUNTIF('Build Your Schedule'!O$11,$B$9)+COUNTIF('Build Your Schedule'!P$5:P$8,$B$9))>0,1,0),0)","v":0},{"$f":"IF('Build Your Schedule'!Q$9=$B$9,IF((COUNTIF('Build Your Schedule'!P$11,$B$9)+COUNTIF('Build Your Schedule'!Q$5:Q$8,$B$9))>0,1,0),0)","v":0},{"$f":"IF('Build Your Schedule'!R$9=$B$9,IF((COUNTIF('Build Your Schedule'!Q$11,$B$9)+COUNTIF('Build Your Schedule'!R$5:R$8,$B$9))>0,1,0),0)","v":0},{"$f":"IF('Build Your Schedule'!S$9=$B$9,IF((COUNTIF('Build Your Schedule'!R$11,$B$9)+COUNTIF('Build Your Schedule'!S$5:S$8,$B$9))>0,1,0),0)","v":0},{"$f":"IF('Build Your Schedule'!T$9=$B$9,IF((COUNTIF('Build Your Schedule'!S$11,$B$9)+COUNTIF('Build Your Schedule'!T$5:T$8,$B$9))>0,1,0),0)","v":0},{"$f":"IF('Build Your Schedule'!U$9=$B$9,IF((COUNTIF('Build Your Schedule'!T$11,$B$9)+COUNTIF('Build Your Schedule'!U$5:U$8,$B$9))>0,1,0),0)","v":0},{"$f":"IF('Build Your Schedule'!V$9=$B$9,IF((COUNTIF('Build Your Schedule'!U$11,$B$9)+COUNTIF('Build Your Schedule'!V$5:V$8,$B$9))>0,1,0),0)","v":0},{"$f":"IF('Build Your Schedule'!W$9=$B$9,IF((COUNTIF('Build Your Schedule'!V$11,$B$9)+COUNTIF('Build Your Schedule'!W$5:W$8,$B$9))>0,1,0),0)","v":0},{"$f":"IF('Build Your Schedule'!X$9=$B$9,IF((COUNTIF('Build Your Schedule'!W$11,$B$9)+COUNTIF('Build Your Schedule'!X$5:X$8,$B$9))>0,1,0),0)","v":0},{"$f":"IF('Build Your Schedule'!Y$9=$B$9,IF((COUNTIF('Build Your Schedule'!X$11,$B$9)+COUNTIF('Build Your Schedule'!Y$5:Y$8,$B$9))>0,1,0),0)","v":0},{"$f":"IF('Build Your Schedule'!Z$9=$B$9,IF((COUNTIF('Build Your Schedule'!Y$11,$B$9)+COUNTIF('Build Your Schedule'!Z$5:Z$8,$B$9))>0,1,0),0)","v":0},{"$f":"IF('Build Your Schedule'!AA$9=$B$9,IF((COUNTIF('Build Your Schedule'!Z$11,$B$9)+COUNTIF('Build Your Schedule'!AA$5:AA$8,$B$9))>0,1,0),0)","v":0},{"$f":"IF('Build Your Schedule'!AB$9=$B$9,IF((COUNTIF('Build Your Schedule'!AA$11,$B$9)+COUNTIF('Build Your Schedule'!AB$5:AB$8,$B$9))>0,1,0),0)","v":0},{"$f":"IF('Build Your Schedule'!AC$9=$B$9,IF((COUNTIF('Build Your Schedule'!AB$11,$B$9)+COUNTIF('Build Your Schedule'!AC$5:AC$8,$B$9))>0,1,0),0)","v":0},{"$f":"IF('Build Your Schedule'!AD$9=$B$9,IF((COUNTIF('Build Your Schedule'!AC$11,$B$9)+COUNTIF('Build Your Schedule'!AD$5:AD$8,$B$9))>0,1,0),0)","v":0},{"$f":"IF('Build Your Schedule'!AE$9=$B$9,IF((COUNTIF('Build Your Schedule'!AD$11,$B$9)+COUNTIF('Build Your Schedule'!AE$5:AE$8,$B$9))>0,1,0),0)","v":0},{"$f":"IF('Build Your Schedule'!AF$9=$B$9,IF((COUNTIF('Build Your Schedule'!AE$11,$B$9)+COUNTIF('Build Your Schedule'!AF$5:AF$8,$B$9))>0,1,0),0)","v":0},{"$f":"IF('Build Your Schedule'!AG$9=$B$9,IF((COUNTIF('Build Your Schedule'!AF$11,$B$9)+COUNTIF('Build Your Schedule'!AG$5:AG$8,$B$9))>0,1,0),0)","v":0},{"$f":"IF('Build Your Schedule'!AH$9=$B$9,IF((COUNTIF('Build Your Schedule'!AG$11,$B$9)+COUNTIF('Build Your Schedule'!AH$5:AH$8,$B$9))>0,1,0),0)","v":0},{"$f":"IF('Build Your Schedule'!AI$9=$B$9,IF((COUNTIF('Build Your Schedule'!AH$11,$B$9)+COUNTIF('Build Your Schedule'!AI$5:AI$8,$B$9))>0,1,0),0)","v":0},{"$f":"IF('Build Your Schedule'!AJ$9=$B$9,IF((COUNTIF('Build Your Schedule'!AI$11,$B$9)+COUNTIF('Build Your Schedule'!AJ$5:AJ$8,$B$9))>0,1,0),0)","v":0},{"$f":"IF('Build Your Schedule'!AK$9=$B$9,IF((COUNTIF('Build Your Schedule'!AJ$11,$B$9)+COUNTIF('Build Your Schedule'!AK$5:AK$8,$B$9))>0,1,0),0)","v":0}]
[null,"8p-5a",{"$f":"IF('Build Your Schedule'!H$10=$B$9,IF(COUNTIF('Build Your Schedule'!H$5:H$9,$B$9)>0,1,0),0)","v":0},{"$f":"IF('Build Your Schedule'!I$10=$B$9,IF(COUNTIF('Build Your Schedule'!I$5:I$9,$B$9)>0,1,0),0)","v":0},{"$f":"IF('Build Your Schedule'!J$10=$B$9,IF(COUNTIF('Build Your Schedule'!J$5:J$9,$B$9)>0,1,0),0)","v":0},{"$f":"IF('Build Your Schedule'!K$10=$B$9,IF(COUNTIF('Build Your Schedule'!K$5:K$9,$B$9)>0,1,0),0)","v":0},{"$f":"IF('Build Your Schedule'!L$10=$B$9,IF(COUNTIF('Build Your Schedule'!L$5:L$9,$B$9)>0,1,0),0)","v":0},{"$f":"IF('Build Your Schedule'!M$10=$B$9,IF(COUNTIF('Build Your Schedule'!M$5:M$9,$B$9)>0,1,0),0)","v":0},{"$f":"IF('Build Your Schedule'!N$10=$B$9,IF(COUNTIF('Build Your Schedule'!N$5:N$9,$B$9)>0,1,0),0)","v":0},{"$f":"IF('Build Your Schedule'!O$10=$B$9,IF(COUNTIF('Build Your Schedule'!O$5:O$9,$B$9)>0,1,0),0)","v":0},{"$f":"IF('Build Your Schedule'!P$10=$B$9,IF(COUNTIF('Build Your Schedule'!P$5:P$9,$B$9)>0,1,0),0)","v":0},{"$f":"IF('Build Your Schedule'!Q$10=$B$9,IF(COUNTIF('Build Your Schedule'!Q$5:Q$9,$B$9)>0,1,0),0)","v":0},{"$f":"IF('Build Your Schedule'!R$10=$B$9,IF(COUNTIF('Build Your Schedule'!R$5:R$9,$B$9)>0,1,0),0)","v":0},{"$f":"IF('Build Your Schedule'!S$10=$B$9,IF(COUNTIF('Build Your Schedule'!S$5:S$9,$B$9)>0,1,0),0)","v":0},{"$f":"IF('Build Your Schedule'!T$10=$B$9,IF(COUNTIF('Build Your Schedule'!T$5:T$9,$B$9)>0,1,0),0)","v":0},{"$f":"IF('Build Your Schedule'!U$10=$B$9,IF(COUNTIF('Build Your Schedule'!U$5:U$9,$B$9)>0,1,0),0)","v":0},{"$f":"IF('Build Your Schedule'!V$10=$B$9,IF(COUNTIF('Build Your Schedule'!V$5:V$9,$B$9)>0,1,0),0)","v":0},{"$f":"IF('Build Your Schedule'!W$10=$B$9,IF(COUNTIF('Build Your Schedule'!W$5:W$9,$B$9)>0,1,0),0)","v":0},{"$f":"IF('Build Your Schedule'!X$10=$B$9,IF(COUNTIF('Build Your Schedule'!X$5:X$9,$B$9)>0,1,0),0)","v":0},{"$f":"IF('Build Your Schedule'!Y$10=$B$9,IF(COUNTIF('Build Your Schedule'!Y$5:Y$9,$B$9)>0,1,0),0)","v":0},{"$f":"IF('Build Your Schedule'!Z$10=$B$9,IF(COUNTIF('Build Your Schedule'!Z$5:Z$9,$B$9)>0,1,0),0)","v":0},{"$f":"IF('Build Your Schedule'!AA$10=$B$9,IF(COUNTIF('Build Your Schedule'!AA$5:AA$9,$B$9)>0,1,0),0)","v":0},{"$f":"IF('Build Your Schedule'!AB$10=$B$9,IF(COUNTIF('Build Your Schedule'!AB$5:AB$9,$B$9)>0,1,0),0)","v":0},{"$f":"IF('Build Your Schedule'!AC$10=$B$9,IF(COUNTIF('Build Your Schedule'!AC$5:AC$9,$B$9)>0,1,0),0)","v":0},{"$f":"IF('Build Your Schedule'!AD$10=$B$9,IF(COUNTIF('Build Your Schedule'!AD$5:AD$9,$B$9)>0,1,0),0)","v":0},{"$f":"IF('Build Your Schedule'!AE$10=$B$9,IF(COUNTIF('Build Your Schedule'!AE$5:AE$9,$B$9)>0,1,0),0)","v":0},{"$f":"IF('Build Your Schedule'!AF$10=$B$9,IF(COUNTIF('Build Your Schedule'!AF$5:AF$9,$B$9)>0,1,0),0)","v":0},{"$f":"IF('Build Your Schedule'!AG$10=$B$9,IF(COUNTIF('Build Your Schedule'!AG$5:AG$9,$B$9)>0,1,0),0)","v":0},{"$f":"IF('Build Your Schedule'!AH$10=$B$9,IF(COUNTIF('Build Your Schedule'!AH$5:AH$9,$B$9)>0,1,0),0)","v":0},{"$f":"IF('Build Your Schedule'!AI$10=$B$9,IF(COUNTIF('Build Your Schedule'!AI$5:AI$9,$B$9)>0,1,0),0)","v":0},{"$f":"IF('Build Your Schedule'!AJ$10=$B$9,IF(COUNTIF('Build Your Schedule'!AJ$5:AJ$9,$B$9)>0,1,0),0)","v":0},{"$f":"IF('Build Your Schedule'!AK$10=$B$9,IF(COUNTIF('Build Your Schedule'!AK$5:AK$9,$B$9)>0,1,0),0)","v":0}]
[null,"11p-8a",{"$f":"IF('Build Your Schedule'!H$11=$B$9,IF(COUNTIF('Build Your Schedule'!H$5:H$10,$B$9)>0,1,0),0)","v":0},{"$f":"IF('Build Your Schedule'!I$11=$B$9,IF(COUNTIF('Build Your Schedule'!I$5:I$10,$B$9)>0,1,0),0)","v":0},{"$f":"IF('Build Your Schedule'!J$11=$B$9,IF(COUNTIF('Build Your Schedule'!J$5:J$10,$B$9)>0,1,0),0)","v":0},{"$f":"IF('Build Your Schedule'!K$11=$B$9,IF(COUNTIF('Build Your Schedule'!K$5:K$10,$B$9)>0,1,0),0)","v":0},{"$f":"IF('Build Your Schedule'!L$11=$B$9,IF(COUNTIF('Build Your Schedule'!L$5:L$10,$B$9)>0,1,0),0)","v":0},{"$f":"IF('Build Your Schedule'!M$11=$B$9,IF(COUNTIF('Build Your Schedule'!M$5:M$10,$B$9)>0,1,0),0)","v":0},{"$f":"IF('Build Your Schedule'!N$11=$B$9,IF(COUNTIF('Build Your Schedule'!N$5:N$10,$B$9)>0,1,0),0)","v":0},{"$f":"IF('Build Your Schedule'!O$11=$B$9,IF(COUNTIF('Build Your Schedule'!O$5:O$10,$B$9)>0,1,0),0)","v":0},{"$f":"IF('Build Your Schedule'!P$11=$B$9,IF(COUNTIF('Build Your Schedule'!P$5:P$10,$B$9)>0,1,0),0)","v":0},{"$f":"IF('Build Your Schedule'!Q$11=$B$9,IF(COUNTIF('Build Your Schedule'!Q$5:Q$10,$B$9)>0,1,0),0)","v":0},{"$f":"IF('Build Your Schedule'!R$11=$B$9,IF(COUNTIF('Build Your Schedule'!R$5:R$10,$B$9)>0,1,0),0)","v":0},{"$f":"IF('Build Your Schedule'!S$11=$B$9,IF(COUNTIF('Build Your Schedule'!S$5:S$10,$B$9)>0,1,0),0)","v":0},{"$f":"IF('Build Your Schedule'!T$11=$B$9,IF(COUNTIF('Build Your Schedule'!T$5:T$10,$B$9)>0,1,0),0)","v":0},{"$f":"IF('Build Your Schedule'!U$11=$B$9,IF(COUNTIF('Build Your Schedule'!U$5:U$10,$B$9)>0,1,0),0)","v":0},{"$f":"IF('Build Your Schedule'!V$11=$B$9,IF(COUNTIF('Build Your Schedule'!V$5:V$10,$B$9)>0,1,0),0)","v":0},{"$f":"IF('Build Your Schedule'!W$11=$B$9,IF(COUNTIF('Build Your Schedule'!W$5:W$10,$B$9)>0,1,0),0)","v":0},{"$f":"IF('Build Your Schedule'!X$11=$B$9,IF(COUNTIF('Build Your Schedule'!X$5:X$10,$B$9)>0,1,0),0)","v":0},{"$f":"IF('Build Your Schedule'!Y$11=$B$9,IF(COUNTIF('Build Your Schedule'!Y$5:Y$10,$B$9)>0,1,0),0)","v":0},{"$f":"IF('Build Your Schedule'!Z$11=$B$9,IF(COUNTIF('Build Your Schedule'!Z$5:Z$10,$B$9)>0,1,0),0)","v":0},{"$f":"IF('Build Your Schedule'!AA$11=$B$9,IF(COUNTIF('Build Your Schedule'!AA$5:AA$10,$B$9)>0,1,0),0)","v":0},{"$f":"IF('Build Your Schedule'!AB$11=$B$9,IF(COUNTIF('Build Your Schedule'!AB$5:AB$10,$B$9)>0,1,0),0)","v":0},{"$f":"IF('Build Your Schedule'!AC$11=$B$9,IF(COUNTIF('Build Your Schedule'!AC$5:AC$10,$B$9)>0,1,0),0)","v":0},{"$f":"IF('Build Your Schedule'!AD$11=$B$9,IF(COUNTIF('Build Your Schedule'!AD$5:AD$10,$B$9)>0,1,0),0)","v":0},{"$f":"IF('Build Your Schedule'!AE$11=$B$9,IF(COUNTIF('Build Your Schedule'!AE$5:AE$10,$B$9)>0,1,0),0)","v":0},{"$f":"IF('Build Your Schedule'!AF$11=$B$9,IF(COUNTIF('Build Your Schedule'!AF$5:AF$10,$B$9)>0,1,0),0)","v":0},{"$f":"IF('Build Your Schedule'!AG$11=$B$9,IF(COUNTIF('Build Your Schedule'!AG$5:AG$10,$B$9)>0,1,0),0)","v":0},{"$f":"IF('Build Your Schedule'!AH$11=$B$9,IF(COUNTIF('Build Your Schedule'!AH$5:AH$10,$B$9)>0,1,0),0)","v":0},{"$f":"IF('Build Your Schedule'!AI$11=$B$9,IF(COUNTIF('Build Your Schedule'!AI$5:AI$10,$B$9)>0,1,0),0)","v":0},{"$f":"IF('Build Your Schedule'!AJ$11=$B$9,IF(COUNTIF('Build Your Schedule'!AJ$5:AJ$10,$B$9)>0,1,0),0)","v":0},{"$f":"IF('Build Your Schedule'!AK$11=$B$9,IF(COUNTIF('Build Your Schedule'!AK$5:AK$10,$B$9)>0,1,0),0)","v":0}]
[]
[null,{"$f":"B10","v":"Kahn"},"2015-06-01","2015-06-02","2015-06-03","2015-06-04","2015-06-05","2015-06-06","2015-06-07","2015-06-08","2015-06-09","2015-06-10","2015-06-11","2015-06-12","2015-06-13","2015-06-14","2015-06-15","2015-06-16","2015-06-17","2015-06-18","2015-06-19","2015-06-20","2015-06-21","2015-06-22","2015-06-23","2015-06-24","2015-06-25","2015-06-26","2015-06-27","2015-06-28","2015-06-29","2015-06-30"]
[null,"7a-4p",{"$f":"IF('Build Your Schedule'!H$5=$B$10,IF(COUNTIF('Build Your Schedule'!G$8:G$11,$B$10)>0,1,0),0)","v":0},{"$f":"IF('Build Your Schedule'!I$5=$B$10,IF(COUNTIF('Build Your Schedule'!H$8:H$11,$B$10)>0,1,0),0)","v":0},{"$f":"IF('Build Your Schedule'!J$5=$B$10,IF(COUNTIF('Build Your Schedule'!I$8:I$11,$B$10)>0,1,0),0)","v":0},{"$f":"IF('Build Your Schedule'!K$5=$B$10,IF(COUNTIF('Build Your Schedule'!J$8:J$11,$B$10)>0,1,0),0)","v":0},{"$f":"IF('Build Your Schedule'!L$5=$B$10,IF(COUNTIF('Build Your Schedule'!K$8:K$11,$B$10)>0,1,0),0)","v":0},{"$f":"IF('Build Your Schedule'!M$5=$B$10,IF(COUNTIF('Build Your Schedule'!L$8:L$11,$B$10)>0,1,0),0)","v":0},{"$f":"IF('Build Your Schedule'!N$5=$B$10,IF(COUNTIF('Build Your Schedule'!M$8:M$11,$B$10)>0,1,0),0)","v":0},{"$f":"IF('Build Your Schedule'!O$5=$B$10,IF(COUNTIF('Build Your Schedule'!N$8:N$11,$B$10)>0,1,0),0)","v":0},{"$f":"IF('Build Your Schedule'!P$5=$B$10,IF(COUNTIF('Build Your Schedule'!O$8:O$11,$B$10)>0,1,0),0)","v":0},{"$f":"IF('Build Your Schedule'!Q$5=$B$10,IF(COUNTIF('Build Your Schedule'!P$8:P$11,$B$10)>0,1,0),0)","v":0},{"$f":"IF('Build Your Schedule'!R$5=$B$10,IF(COUNTIF('Build Your Schedule'!Q$8:Q$11,$B$10)>0,1,0),0)","v":0},{"$f":"IF('Build Your Schedule'!S$5=$B$10,IF(COUNTIF('Build Your Schedule'!R$8:R$11,$B$10)>0,1,0),0)","v":0},{"$f":"IF('Build Your Schedule'!T$5=$B$10,IF(COUNTIF('Build Your Schedule'!S$8:S$11,$B$10)>0,1,0),0)","v":0},{"$f":"IF('Build Your Schedule'!U$5=$B$10,IF(COUNTIF('Build Your Schedule'!T$8:T$11,$B$10)>0,1,0),0)","v":0},{"$f":"IF('Build Your Schedule'!V$5=$B$10,IF(COUNTIF('Build Your Schedule'!U$8:U$11,$B$10)>0,1,0),0)","v":0},{"$f":"IF('Build Your Schedule'!W$5=$B$10,IF(COUNTIF('Build Your Schedule'!V$8:V$11,$B$10)>0,1,0),0)","v":0},{"$f":"IF('Build Your Schedule'!X$5=$B$10,IF(COUNTIF('Build Your Schedule'!W$8:W$11,$B$10)>0,1,0),0)","v":0},{"$f":"IF('Build Your Schedule'!Y$5=$B$10,IF(COUNTIF('Build Your Schedule'!X$8:X$11,$B$10)>0,1,0),0)","v":0},{"$f":"IF('Build Your Schedule'!Z$5=$B$10,IF(COUNTIF('Build Your Schedule'!Y$8:Y$11,$B$10)>0,1,0),0)","v":0},{"$f":"IF('Build Your Schedule'!AA$5=$B$10,IF(COUNTIF('Build Your Schedule'!Z$8:Z$11,$B$10)>0,1,0),0)","v":0},{"$f":"IF('Build Your Schedule'!AB$5=$B$10,IF(COUNTIF('Build Your Schedule'!AA$8:AA$11,$B$10)>0,1,0),0)","v":0},{"$f":"IF('Build Your Schedule'!AC$5=$B$10,IF(COUNTIF('Build Your Schedule'!AB$8:AB$11,$B$10)>0,1,0),0)","v":0},{"$f":"IF('Build Your Schedule'!AD$5=$B$10,IF(COUNTIF('Build Your Schedule'!AC$8:AC$11,$B$10)>0,1,0),0)","v":0},{"$f":"IF('Build Your Schedule'!AE$5=$B$10,IF(COUNTIF('Build Your Schedule'!AD$8:AD$11,$B$10)>0,1,0),0)","v":0},{"$f":"IF('Build Your Schedule'!AF$5=$B$10,IF(COUNTIF('Build Your Schedule'!AE$8:AE$11,$B$10)>0,1,0),0)","v":0},{"$f":"IF('Build Your Schedule'!AG$5=$B$10,IF(COUNTIF('Build Your Schedule'!AF$8:AF$11,$B$10)>0,1,0),0)","v":0},{"$f":"IF('Build Your Schedule'!AH$5=$B$10,IF(COUNTIF('Build Your Schedule'!AG$8:AG$11,$B$10)>0,1,0),0)","v":0},{"$f":"IF('Build Your Schedule'!AI$5=$B$10,IF(COUNTIF('Build Your Schedule'!AH$8:AH$11,$B$10)>0,1,0),0)","v":0},{"$f":"IF('Build Your Schedule'!AJ$5=$B$10,IF(COUNTIF('Build Your Schedule'!AI$8:AI$11,$B$10)>0,1,0),0)","v":0},{"$f":"IF('Build Your Schedule'!AK$5=$B$10,IF(COUNTIF('Build Your Schedule'!AJ$8:AJ$11,$B$10)>0,1,0),0)","v":0}]
[null,"9a-6p",{"$f":"IF('Build Your Schedule'!H$6=$B$10,IF((COUNTIF('Build Your Schedule'!G$8:G$11,$B$10)+COUNTIF('Build Your Schedule'!H$5,$B$10))>0,1,0),0)","v":0},{"$f":"IF('Build Your Schedule'!I$6=$B$10,IF((COUNTIF('Build Your Schedule'!H$8:H$11,$B$10)+COUNTIF('Build Your Schedule'!I$5,$B$10))>0,1,0),0)","v":0},{"$f":"IF('Build Your Schedule'!J$6=$B$10,IF((COUNTIF('Build Your Schedule'!I$8:I$11,$B$10)+COUNTIF('Build Your Schedule'!J$5,$B$10))>0,1,0),0)","v":0},{"$f":"IF('Build Your Schedule'!K$6=$B$10,IF((COUNTIF('Build Your Schedule'!J$8:J$11,$B$10)+COUNTIF('Build Your Schedule'!K$5,$B$10))>0,1,0),0)","v":0},{"$f":"IF('Build Your Schedule'!L$6=$B$10,IF((COUNTIF('Build Your Schedule'!K$8:K$11,$B$10)+COUNTIF('Build Your Schedule'!L$5,$B$10))>0,1,0),0)","v":0},{"$f":"IF('Build Your Schedule'!M$6=$B$10,IF((COUNTIF('Build Your Schedule'!L$8:L$11,$B$10)+COUNTIF('Build Your Schedule'!M$5,$B$10))>0,1,0),0)","v":0},{"$f":"IF('Build Your Schedule'!N$6=$B$10,IF((COUNTIF('Build Your Schedule'!M$8:M$11,$B$10)+COUNTIF('Build Your Schedule'!N$5,$B$10))>0,1,0),0)","v":0},{"$f":"IF('Build Your Schedule'!O$6=$B$10,IF((COUNTIF('Build Your Schedule'!N$8:N$11,$B$10)+COUNTIF('Build Your Schedule'!O$5,$B$10))>0,1,0),0)","v":0},{"$f":"IF('Build Your Schedule'!P$6=$B$10,IF((COUNTIF('Build Your Schedule'!O$8:O$11,$B$10)+COUNTIF('Build Your Schedule'!P$5,$B$10))>0,1,0),0)","v":0},{"$f":"IF('Build Your Schedule'!Q$6=$B$10,IF((COUNTIF('Build Your Schedule'!P$8:P$11,$B$10)+COUNTIF('Build Your Schedule'!Q$5,$B$10))>0,1,0),0)","v":0},{"$f":"IF('Build Your Schedule'!R$6=$B$10,IF((COUNTIF('Build Your Schedule'!Q$8:Q$11,$B$10)+COUNTIF('Build Your Schedule'!R$5,$B$10))>0,1,0),0)","v":0},{"$f":"IF('Build Your Schedule'!S$6=$B$10,IF((COUNTIF('Build Your Schedule'!R$8:R$11,$B$10)+COUNTIF('Build Your Schedule'!S$5,$B$10))>0,1,0),0)","v":0},{"$f":"IF('Build Your Schedule'!T$6=$B$10,IF((COUNTIF('Build Your Schedule'!S$8:S$11,$B$10)+COUNTIF('Build Your Schedule'!T$5,$B$10))>0,1,0),0)","v":0},{"$f":"IF('Build Your Schedule'!U$6=$B$10,IF((COUNTIF('Build Your Schedule'!T$8:T$11,$B$10)+COUNTIF('Build Your Schedule'!U$5,$B$10))>0,1,0),0)","v":0},{"$f":"IF('Build Your Schedule'!V$6=$B$10,IF((COUNTIF('Build Your Schedule'!U$8:U$11,$B$10)+COUNTIF('Build Your Schedule'!V$5,$B$10))>0,1,0),0)","v":0},{"$f":"IF('Build Your Schedule'!W$6=$B$10,IF((COUNTIF('Build Your Schedule'!V$8:V$11,$B$10)+COUNTIF('Build Your Schedule'!W$5,$B$10))>0,1,0),0)","v":0},{"$f":"IF('Build Your Schedule'!X$6=$B$10,IF((COUNTIF('Build Your Schedule'!W$8:W$11,$B$10)+COUNTIF('Build Your Schedule'!X$5,$B$10))>0,1,0),0)","v":0},{"$f":"IF('Build Your Schedule'!Y$6=$B$10,IF((COUNTIF('Build Your Schedule'!X$8:X$11,$B$10)+COUNTIF('Build Your Schedule'!Y$5,$B$10))>0,1,0),0)","v":0},{"$f":"IF('Build Your Schedule'!Z$6=$B$10,IF((COUNTIF('Build Your Schedule'!Y$8:Y$11,$B$10)+COUNTIF('Build Your Schedule'!Z$5,$B$10))>0,1,0),0)","v":0},{"$f":"IF('Build Your Schedule'!AA$6=$B$10,IF((COUNTIF('Build Your Schedule'!Z$8:Z$11,$B$10)+COUNTIF('Build Your Schedule'!AA$5,$B$10))>0,1,0),0)","v":0},{"$f":"IF('Build Your Schedule'!AB$6=$B$10,IF((COUNTIF('Build Your Schedule'!AA$8:AA$11,$B$10)+COUNTIF('Build Your Schedule'!AB$5,$B$10))>0,1,0),0)","v":0},{"$f":"IF('Build Your Schedule'!AC$6=$B$10,IF((COUNTIF('Build Your Schedule'!AB$8:AB$11,$B$10)+COUNTIF('Build Your Schedule'!AC$5,$B$10))>0,1,0),0)","v":0},{"$f":"IF('Build Your Schedule'!AD$6=$B$10,IF((COUNTIF('Build Your Schedule'!AC$8:AC$11,$B$10)+COUNTIF('Build Your Schedule'!AD$5,$B$10))>0,1,0),0)","v":0},{"$f":"IF('Build Your Schedule'!AE$6=$B$10,IF((COUNTIF('Build Your Schedule'!AD$8:AD$11,$B$10)+COUNTIF('Build Your Schedule'!AE$5,$B$10))>0,1,0),0)","v":0},{"$f":"IF('Build Your Schedule'!AF$6=$B$10,IF((COUNTIF('Build Your Schedule'!AE$8:AE$11,$B$10)+COUNTIF('Build Your Schedule'!AF$5,$B$10))>0,1,0),0)","v":0},{"$f":"IF('Build Your Schedule'!AG$6=$B$10,IF((COUNTIF('Build Your Schedule'!AF$8:AF$11,$B$10)+COUNTIF('Build Your Schedule'!AG$5,$B$10))>0,1,0),0)","v":0},{"$f":"IF('Build Your Schedule'!AH$6=$B$10,IF((COUNTIF('Build Your Schedule'!AG$8:AG$11,$B$10)+COUNTIF('Build Your Schedule'!AH$5,$B$10))>0,1,0),0)","v":0},{"$f":"IF('Build Your Schedule'!AI$6=$B$10,IF((COUNTIF('Build Your Schedule'!AH$8:AH$11,$B$10)+COUNTIF('Build Your Schedule'!AI$5,$B$10))>0,1,0),0)","v":0},{"$f":"IF('Build Your Schedule'!AJ$6=$B$10,IF((COUNTIF('Build Your Schedule'!AI$8:AI$11,$B$10)+COUNTIF('Build Your Schedule'!AJ$5,$B$10))>0,1,0),0)","v":0},{"$f":"IF('Build Your Schedule'!AK$6=$B$10,IF((COUNTIF('Build Your Schedule'!AJ$8:AJ$11,$B$10)+COUNTIF('Build Your Schedule'!AK$5,$B$10))>0,1,0),0)","v":0}]
[null,"12p-9p",{"$f":"IF('Build Your Schedule'!H$7=$B$10,IF((COUNTIF('Build Your Schedule'!G$10:G$11,$B$10)+COUNTIF('Build Your Schedule'!H$5:H$6,$B$10))>0,1,0),0)","v":0},{"$f":"IF('Build Your Schedule'!I$7=$B$10,IF((COUNTIF('Build Your Schedule'!H$10:H$11,$B$10)+COUNTIF('Build Your Schedule'!I$5:I$6,$B$10))>0,1,0),0)","v":0},{"$f":"IF('Build Your Schedule'!J$7=$B$10,IF((COUNTIF('Build Your Schedule'!I$10:I$11,$B$10)+COUNTIF('Build Your Schedule'!J$5:J$6,$B$10))>0,1,0),0)","v":0},{"$f":"IF('Build Your Schedule'!K$7=$B$10,IF((COUNTIF('Build Your Schedule'!J$10:J$11,$B$10)+COUNTIF('Build Your Schedule'!K$5:K$6,$B$10))>0,1,0),0)","v":0},{"$f":"IF('Build Your Schedule'!L$7=$B$10,IF((COUNTIF('Build Your Schedule'!K$10:K$11,$B$10)+COUNTIF('Build Your Schedule'!L$5:L$6,$B$10))>0,1,0),0)","v":0},{"$f":"IF('Build Your Schedule'!M$7=$B$10,IF((COUNTIF('Build Your Schedule'!L$10:L$11,$B$10)+COUNTIF('Build Your Schedule'!M$5:M$6,$B$10))>0,1,0),0)","v":0},{"$f":"IF('Build Your Schedule'!N$7=$B$10,IF((COUNTIF('Build Your Schedule'!M$10:M$11,$B$10)+COUNTIF('Build Your Schedule'!N$5:N$6,$B$10))>0,1,0),0)","v":0},{"$f":"IF('Build Your Schedule'!O$7=$B$10,IF((COUNTIF('Build Your Schedule'!N$10:N$11,$B$10)+COUNTIF('Build Your Schedule'!O$5:O$6,$B$10))>0,1,0),0)","v":0},{"$f":"IF('Build Your Schedule'!P$7=$B$10,IF((COUNTIF('Build Your Schedule'!O$10:O$11,$B$10)+COUNTIF('Build Your Schedule'!P$5:P$6,$B$10))>0,1,0),0)","v":0},{"$f":"IF('Build Your Schedule'!Q$7=$B$10,IF((COUNTIF('Build Your Schedule'!P$10:P$11,$B$10)+COUNTIF('Build Your Schedule'!Q$5:Q$6,$B$10))>0,1,0),0)","v":0},{"$f":"IF('Build Your Schedule'!R$7=$B$10,IF((COUNTIF('Build Your Schedule'!Q$10:Q$11,$B$10)+COUNTIF('Build Your Schedule'!R$5:R$6,$B$10))>0,1,0),0)","v":0},{"$f":"IF('Build Your Schedule'!S$7=$B$10,IF((COUNTIF('Build Your Schedule'!R$10:R$11,$B$10)+COUNTIF('Build Your Schedule'!S$5:S$6,$B$10))>0,1,0),0)","v":0},{"$f":"IF('Build Your Schedule'!T$7=$B$10,IF((COUNTIF('Build Your Schedule'!S$10:S$11,$B$10)+COUNTIF('Build Your Schedule'!T$5:T$6,$B$10))>0,1,0),0)","v":0},{"$f":"IF('Build Your Schedule'!U$7=$B$10,IF((COUNTIF('Build Your Schedule'!T$10:T$11,$B$10)+COUNTIF('Build Your Schedule'!U$5:U$6,$B$10))>0,1,0),0)","v":0},{"$f":"IF('Build Your Schedule'!V$7=$B$10,IF((COUNTIF('Build Your Schedule'!U$10:U$11,$B$10)+COUNTIF('Build Your Schedule'!V$5:V$6,$B$10))>0,1,0),0)","v":0},{"$f":"IF('Build Your Schedule'!W$7=$B$10,IF((COUNTIF('Build Your Schedule'!V$10:V$11,$B$10)+COUNTIF('Build Your Schedule'!W$5:W$6,$B$10))>0,1,0),0)","v":0},{"$f":"IF('Build Your Schedule'!X$7=$B$10,IF((COUNTIF('Build Your Schedule'!W$10:W$11,$B$10)+COUNTIF('Build Your Schedule'!X$5:X$6,$B$10))>0,1,0),0)","v":0},{"$f":"IF('Build Your Schedule'!Y$7=$B$10,IF((COUNTIF('Build Your Schedule'!X$10:X$11,$B$10)+COUNTIF('Build Your Schedule'!Y$5:Y$6,$B$10))>0,1,0),0)","v":0},{"$f":"IF('Build Your Schedule'!Z$7=$B$10,IF((COUNTIF('Build Your Schedule'!Y$10:Y$11,$B$10)+COUNTIF('Build Your Schedule'!Z$5:Z$6,$B$10))>0,1,0),0)","v":0},{"$f":"IF('Build Your Schedule'!AA$7=$B$10,IF((COUNTIF('Build Your Schedule'!Z$10:Z$11,$B$10)+COUNTIF('Build Your Schedule'!AA$5:AA$6,$B$10))>0,1,0),0)","v":0},{"$f":"IF('Build Your Schedule'!AB$7=$B$10,IF((COUNTIF('Build Your Schedule'!AA$10:AA$11,$B$10)+COUNTIF('Build Your Schedule'!AB$5:AB$6,$B$10))>0,1,0),0)","v":0},{"$f":"IF('Build Your Schedule'!AC$7=$B$10,IF((COUNTIF('Build Your Schedule'!AB$10:AB$11,$B$10)+COUNTIF('Build Your Schedule'!AC$5:AC$6,$B$10))>0,1,0),0)","v":0},{"$f":"IF('Build Your Schedule'!AD$7=$B$10,IF((COUNTIF('Build Your Schedule'!AC$10:AC$11,$B$10)+COUNTIF('Build Your Schedule'!AD$5:AD$6,$B$10))>0,1,0),0)","v":0},{"$f":"IF('Build Your Schedule'!AE$7=$B$10,IF((COUNTIF('Build Your Schedule'!AD$10:AD$11,$B$10)+COUNTIF('Build Your Schedule'!AE$5:AE$6,$B$10))>0,1,0),0)","v":0},{"$f":"IF('Build Your Schedule'!AF$7=$B$10,IF((COUNTIF('Build Your Schedule'!AE$10:AE$11,$B$10)+COUNTIF('Build Your Schedule'!AF$5:AF$6,$B$10))>0,1,0),0)","v":0},{"$f":"IF('Build Your Schedule'!AG$7=$B$10,IF((COUNTIF('Build Your Schedule'!AF$10:AF$11,$B$10)+COUNTIF('Build Your Schedule'!AG$5:AG$6,$B$10))>0,1,0),0)","v":0},{"$f":"IF('Build Your Schedule'!AH$7=$B$10,IF((COUNTIF('Build Your Schedule'!AG$10:AG$11,$B$10)+COUNTIF('Build Your Schedule'!AH$5:AH$6,$B$10))>0,1,0),0)","v":0},{"$f":"IF('Build Your Schedule'!AI$7=$B$10,IF((COUNTIF('Build Your Schedule'!AH$10:AH$11,$B$10)+COUNTIF('Build Your Schedule'!AI$5:AI$6,$B$10))>0,1,0),0)","v":0},{"$f":"IF('Build Your Schedule'!AJ$7=$B$10,IF((COUNTIF('Build Your Schedule'!AI$10:AI$11,$B$10)+COUNTIF('Build Your Schedule'!AJ$5:AJ$6,$B$10))>0,1,0),0)","v":0},{"$f":"IF('Build Your Schedule'!AK$7=$B$10,IF((COUNTIF('Build Your Schedule'!AJ$10:AJ$11,$B$10)+COUNTIF('Build Your Schedule'!AK$5:AK$6,$B$10))>0,1,0),0)","v":0}]
[null,"4p-1a",{"$f":"IF('Build Your Schedule'!H$8=$B$10,IF((COUNTIF('Build Your Schedule'!G$11,$B$10)+COUNTIF('Build Your Schedule'!H$5:H$7,$B$10))>0,1,0),0)","v":0},{"$f":"IF('Build Your Schedule'!I$8=$B$10,IF((COUNTIF('Build Your Schedule'!H$11,$B$10)+COUNTIF('Build Your Schedule'!I$5:I$7,$B$10))>0,1,0),0)","v":0},{"$f":"IF('Build Your Schedule'!J$8=$B$10,IF((COUNTIF('Build Your Schedule'!I$11,$B$10)+COUNTIF('Build Your Schedule'!J$5:J$7,$B$10))>0,1,0),0)","v":0},{"$f":"IF('Build Your Schedule'!K$8=$B$10,IF((COUNTIF('Build Your Schedule'!J$11,$B$10)+COUNTIF('Build Your Schedule'!K$5:K$7,$B$10))>0,1,0),0)","v":0},{"$f":"IF('Build Your Schedule'!L$8=$B$10,IF((COUNTIF('Build Your Schedule'!K$11,$B$10)+COUNTIF('Build Your Schedule'!L$5:L$7,$B$10))>0,1,0),0)","v":0},{"$f":"IF('Build Your Schedule'!M$8=$B$10,IF((COUNTIF('Build Your Schedule'!L$11,$B$10)+COUNTIF('Build Your Schedule'!M$5:M$7,$B$10))>0,1,0),0)","v":0},{"$f":"IF('Build Your Schedule'!N$8=$B$10,IF((COUNTIF('Build Your Schedule'!M$11,$B$10)+COUNTIF('Build Your Schedule'!N$5:N$7,$B$10))>0,1,0),0)","v":0},{"$f":"IF('Build Your Schedule'!O$8=$B$10,IF((COUNTIF('Build Your Schedule'!N$11,$B$10)+COUNTIF('Build Your Schedule'!O$5:O$7,$B$10))>0,1,0),0)","v":0},{"$f":"IF('Build Your Schedule'!P$8=$B$10,IF((COUNTIF('Build Your Schedule'!O$11,$B$10)+COUNTIF('Build Your Schedule'!P$5:P$7,$B$10))>0,1,0),0)","v":0},{"$f":"IF('Build Your Schedule'!Q$8=$B$10,IF((COUNTIF('Build Your Schedule'!P$11,$B$10)+COUNTIF('Build Your Schedule'!Q$5:Q$7,$B$10))>0,1,0),0)","v":0},{"$f":"IF('Build Your Schedule'!R$8=$B$10,IF((COUNTIF('Build Your Schedule'!Q$11,$B$10)+COUNTIF('Build Your Schedule'!R$5:R$7,$B$10))>0,1,0),0)","v":0},{"$f":"IF('Build Your Schedule'!S$8=$B$10,IF((COUNTIF('Build Your Schedule'!R$11,$B$10)+COUNTIF('Build Your Schedule'!S$5:S$7,$B$10))>0,1,0),0)","v":0},{"$f":"IF('Build Your Schedule'!T$8=$B$10,IF((COUNTIF('Build Your Schedule'!S$11,$B$10)+COUNTIF('Build Your Schedule'!T$5:T$7,$B$10))>0,1,0),0)","v":0},{"$f":"IF('Build Your Schedule'!U$8=$B$10,IF((COUNTIF('Build Your Schedule'!T$11,$B$10)+COUNTIF('Build Your Schedule'!U$5:U$7,$B$10))>0,1,0),0)","v":0},{"$f":"IF('Build Your Schedule'!V$8=$B$10,IF((COUNTIF('Build Your Schedule'!U$11,$B$10)+COUNTIF('Build Your Schedule'!V$5:V$7,$B$10))>0,1,0),0)","v":0},{"$f":"IF('Build Your Schedule'!W$8=$B$10,IF((COUNTIF('Build Your Schedule'!V$11,$B$10)+COUNTIF('Build Your Schedule'!W$5:W$7,$B$10))>0,1,0),0)","v":0},{"$f":"IF('Build Your Schedule'!X$8=$B$10,IF((COUNTIF('Build Your Schedule'!W$11,$B$10)+COUNTIF('Build Your Schedule'!X$5:X$7,$B$10))>0,1,0),0)","v":0},{"$f":"IF('Build Your Schedule'!Y$8=$B$10,IF((COUNTIF('Build Your Schedule'!X$11,$B$10)+COUNTIF('Build Your Schedule'!Y$5:Y$7,$B$10))>0,1,0),0)","v":0},{"$f":"IF('Build Your Schedule'!Z$8=$B$10,IF((COUNTIF('Build Your Schedule'!Y$11,$B$10)+COUNTIF('Build Your Schedule'!Z$5:Z$7,$B$10))>0,1,0),0)","v":0},{"$f":"IF('Build Your Schedule'!AA$8=$B$10,IF((COUNTIF('Build Your Schedule'!Z$11,$B$10)+COUNTIF('Build Your Schedule'!AA$5:AA$7,$B$10))>0,1,0),0)","v":0},{"$f":"IF('Build Your Schedule'!AB$8=$B$10,IF((COUNTIF('Build Your Schedule'!AA$11,$B$10)+COUNTIF('Build Your Schedule'!AB$5:AB$7,$B$10))>0,1,0),0)","v":0},{"$f":"IF('Build Your Schedule'!AC$8=$B$10,IF((COUNTIF('Build Your Schedule'!AB$11,$B$10)+COUNTIF('Build Your Schedule'!AC$5:AC$7,$B$10))>0,1,0),0)","v":0},{"$f":"IF('Build Your Schedule'!AD$8=$B$10,IF((COUNTIF('Build Your Schedule'!AC$11,$B$10)+COUNTIF('Build Your Schedule'!AD$5:AD$7,$B$10))>0,1,0),0)","v":0},{"$f":"IF('Build Your Schedule'!AE$8=$B$10,IF((COUNTIF('Build Your Schedule'!AD$11,$B$10)+COUNTIF('Build Your Schedule'!AE$5:AE$7,$B$10))>0,1,0),0)","v":0},{"$f":"IF('Build Your Schedule'!AF$8=$B$10,IF((COUNTIF('Build Your Schedule'!AE$11,$B$10)+COUNTIF('Build Your Schedule'!AF$5:AF$7,$B$10))>0,1,0),0)","v":0},{"$f":"IF('Build Your Schedule'!AG$8=$B$10,IF((COUNTIF('Build Your Schedule'!AF$11,$B$10)+COUNTIF('Build Your Schedule'!AG$5:AG$7,$B$10))>0,1,0),0)","v":0},{"$f":"IF('Build Your Schedule'!AH$8=$B$10,IF((COUNTIF('Build Your Schedule'!AG$11,$B$10)+COUNTIF('Build Your Schedule'!AH$5:AH$7,$B$10))>0,1,0),0)","v":0},{"$f":"IF('Build Your Schedule'!AI$8=$B$10,IF((COUNTIF('Build Your Schedule'!AH$11,$B$10)+COUNTIF('Build Your Schedule'!AI$5:AI$7,$B$10))>0,1,0),0)","v":0},{"$f":"IF('Build Your Schedule'!AJ$8=$B$10,IF((COUNTIF('Build Your Schedule'!AI$11,$B$10)+COUNTIF('Build Your Schedule'!AJ$5:AJ$7,$B$10))>0,1,0),0)","v":0},{"$f":"IF('Build Your Schedule'!AK$8=$B$10,IF((COUNTIF('Build Your Schedule'!AJ$11,$B$10)+COUNTIF('Build Your Schedule'!AK$5:AK$7,$B$10))>0,1,0),0)","v":0}]
[null,"5p-2a",{"$f":"IF('Build Your Schedule'!H$9=$B$10,IF((COUNTIF('Build Your Schedule'!G$11,$B$10)+COUNTIF('Build Your Schedule'!H$5:H$8,$B$10))>0,1,0),0)","v":0},{"$f":"IF('Build Your Schedule'!I$9=$B$10,IF((COUNTIF('Build Your Schedule'!H$11,$B$10)+COUNTIF('Build Your Schedule'!I$5:I$8,$B$10))>0,1,0),0)","v":0},{"$f":"IF('Build Your Schedule'!J$9=$B$10,IF((COUNTIF('Build Your Schedule'!I$11,$B$10)+COUNTIF('Build Your Schedule'!J$5:J$8,$B$10))>0,1,0),0)","v":0},{"$f":"IF('Build Your Schedule'!K$9=$B$10,IF((COUNTIF('Build Your Schedule'!J$11,$B$10)+COUNTIF('Build Your Schedule'!K$5:K$8,$B$10))>0,1,0),0)","v":0},{"$f":"IF('Build Your Schedule'!L$9=$B$10,IF((COUNTIF('Build Your Schedule'!K$11,$B$10)+COUNTIF('Build Your Schedule'!L$5:L$8,$B$10))>0,1,0),0)","v":0},{"$f":"IF('Build Your Schedule'!M$9=$B$10,IF((COUNTIF('Build Your Schedule'!L$11,$B$10)+COUNTIF('Build Your Schedule'!M$5:M$8,$B$10))>0,1,0),0)","v":0},{"$f":"IF('Build Your Schedule'!N$9=$B$10,IF((COUNTIF('Build Your Schedule'!M$11,$B$10)+COUNTIF('Build Your Schedule'!N$5:N$8,$B$10))>0,1,0),0)","v":0},{"$f":"IF('Build Your Schedule'!O$9=$B$10,IF((COUNTIF('Build Your Schedule'!N$11,$B$10)+COUNTIF('Build Your Schedule'!O$5:O$8,$B$10))>0,1,0),0)","v":0},{"$f":"IF('Build Your Schedule'!P$9=$B$10,IF((COUNTIF('Build Your Schedule'!O$11,$B$10)+COUNTIF('Build Your Schedule'!P$5:P$8,$B$10))>0,1,0),0)","v":0},{"$f":"IF('Build Your Schedule'!Q$9=$B$10,IF((COUNTIF('Build Your Schedule'!P$11,$B$10)+COUNTIF('Build Your Schedule'!Q$5:Q$8,$B$10))>0,1,0),0)","v":0},{"$f":"IF('Build Your Schedule'!R$9=$B$10,IF((COUNTIF('Build Your Schedule'!Q$11,$B$10)+COUNTIF('Build Your Schedule'!R$5:R$8,$B$10))>0,1,0),0)","v":0},{"$f":"IF('Build Your Schedule'!S$9=$B$10,IF((COUNTIF('Build Your Schedule'!R$11,$B$10)+COUNTIF('Build Your Schedule'!S$5:S$8,$B$10))>0,1,0),0)","v":0},{"$f":"IF('Build Your Schedule'!T$9=$B$10,IF((COUNTIF('Build Your Schedule'!S$11,$B$10)+COUNTIF('Build Your Schedule'!T$5:T$8,$B$10))>0,1,0),0)","v":0},{"$f":"IF('Build Your Schedule'!U$9=$B$10,IF((COUNTIF('Build Your Schedule'!T$11,$B$10)+COUNTIF('Build Your Schedule'!U$5:U$8,$B$10))>0,1,0),0)","v":0},{"$f":"IF('Build Your Schedule'!V$9=$B$10,IF((COUNTIF('Build Your Schedule'!U$11,$B$10)+COUNTIF('Build Your Schedule'!V$5:V$8,$B$10))>0,1,0),0)","v":0},{"$f":"IF('Build Your Schedule'!W$9=$B$10,IF((COUNTIF('Build Your Schedule'!V$11,$B$10)+COUNTIF('Build Your Schedule'!W$5:W$8,$B$10))>0,1,0),0)","v":0},{"$f":"IF('Build Your Schedule'!X$9=$B$10,IF((COUNTIF('Build Your Schedule'!W$11,$B$10)+COUNTIF('Build Your Schedule'!X$5:X$8,$B$10))>0,1,0),0)","v":0},{"$f":"IF('Build Your Schedule'!Y$9=$B$10,IF((COUNTIF('Build Your Schedule'!X$11,$B$10)+COUNTIF('Build Your Schedule'!Y$5:Y$8,$B$10))>0,1,0),0)","v":0},{"$f":"IF('Build Your Schedule'!Z$9=$B$10,IF((COUNTIF('Build Your Schedule'!Y$11,$B$10)+COUNTIF('Build Your Schedule'!Z$5:Z$8,$B$10))>0,1,0),0)","v":0},{"$f":"IF('Build Your Schedule'!AA$9=$B$10,IF((COUNTIF('Build Your Schedule'!Z$11,$B$10)+COUNTIF('Build Your Schedule'!AA$5:AA$8,$B$10))>0,1,0),0)","v":0},{"$f":"IF('Build Your Schedule'!AB$9=$B$10,IF((COUNTIF('Build Your Schedule'!AA$11,$B$10)+COUNTIF('Build Your Schedule'!AB$5:AB$8,$B$10))>0,1,0),0)","v":0},{"$f":"IF('Build Your Schedule'!AC$9=$B$10,IF((COUNTIF('Build Your Schedule'!AB$11,$B$10)+COUNTIF('Build Your Schedule'!AC$5:AC$8,$B$10))>0,1,0),0)","v":0},{"$f":"IF('Build Your Schedule'!AD$9=$B$10,IF((COUNTIF('Build Your Schedule'!AC$11,$B$10)+COUNTIF('Build Your Schedule'!AD$5:AD$8,$B$10))>0,1,0),0)","v":0},{"$f":"IF('Build Your Schedule'!AE$9=$B$10,IF((COUNTIF('Build Your Schedule'!AD$11,$B$10)+COUNTIF('Build Your Schedule'!AE$5:AE$8,$B$10))>0,1,0),0)","v":0},{"$f":"IF('Build Your Schedule'!AF$9=$B$10,IF((COUNTIF('Build Your Schedule'!AE$11,$B$10)+COUNTIF('Build Your Schedule'!AF$5:AF$8,$B$10))>0,1,0),0)","v":0},{"$f":"IF('Build Your Schedule'!AG$9=$B$10,IF((COUNTIF('Build Your Schedule'!AF$11,$B$10)+COUNTIF('Build Your Schedule'!AG$5:AG$8,$B$10))>0,1,0),0)","v":0},{"$f":"IF('Build Your Schedule'!AH$9=$B$10,IF((COUNTIF('Build Your Schedule'!AG$11,$B$10)+COUNTIF('Build Your Schedule'!AH$5:AH$8,$B$10))>0,1,0),0)","v":0},{"$f":"IF('Build Your Schedule'!AI$9=$B$10,IF((COUNTIF('Build Your Schedule'!AH$11,$B$10)+COUNTIF('Build Your Schedule'!AI$5:AI$8,$B$10))>0,1,0),0)","v":0},{"$f":"IF('Build Your Schedule'!AJ$9=$B$10,IF((COUNTIF('Build Your Schedule'!AI$11,$B$10)+COUNTIF('Build Your Schedule'!AJ$5:AJ$8,$B$10))>0,1,0),0)","v":0},{"$f":"IF('Build Your Schedule'!AK$9=$B$10,IF((COUNTIF('Build Your Schedule'!AJ$11,$B$10)+COUNTIF('Build Your Schedule'!AK$5:AK$8,$B$10))>0,1,0),0)","v":0}]
[null,"8p-5a",{"$f":"IF('Build Your Schedule'!H$10=$B$10,IF(COUNTIF('Build Your Schedule'!H$5:H$9,$B$10)>0,1,0),0)","v":0},{"$f":"IF('Build Your Schedule'!I$10=$B$10,IF(COUNTIF('Build Your Schedule'!I$5:I$9,$B$10)>0,1,0),0)","v":0},{"$f":"IF('Build Your Schedule'!J$10=$B$10,IF(COUNTIF('Build Your Schedule'!J$5:J$9,$B$10)>0,1,0),0)","v":0},{"$f":"IF('Build Your Schedule'!K$10=$B$10,IF(COUNTIF('Build Your Schedule'!K$5:K$9,$B$10)>0,1,0),0)","v":0},{"$f":"IF('Build Your Schedule'!L$10=$B$10,IF(COUNTIF('Build Your Schedule'!L$5:L$9,$B$10)>0,1,0),0)","v":0},{"$f":"IF('Build Your Schedule'!M$10=$B$10,IF(COUNTIF('Build Your Schedule'!M$5:M$9,$B$10)>0,1,0),0)","v":0},{"$f":"IF('Build Your Schedule'!N$10=$B$10,IF(COUNTIF('Build Your Schedule'!N$5:N$9,$B$10)>0,1,0),0)","v":0},{"$f":"IF('Build Your Schedule'!O$10=$B$10,IF(COUNTIF('Build Your Schedule'!O$5:O$9,$B$10)>0,1,0),0)","v":0},{"$f":"IF('Build Your Schedule'!P$10=$B$10,IF(COUNTIF('Build Your Schedule'!P$5:P$9,$B$10)>0,1,0),0)","v":0},{"$f":"IF('Build Your Schedule'!Q$10=$B$10,IF(COUNTIF('Build Your Schedule'!Q$5:Q$9,$B$10)>0,1,0),0)","v":0},{"$f":"IF('Build Your Schedule'!R$10=$B$10,IF(COUNTIF('Build Your Schedule'!R$5:R$9,$B$10)>0,1,0),0)","v":0},{"$f":"IF('Build Your Schedule'!S$10=$B$10,IF(COUNTIF('Build Your Schedule'!S$5:S$9,$B$10)>0,1,0),0)","v":0},{"$f":"IF('Build Your Schedule'!T$10=$B$10,IF(COUNTIF('Build Your Schedule'!T$5:T$9,$B$10)>0,1,0),0)","v":0},{"$f":"IF('Build Your Schedule'!U$10=$B$10,IF(COUNTIF('Build Your Schedule'!U$5:U$9,$B$10)>0,1,0),0)","v":0},{"$f":"IF('Build Your Schedule'!V$10=$B$10,IF(COUNTIF('Build Your Schedule'!V$5:V$9,$B$10)>0,1,0),0)","v":0},{"$f":"IF('Build Your Schedule'!W$10=$B$10,IF(COUNTIF('Build Your Schedule'!W$5:W$9,$B$10)>0,1,0),0)","v":0},{"$f":"IF('Build Your Schedule'!X$10=$B$10,IF(COUNTIF('Build Your Schedule'!X$5:X$9,$B$10)>0,1,0),0)","v":0},{"$f":"IF('Build Your Schedule'!Y$10=$B$10,IF(COUNTIF('Build Your Schedule'!Y$5:Y$9,$B$10)>0,1,0),0)","v":0},{"$f":"IF('Build Your Schedule'!Z$10=$B$10,IF(COUNTIF('Build Your Schedule'!Z$5:Z$9,$B$10)>0,1,0),0)","v":0},{"$f":"IF('Build Your Schedule'!AA$10=$B$10,IF(COUNTIF('Build Your Schedule'!AA$5:AA$9,$B$10)>0,1,0),0)","v":0},{"$f":"IF('Build Your Schedule'!AB$10=$B$10,IF(COUNTIF('Build Your Schedule'!AB$5:AB$9,$B$10)>0,1,0),0)","v":0},{"$f":"IF('Build Your Schedule'!AC$10=$B$10,IF(COUNTIF('Build Your Schedule'!AC$5:AC$9,$B$10)>0,1,0),0)","v":0},{"$f":"IF('Build Your Schedule'!AD$10=$B$10,IF(COUNTIF('Build Your Schedule'!AD$5:AD$9,$B$10)>0,1,0),0)","v":0},{"$f":"IF('Build Your Schedule'!AE$10=$B$10,IF(COUNTIF('Build Your Schedule'!AE$5:AE$9,$B$10)>0,1,0),0)","v":0},{"$f":"IF('Build Your Schedule'!AF$10=$B$10,IF(COUNTIF('Build Your Schedule'!AF$5:AF$9,$B$10)>0,1,0),0)","v":0},{"$f":"IF('Build Your Schedule'!AG$10=$B$10,IF(COUNTIF('Build Your Schedule'!AG$5:AG$9,$B$10)>0,1,0),0)","v":0},{"$f":"IF('Build Your Schedule'!AH$10=$B$10,IF(COUNTIF('Build Your Schedule'!AH$5:AH$9,$B$10)>0,1,0),0)","v":0},{"$f":"IF('Build Your Schedule'!AI$10=$B$10,IF(COUNTIF('Build Your Schedule'!AI$5:AI$9,$B$10)>0,1,0),0)","v":0},{"$f":"IF('Build Your Schedule'!AJ$10=$B$10,IF(COUNTIF('Build Your Schedule'!AJ$5:AJ$9,$B$10)>0,1,0),0)","v":0},{"$f":"IF('Build Your Schedule'!AK$10=$B$10,IF(COUNTIF('Build Your Schedule'!AK$5:AK$9,$B$10)>0,1,0),0)","v":0}]
[null,"11p-8a",{"$f":"IF('Build Your Schedule'!H$11=$B$10,IF(COUNTIF('Build Your Schedule'!H$5:H$10,$B$10)>0,1,0),0)","v":0},{"$f":"IF('Build Your Schedule'!I$11=$B$10,IF(COUNTIF('Build Your Schedule'!I$5:I$10,$B$10)>0,1,0),0)","v":0},{"$f":"IF('Build Your Schedule'!J$11=$B$10,IF(COUNTIF('Build Your Schedule'!J$5:J$10,$B$10)>0,1,0),0)","v":0},{"$f":"IF('Build Your Schedule'!K$11=$B$10,IF(COUNTIF('Build Your Schedule'!K$5:K$10,$B$10)>0,1,0),0)","v":0},{"$f":"IF('Build Your Schedule'!L$11=$B$10,IF(COUNTIF('Build Your Schedule'!L$5:L$10,$B$10)>0,1,0),0)","v":0},{"$f":"IF('Build Your Schedule'!M$11=$B$10,IF(COUNTIF('Build Your Schedule'!M$5:M$10,$B$10)>0,1,0),0)","v":0},{"$f":"IF('Build Your Schedule'!N$11=$B$10,IF(COUNTIF('Build Your Schedule'!N$5:N$10,$B$10)>0,1,0),0)","v":0},{"$f":"IF('Build Your Schedule'!O$11=$B$10,IF(COUNTIF('Build Your Schedule'!O$5:O$10,$B$10)>0,1,0),0)","v":0},{"$f":"IF('Build Your Schedule'!P$11=$B$10,IF(COUNTIF('Build Your Schedule'!P$5:P$10,$B$10)>0,1,0),0)","v":0},{"$f":"IF('Build Your Schedule'!Q$11=$B$10,IF(COUNTIF('Build Your Schedule'!Q$5:Q$10,$B$10)>0,1,0),0)","v":0},{"$f":"IF('Build Your Schedule'!R$11=$B$10,IF(COUNTIF('Build Your Schedule'!R$5:R$10,$B$10)>0,1,0),0)","v":0},{"$f":"IF('Build Your Schedule'!S$11=$B$10,IF(COUNTIF('Build Your Schedule'!S$5:S$10,$B$10)>0,1,0),0)","v":0},{"$f":"IF('Build Your Schedule'!T$11=$B$10,IF(COUNTIF('Build Your Schedule'!T$5:T$10,$B$10)>0,1,0),0)","v":0},{"$f":"IF('Build Your Schedule'!U$11=$B$10,IF(COUNTIF('Build Your Schedule'!U$5:U$10,$B$10)>0,1,0),0)","v":0},{"$f":"IF('Build Your Schedule'!V$11=$B$10,IF(COUNTIF('Build Your Schedule'!V$5:V$10,$B$10)>0,1,0),0)","v":0},{"$f":"IF('Build Your Schedule'!W$11=$B$10,IF(COUNTIF('Build Your Schedule'!W$5:W$10,$B$10)>0,1,0),0)","v":0},{"$f":"IF('Build Your Schedule'!X$11=$B$10,IF(COUNTIF('Build Your Schedule'!X$5:X$10,$B$10)>0,1,0),0)","v":0},{"$f":"IF('Build Your Schedule'!Y$11=$B$10,IF(COUNTIF('Build Your Schedule'!Y$5:Y$10,$B$10)>0,1,0),0)","v":0},{"$f":"IF('Build Your Schedule'!Z$11=$B$10,IF(COUNTIF('Build Your Schedule'!Z$5:Z$10,$B$10)>0,1,0),0)","v":0},{"$f":"IF('Build Your Schedule'!AA$11=$B$10,IF(COUNTIF('Build Your Schedule'!AA$5:AA$10,$B$10)>0,1,0),0)","v":0},{"$f":"IF('Build Your Schedule'!AB$11=$B$10,IF(COUNTIF('Build Your Schedule'!AB$5:AB$10,$B$10)>0,1,0),0)","v":0},{"$f":"IF('Build Your Schedule'!AC$11=$B$10,IF(COUNTIF('Build Your Schedule'!AC$5:AC$10,$B$10)>0,1,0),0)","v":0},{"$f":"IF('Build Your Schedule'!AD$11=$B$10,IF(COUNTIF('Build Your Schedule'!AD$5:AD$10,$B$10)>0,1,0),0)","v":0},{"$f":"IF('Build Your Schedule'!AE$11=$B$10,IF(COUNTIF('Build Your Schedule'!AE$5:AE$10,$B$10)>0,1,0),0)","v":0},{"$f":"IF('Build Your Schedule'!AF$11=$B$10,IF(COUNTIF('Build Your Schedule'!AF$5:AF$10,$B$10)>0,1,0),0)","v":0},{"$f":"IF('Build Your Schedule'!AG$11=$B$10,IF(COUNTIF('Build Your Schedule'!AG$5:AG$10,$B$10)>0,1,0),0)","v":0},{"$f":"IF('Build Your Schedule'!AH$11=$B$10,IF(COUNTIF('Build Your Schedule'!AH$5:AH$10,$B$10)>0,1,0),0)","v":0},{"$f":"IF('Build Your Schedule'!AI$11=$B$10,IF(COUNTIF('Build Your Schedule'!AI$5:AI$10,$B$10)>0,1,0),0)","v":0},{"$f":"IF('Build Your Schedule'!AJ$11=$B$10,IF(COUNTIF('Build Your Schedule'!AJ$5:AJ$10,$B$10)>0,1,0),0)","v":0},{"$f":"IF('Build Your Schedule'!AK$11=$B$10,IF(COUNTIF('Build Your Schedule'!AK$5:AK$10,$B$10)>0,1,0),0)","v":0}]
[]
[null,{"$f":"B11","v":"Mollison"},"2015-06-01","2015-06-02","2015-06-03","2015-06-04","2015-06-05","2015-06-06","2015-06-07","2015-06-08","2015-06-09","2015-06-10","2015-06-11","2015-06-12","2015-06-13","2015-06-14","2015-06-15","2015-06-16","2015-06-17","2015-06-18","2015-06-19","2015-06-20","2015-06-21","2015-06-22","2015-06-23","2015-06-24","2015-06-25","2015-06-26","2015-06-27","2015-06-28","2015-06-29","2015-06-30"]
[null,"7a-4p",{"$f":"IF('Build Your Schedule'!H$5=$B$11,IF(COUNTIF('Build Your Schedule'!G$8:G$11,$B$11)>0,1,0),0)","v":0},{"$f":"IF('Build Your Schedule'!I$5=$B$11,IF(COUNTIF('Build Your Schedule'!H$8:H$11,$B$11)>0,1,0),0)","v":0},{"$f":"IF('Build Your Schedule'!J$5=$B$11,IF(COUNTIF('Build Your Schedule'!I$8:I$11,$B$11)>0,1,0),0)","v":0},{"$f":"IF('Build Your Schedule'!K$5=$B$11,IF(COUNTIF('Build Your Schedule'!J$8:J$11,$B$11)>0,1,0),0)","v":0},{"$f":"IF('Build Your Schedule'!L$5=$B$11,IF(COUNTIF('Build Your Schedule'!K$8:K$11,$B$11)>0,1,0),0)","v":0},{"$f":"IF('Build Your Schedule'!M$5=$B$11,IF(COUNTIF('Build Your Schedule'!L$8:L$11,$B$11)>0,1,0),0)","v":0},{"$f":"IF('Build Your Schedule'!N$5=$B$11,IF(COUNTIF('Build Your Schedule'!M$8:M$11,$B$11)>0,1,0),0)","v":0},{"$f":"IF('Build Your Schedule'!O$5=$B$11,IF(COUNTIF('Build Your Schedule'!N$8:N$11,$B$11)>0,1,0),0)","v":0},{"$f":"IF('Build Your Schedule'!P$5=$B$11,IF(COUNTIF('Build Your Schedule'!O$8:O$11,$B$11)>0,1,0),0)","v":0},{"$f":"IF('Build Your Schedule'!Q$5=$B$11,IF(COUNTIF('Build Your Schedule'!P$8:P$11,$B$11)>0,1,0),0)","v":0},{"$f":"IF('Build Your Schedule'!R$5=$B$11,IF(COUNTIF('Build Your Schedule'!Q$8:Q$11,$B$11)>0,1,0),0)","v":0},{"$f":"IF('Build Your Schedule'!S$5=$B$11,IF(COUNTIF('Build Your Schedule'!R$8:R$11,$B$11)>0,1,0),0)","v":0},{"$f":"IF('Build Your Schedule'!T$5=$B$11,IF(COUNTIF('Build Your Schedule'!S$8:S$11,$B$11)>0,1,0),0)","v":0},{"$f":"IF('Build Your Schedule'!U$5=$B$11,IF(COUNTIF('Build Your Schedule'!T$8:T$11,$B$11)>0,1,0),0)","v":0},{"$f":"IF('Build Your Schedule'!V$5=$B$11,IF(COUNTIF('Build Your Schedule'!U$8:U$11,$B$11)>0,1,0),0)","v":0},{"$f":"IF('Build Your Schedule'!W$5=$B$11,IF(COUNTIF('Build Your Schedule'!V$8:V$11,$B$11)>0,1,0),0)","v":0},{"$f":"IF('Build Your Schedule'!X$5=$B$11,IF(COUNTIF('Build Your Schedule'!W$8:W$11,$B$11)>0,1,0),0)","v":0},{"$f":"IF('Build Your Schedule'!Y$5=$B$11,IF(COUNTIF('Build Your Schedule'!X$8:X$11,$B$11)>0,1,0),0)","v":0},{"$f":"IF('Build Your Schedule'!Z$5=$B$11,IF(COUNTIF('Build Your Schedule'!Y$8:Y$11,$B$11)>0,1,0),0)","v":0},{"$f":"IF('Build Your Schedule'!AA$5=$B$11,IF(COUNTIF('Build Your Schedule'!Z$8:Z$11,$B$11)>0,1,0),0)","v":0},{"$f":"IF('Build Your Schedule'!AB$5=$B$11,IF(COUNTIF('Build Your Schedule'!AA$8:AA$11,$B$11)>0,1,0),0)","v":0},{"$f":"IF('Build Your Schedule'!AC$5=$B$11,IF(COUNTIF('Build Your Schedule'!AB$8:AB$11,$B$11)>0,1,0),0)","v":0},{"$f":"IF('Build Your Schedule'!AD$5=$B$11,IF(COUNTIF('Build Your Schedule'!AC$8:AC$11,$B$11)>0,1,0),0)","v":0},{"$f":"IF('Build Your Schedule'!AE$5=$B$11,IF(COUNTIF('Build Your Schedule'!AD$8:AD$11,$B$11)>0,1,0),0)","v":0},{"$f":"IF('Build Your Schedule'!AF$5=$B$11,IF(COUNTIF('Build Your Schedule'!AE$8:AE$11,$B$11)>0,1,0),0)","v":0},{"$f":"IF('Build Your Schedule'!AG$5=$B$11,IF(COUNTIF('Build Your Schedule'!AF$8:AF$11,$B$11)>0,1,0),0)","v":0},{"$f":"IF('Build Your Schedule'!AH$5=$B$11,IF(COUNTIF('Build Your Schedule'!AG$8:AG$11,$B$11)>0,1,0),0)","v":0},{"$f":"IF('Build Your Schedule'!AI$5=$B$11,IF(COUNTIF('Build Your Schedule'!AH$8:AH$11,$B$11)>0,1,0),0)","v":0},{"$f":"IF('Build Your Schedule'!AJ$5=$B$11,IF(COUNTIF('Build Your Schedule'!AI$8:AI$11,$B$11)>0,1,0),0)","v":0},{"$f":"IF('Build Your Schedule'!AK$5=$B$11,IF(COUNTIF('Build Your Schedule'!AJ$8:AJ$11,$B$11)>0,1,0),0)","v":0}]
[null,"9a-6p",{"$f":"IF('Build Your Schedule'!H$6=$B$11,IF((COUNTIF('Build Your Schedule'!G$8:G$11,$B$11)+COUNTIF('Build Your Schedule'!H$5,$B$11))>0,1,0),0)","v":0},{"$f":"IF('Build Your Schedule'!I$6=$B$11,IF((COUNTIF('Build Your Schedule'!H$8:H$11,$B$11)+COUNTIF('Build Your Schedule'!I$5,$B$11))>0,1,0),0)","v":0},{"$f":"IF('Build Your Schedule'!J$6=$B$11,IF((COUNTIF('Build Your Schedule'!I$8:I$11,$B$11)+COUNTIF('Build Your Schedule'!J$5,$B$11))>0,1,0),0)","v":0},{"$f":"IF('Build Your Schedule'!K$6=$B$11,IF((COUNTIF('Build Your Schedule'!J$8:J$11,$B$11)+COUNTIF('Build Your Schedule'!K$5,$B$11))>0,1,0),0)","v":0},{"$f":"IF('Build Your Schedule'!L$6=$B$11,IF((COUNTIF('Build Your Schedule'!K$8:K$11,$B$11)+COUNTIF('Build Your Schedule'!L$5,$B$11))>0,1,0),0)","v":0},{"$f":"IF('Build Your Schedule'!M$6=$B$11,IF((COUNTIF('Build Your Schedule'!L$8:L$11,$B$11)+COUNTIF('Build Your Schedule'!M$5,$B$11))>0,1,0),0)","v":0},{"$f":"IF('Build Your Schedule'!N$6=$B$11,IF((COUNTIF('Build Your Schedule'!M$8:M$11,$B$11)+COUNTIF('Build Your Schedule'!N$5,$B$11))>0,1,0),0)","v":0},{"$f":"IF('Build Your Schedule'!O$6=$B$11,IF((COUNTIF('Build Your Schedule'!N$8:N$11,$B$11)+COUNTIF('Build Your Schedule'!O$5,$B$11))>0,1,0),0)","v":0},{"$f":"IF('Build Your Schedule'!P$6=$B$11,IF((COUNTIF('Build Your Schedule'!O$8:O$11,$B$11)+COUNTIF('Build Your Schedule'!P$5,$B$11))>0,1,0),0)","v":0},{"$f":"IF('Build Your Schedule'!Q$6=$B$11,IF((COUNTIF('Build Your Schedule'!P$8:P$11,$B$11)+COUNTIF('Build Your Schedule'!Q$5,$B$11))>0,1,0),0)","v":0},{"$f":"IF('Build Your Schedule'!R$6=$B$11,IF((COUNTIF('Build Your Schedule'!Q$8:Q$11,$B$11)+COUNTIF('Build Your Schedule'!R$5,$B$11))>0,1,0),0)","v":0},{"$f":"IF('Build Your Schedule'!S$6=$B$11,IF((COUNTIF('Build Your Schedule'!R$8:R$11,$B$11)+COUNTIF('Build Your Schedule'!S$5,$B$11))>0,1,0),0)","v":0},{"$f":"IF('Build Your Schedule'!T$6=$B$11,IF((COUNTIF('Build Your Schedule'!S$8:S$11,$B$11)+COUNTIF('Build Your Schedule'!T$5,$B$11))>0,1,0),0)","v":0},{"$f":"IF('Build Your Schedule'!U$6=$B$11,IF((COUNTIF('Build Your Schedule'!T$8:T$11,$B$11)+COUNTIF('Build Your Schedule'!U$5,$B$11))>0,1,0),0)","v":0},{"$f":"IF('Build Your Schedule'!V$6=$B$11,IF((COUNTIF('Build Your Schedule'!U$8:U$11,$B$11)+COUNTIF('Build Your Schedule'!V$5,$B$11))>0,1,0),0)","v":0},{"$f":"IF('Build Your Schedule'!W$6=$B$11,IF((COUNTIF('Build Your Schedule'!V$8:V$11,$B$11)+COUNTIF('Build Your Schedule'!W$5,$B$11))>0,1,0),0)","v":0},{"$f":"IF('Build Your Schedule'!X$6=$B$11,IF((COUNTIF('Build Your Schedule'!W$8:W$11,$B$11)+COUNTIF('Build Your Schedule'!X$5,$B$11))>0,1,0),0)","v":0},{"$f":"IF('Build Your Schedule'!Y$6=$B$11,IF((COUNTIF('Build Your Schedule'!X$8:X$11,$B$11)+COUNTIF('Build Your Schedule'!Y$5,$B$11))>0,1,0),0)","v":0},{"$f":"IF('Build Your Schedule'!Z$6=$B$11,IF((COUNTIF('Build Your Schedule'!Y$8:Y$11,$B$11)+COUNTIF('Build Your Schedule'!Z$5,$B$11))>0,1,0),0)","v":0},{"$f":"IF('Build Your Schedule'!AA$6=$B$11,IF((COUNTIF('Build Your Schedule'!Z$8:Z$11,$B$11)+COUNTIF('Build Your Schedule'!AA$5,$B$11))>0,1,0),0)","v":0},{"$f":"IF('Build Your Schedule'!AB$6=$B$11,IF((COUNTIF('Build Your Schedule'!AA$8:AA$11,$B$11)+COUNTIF('Build Your Schedule'!AB$5,$B$11))>0,1,0),0)","v":0},{"$f":"IF('Build Your Schedule'!AC$6=$B$11,IF((COUNTIF('Build Your Schedule'!AB$8:AB$11,$B$11)+COUNTIF('Build Your Schedule'!AC$5,$B$11))>0,1,0),0)","v":0},{"$f":"IF('Build Your Schedule'!AD$6=$B$11,IF((COUNTIF('Build Your Schedule'!AC$8:AC$11,$B$11)+COUNTIF('Build Your Schedule'!AD$5,$B$11))>0,1,0),0)","v":0},{"$f":"IF('Build Your Schedule'!AE$6=$B$11,IF((COUNTIF('Build Your Schedule'!AD$8:AD$11,$B$11)+COUNTIF('Build Your Schedule'!AE$5,$B$11))>0,1,0),0)","v":0},{"$f":"IF('Build Your Schedule'!AF$6=$B$11,IF((COUNTIF('Build Your Schedule'!AE$8:AE$11,$B$11)+COUNTIF('Build Your Schedule'!AF$5,$B$11))>0,1,0),0)","v":0},{"$f":"IF('Build Your Schedule'!AG$6=$B$11,IF((COUNTIF('Build Your Schedule'!AF$8:AF$11,$B$11)+COUNTIF('Build Your Schedule'!AG$5,$B$11))>0,1,0),0)","v":0},{"$f":"IF('Build Your Schedule'!AH$6=$B$11,IF((COUNTIF('Build Your Schedule'!AG$8:AG$11,$B$11)+COUNTIF('Build Your Schedule'!AH$5,$B$11))>0,1,0),0)","v":0},{"$f":"IF('Build Your Schedule'!AI$6=$B$11,IF((COUNTIF('Build Your Schedule'!AH$8:AH$11,$B$11)+COUNTIF('Build Your Schedule'!AI$5,$B$11))>0,1,0),0)","v":0},{"$f":"IF('Build Your Schedule'!AJ$6=$B$11,IF((COUNTIF('Build Your Schedule'!AI$8:AI$11,$B$11)+COUNTIF('Build Your Schedule'!AJ$5,$B$11))>0,1,0),0)","v":0},{"$f":"IF('Build Your Schedule'!AK$6=$B$11,IF((COUNTIF('Build Your Schedule'!AJ$8:AJ$11,$B$11)+COUNTIF('Build Your Schedule'!AK$5,$B$11))>0,1,0),0)","v":0}]
[null,"12p-9p",{"$f":"IF('Build Your Schedule'!H$7=$B$11,IF((COUNTIF('Build Your Schedule'!G$10:G$11,$B$11)+COUNTIF('Build Your Schedule'!H$5:H$6,$B$11))>0,1,0),0)","v":0},{"$f":"IF('Build Your Schedule'!I$7=$B$11,IF((COUNTIF('Build Your Schedule'!H$10:H$11,$B$11)+COUNTIF('Build Your Schedule'!I$5:I$6,$B$11))>0,1,0),0)","v":0},{"$f":"IF('Build Your Schedule'!J$7=$B$11,IF((COUNTIF('Build Your Schedule'!I$10:I$11,$B$11)+COUNTIF('Build Your Schedule'!J$5:J$6,$B$11))>0,1,0),0)","v":0},{"$f":"IF('Build Your Schedule'!K$7=$B$11,IF((COUNTIF('Build Your Schedule'!J$10:J$11,$B$11)+COUNTIF('Build Your Schedule'!K$5:K$6,$B$11))>0,1,0),0)","v":0},{"$f":"IF('Build Your Schedule'!L$7=$B$11,IF((COUNTIF('Build Your Schedule'!K$10:K$11,$B$11)+COUNTIF('Build Your Schedule'!L$5:L$6,$B$11))>0,1,0),0)","v":0},{"$f":"IF('Build Your Schedule'!M$7=$B$11,IF((COUNTIF('Build Your Schedule'!L$10:L$11,$B$11)+COUNTIF('Build Your Schedule'!M$5:M$6,$B$11))>0,1,0),0)","v":0},{"$f":"IF('Build Your Schedule'!N$7=$B$11,IF((COUNTIF('Build Your Schedule'!M$10:M$11,$B$11)+COUNTIF('Build Your Schedule'!N$5:N$6,$B$11))>0,1,0),0)","v":0},{"$f":"IF('Build Your Schedule'!O$7=$B$11,IF((COUNTIF('Build Your Schedule'!N$10:N$11,$B$11)+COUNTIF('Build Your Schedule'!O$5:O$6,$B$11))>0,1,0),0)","v":0},{"$f":"IF('Build Your Schedule'!P$7=$B$11,IF((COUNTIF('Build Your Schedule'!O$10:O$11,$B$11)+COUNTIF('Build Your Schedule'!P$5:P$6,$B$11))>0,1,0),0)","v":0},{"$f":"IF('Build Your Schedule'!Q$7=$B$11,IF((COUNTIF('Build Your Schedule'!P$10:P$11,$B$11)+COUNTIF('Build Your Schedule'!Q$5:Q$6,$B$11))>0,1,0),0)","v":0},{"$f":"IF('Build Your Schedule'!R$7=$B$11,IF((COUNTIF('Build Your Schedule'!Q$10:Q$11,$B$11)+COUNTIF('Build Your Schedule'!R$5:R$6,$B$11))>0,1,0),0)","v":0},{"$f":"IF('Build Your Schedule'!S$7=$B$11,IF((COUNTIF('Build Your Schedule'!R$10:R$11,$B$11)+COUNTIF('Build Your Schedule'!S$5:S$6,$B$11))>0,1,0),0)","v":0},{"$f":"IF('Build Your Schedule'!T$7=$B$11,IF((COUNTIF('Build Your Schedule'!S$10:S$11,$B$11)+COUNTIF('Build Your Schedule'!T$5:T$6,$B$11))>0,1,0),0)","v":0},{"$f":"IF('Build Your Schedule'!U$7=$B$11,IF((COUNTIF('Build Your Schedule'!T$10:T$11,$B$11)+COUNTIF('Build Your Schedule'!U$5:U$6,$B$11))>0,1,0),0)","v":0},{"$f":"IF('Build Your Schedule'!V$7=$B$11,IF((COUNTIF('Build Your Schedule'!U$10:U$11,$B$11)+COUNTIF('Build Your Schedule'!V$5:V$6,$B$11))>0,1,0),0)","v":0},{"$f":"IF('Build Your Schedule'!W$7=$B$11,IF((COUNTIF('Build Your Schedule'!V$10:V$11,$B$11)+COUNTIF('Build Your Schedule'!W$5:W$6,$B$11))>0,1,0),0)","v":0},{"$f":"IF('Build Your Schedule'!X$7=$B$11,IF((COUNTIF('Build Your Schedule'!W$10:W$11,$B$11)+COUNTIF('Build Your Schedule'!X$5:X$6,$B$11))>0,1,0),0)","v":0},{"$f":"IF('Build Your Schedule'!Y$7=$B$11,IF((COUNTIF('Build Your Schedule'!X$10:X$11,$B$11)+COUNTIF('Build Your Schedule'!Y$5:Y$6,$B$11))>0,1,0),0)","v":0},{"$f":"IF('Build Your Schedule'!Z$7=$B$11,IF((COUNTIF('Build Your Schedule'!Y$10:Y$11,$B$11)+COUNTIF('Build Your Schedule'!Z$5:Z$6,$B$11))>0,1,0),0)","v":0},{"$f":"IF('Build Your Schedule'!AA$7=$B$11,IF((COUNTIF('Build Your Schedule'!Z$10:Z$11,$B$11)+COUNTIF('Build Your Schedule'!AA$5:AA$6,$B$11))>0,1,0),0)","v":0},{"$f":"IF('Build Your Schedule'!AB$7=$B$11,IF((COUNTIF('Build Your Schedule'!AA$10:AA$11,$B$11)+COUNTIF('Build Your Schedule'!AB$5:AB$6,$B$11))>0,1,0),0)","v":0},{"$f":"IF('Build Your Schedule'!AC$7=$B$11,IF((COUNTIF('Build Your Schedule'!AB$10:AB$11,$B$11)+COUNTIF('Build Your Schedule'!AC$5:AC$6,$B$11))>0,1,0),0)","v":0},{"$f":"IF('Build Your Schedule'!AD$7=$B$11,IF((COUNTIF('Build Your Schedule'!AC$10:AC$11,$B$11)+COUNTIF('Build Your Schedule'!AD$5:AD$6,$B$11))>0,1,0),0)","v":0},{"$f":"IF('Build Your Schedule'!AE$7=$B$11,IF((COUNTIF('Build Your Schedule'!AD$10:AD$11,$B$11)+COUNTIF('Build Your Schedule'!AE$5:AE$6,$B$11))>0,1,0),0)","v":0},{"$f":"IF('Build Your Schedule'!AF$7=$B$11,IF((COUNTIF('Build Your Schedule'!AE$10:AE$11,$B$11)+COUNTIF('Build Your Schedule'!AF$5:AF$6,$B$11))>0,1,0),0)","v":0},{"$f":"IF('Build Your Schedule'!AG$7=$B$11,IF((COUNTIF('Build Your Schedule'!AF$10:AF$11,$B$11)+COUNTIF('Build Your Schedule'!AG$5:AG$6,$B$11))>0,1,0),0)","v":0},{"$f":"IF('Build Your Schedule'!AH$7=$B$11,IF((COUNTIF('Build Your Schedule'!AG$10:AG$11,$B$11)+COUNTIF('Build Your Schedule'!AH$5:AH$6,$B$11))>0,1,0),0)","v":0},{"$f":"IF('Build Your Schedule'!AI$7=$B$11,IF((COUNTIF('Build Your Schedule'!AH$10:AH$11,$B$11)+COUNTIF('Build Your Schedule'!AI$5:AI$6,$B$11))>0,1,0),0)","v":0},{"$f":"IF('Build Your Schedule'!AJ$7=$B$11,IF((COUNTIF('Build Your Schedule'!AI$10:AI$11,$B$11)+COUNTIF('Build Your Schedule'!AJ$5:AJ$6,$B$11))>0,1,0),0)","v":0},{"$f":"IF('Build Your Schedule'!AK$7=$B$11,IF((COUNTIF('Build Your Schedule'!AJ$10:AJ$11,$B$11)+COUNTIF('Build Your Schedule'!AK$5:AK$6,$B$11))>0,1,0),0)","v":0}]
[null,"4p-1a",{"$f":"IF('Build Your Schedule'!H$8=$B$11,IF((COUNTIF('Build Your Schedule'!G$11,$B$11)+COUNTIF('Build Your Schedule'!H$5:H$7,$B$11))>0,1,0),0)","v":0},{"$f":"IF('Build Your Schedule'!I$8=$B$11,IF((COUNTIF('Build Your Schedule'!H$11,$B$11)+COUNTIF('Build Your Schedule'!I$5:I$7,$B$11))>0,1,0),0)","v":0},{"$f":"IF('Build Your Schedule'!J$8=$B$11,IF((COUNTIF('Build Your Schedule'!I$11,$B$11)+COUNTIF('Build Your Schedule'!J$5:J$7,$B$11))>0,1,0),0)","v":0},{"$f":"IF('Build Your Schedule'!K$8=$B$11,IF((COUNTIF('Build Your Schedule'!J$11,$B$11)+COUNTIF('Build Your Schedule'!K$5:K$7,$B$11))>0,1,0),0)","v":0},{"$f":"IF('Build Your Schedule'!L$8=$B$11,IF((COUNTIF('Build Your Schedule'!K$11,$B$11)+COUNTIF('Build Your Schedule'!L$5:L$7,$B$11))>0,1,0),0)","v":0},{"$f":"IF('Build Your Schedule'!M$8=$B$11,IF((COUNTIF('Build Your Schedule'!L$11,$B$11)+COUNTIF('Build Your Schedule'!M$5:M$7,$B$11))>0,1,0),0)","v":0},{"$f":"IF('Build Your Schedule'!N$8=$B$11,IF((COUNTIF('Build Your Schedule'!M$11,$B$11)+COUNTIF('Build Your Schedule'!N$5:N$7,$B$11))>0,1,0),0)","v":0},{"$f":"IF('Build Your Schedule'!O$8=$B$11,IF((COUNTIF('Build Your Schedule'!N$11,$B$11)+COUNTIF('Build Your Schedule'!O$5:O$7,$B$11))>0,1,0),0)","v":0},{"$f":"IF('Build Your Schedule'!P$8=$B$11,IF((COUNTIF('Build Your Schedule'!O$11,$B$11)+COUNTIF('Build Your Schedule'!P$5:P$7,$B$11))>0,1,0),0)","v":0},{"$f":"IF('Build Your Schedule'!Q$8=$B$11,IF((COUNTIF('Build Your Schedule'!P$11,$B$11)+COUNTIF('Build Your Schedule'!Q$5:Q$7,$B$11))>0,1,0),0)","v":0},{"$f":"IF('Build Your Schedule'!R$8=$B$11,IF((COUNTIF('Build Your Schedule'!Q$11,$B$11)+COUNTIF('Build Your Schedule'!R$5:R$7,$B$11))>0,1,0),0)","v":0},{"$f":"IF('Build Your Schedule'!S$8=$B$11,IF((COUNTIF('Build Your Schedule'!R$11,$B$11)+COUNTIF('Build Your Schedule'!S$5:S$7,$B$11))>0,1,0),0)","v":0},{"$f":"IF('Build Your Schedule'!T$8=$B$11,IF((COUNTIF('Build Your Schedule'!S$11,$B$11)+COUNTIF('Build Your Schedule'!T$5:T$7,$B$11))>0,1,0),0)","v":0},{"$f":"IF('Build Your Schedule'!U$8=$B$11,IF((COUNTIF('Build Your Schedule'!T$11,$B$11)+COUNTIF('Build Your Schedule'!U$5:U$7,$B$11))>0,1,0),0)","v":0},{"$f":"IF('Build Your Schedule'!V$8=$B$11,IF((COUNTIF('Build Your Schedule'!U$11,$B$11)+COUNTIF('Build Your Schedule'!V$5:V$7,$B$11))>0,1,0),0)","v":0},{"$f":"IF('Build Your Schedule'!W$8=$B$11,IF((COUNTIF('Build Your Schedule'!V$11,$B$11)+COUNTIF('Build Your Schedule'!W$5:W$7,$B$11))>0,1,0),0)","v":0},{"$f":"IF('Build Your Schedule'!X$8=$B$11,IF((COUNTIF('Build Your Schedule'!W$11,$B$11)+COUNTIF('Build Your Schedule'!X$5:X$7,$B$11))>0,1,0),0)","v":0},{"$f":"IF('Build Your Schedule'!Y$8=$B$11,IF((COUNTIF('Build Your Schedule'!X$11,$B$11)+COUNTIF('Build Your Schedule'!Y$5:Y$7,$B$11))>0,1,0),0)","v":0},{"$f":"IF('Build Your Schedule'!Z$8=$B$11,IF((COUNTIF('Build Your Schedule'!Y$11,$B$11)+COUNTIF('Build Your Schedule'!Z$5:Z$7,$B$11))>0,1,0),0)","v":0},{"$f":"IF('Build Your Schedule'!AA$8=$B$11,IF((COUNTIF('Build Your Schedule'!Z$11,$B$11)+COUNTIF('Build Your Schedule'!AA$5:AA$7,$B$11))>0,1,0),0)","v":0},{"$f":"IF('Build Your Schedule'!AB$8=$B$11,IF((COUNTIF('Build Your Schedule'!AA$11,$B$11)+COUNTIF('Build Your Schedule'!AB$5:AB$7,$B$11))>0,1,0),0)","v":0},{"$f":"IF('Build Your Schedule'!AC$8=$B$11,IF((COUNTIF('Build Your Schedule'!AB$11,$B$11)+COUNTIF('Build Your Schedule'!AC$5:AC$7,$B$11))>0,1,0),0)","v":0},{"$f":"IF('Build Your Schedule'!AD$8=$B$11,IF((COUNTIF('Build Your Schedule'!AC$11,$B$11)+COUNTIF('Build Your Schedule'!AD$5:AD$7,$B$11))>0,1,0),0)","v":0},{"$f":"IF('Build Your Schedule'!AE$8=$B$11,IF((COUNTIF('Build Your Schedule'!AD$11,$B$11)+COUNTIF('Build Your Schedule'!AE$5:AE$7,$B$11))>0,1,0),0)","v":0},{"$f":"IF('Build Your Schedule'!AF$8=$B$11,IF((COUNTIF('Build Your Schedule'!AE$11,$B$11)+COUNTIF('Build Your Schedule'!AF$5:AF$7,$B$11))>0,1,0),0)","v":0},{"$f":"IF('Build Your Schedule'!AG$8=$B$11,IF((COUNTIF('Build Your Schedule'!AF$11,$B$11)+COUNTIF('Build Your Schedule'!AG$5:AG$7,$B$11))>0,1,0),0)","v":0},{"$f":"IF('Build Your Schedule'!AH$8=$B$11,IF((COUNTIF('Build Your Schedule'!AG$11,$B$11)+COUNTIF('Build Your Schedule'!AH$5:AH$7,$B$11))>0,1,0),0)","v":0},{"$f":"IF('Build Your Schedule'!AI$8=$B$11,IF((COUNTIF('Build Your Schedule'!AH$11,$B$11)+COUNTIF('Build Your Schedule'!AI$5:AI$7,$B$11))>0,1,0),0)","v":0},{"$f":"IF('Build Your Schedule'!AJ$8=$B$11,IF((COUNTIF('Build Your Schedule'!AI$11,$B$11)+COUNTIF('Build Your Schedule'!AJ$5:AJ$7,$B$11))>0,1,0),0)","v":0},{"$f":"IF('Build Your Schedule'!AK$8=$B$11,IF((COUNTIF('Build Your Schedule'!AJ$11,$B$11)+COUNTIF('Build Your Schedule'!AK$5:AK$7,$B$11))>0,1,0),0)","v":0}]
[null,"5p-2a",{"$f":"IF('Build Your Schedule'!H$9=$B$11,IF((COUNTIF('Build Your Schedule'!G$11,$B$11)+COUNTIF('Build Your Schedule'!H$5:H$8,$B$11))>0,1,0),0)","v":0},{"$f":"IF('Build Your Schedule'!I$9=$B$11,IF((COUNTIF('Build Your Schedule'!H$11,$B$11)+COUNTIF('Build Your Schedule'!I$5:I$8,$B$11))>0,1,0),0)","v":0},{"$f":"IF('Build Your Schedule'!J$9=$B$11,IF((COUNTIF('Build Your Schedule'!I$11,$B$11)+COUNTIF('Build Your Schedule'!J$5:J$8,$B$11))>0,1,0),0)","v":0},{"$f":"IF('Build Your Schedule'!K$9=$B$11,IF((COUNTIF('Build Your Schedule'!J$11,$B$11)+COUNTIF('Build Your Schedule'!K$5:K$8,$B$11))>0,1,0),0)","v":0},{"$f":"IF('Build Your Schedule'!L$9=$B$11,IF((COUNTIF('Build Your Schedule'!K$11,$B$11)+COUNTIF('Build Your Schedule'!L$5:L$8,$B$11))>0,1,0),0)","v":0},{"$f":"IF('Build Your Schedule'!M$9=$B$11,IF((COUNTIF('Build Your Schedule'!L$11,$B$11)+COUNTIF('Build Your Schedule'!M$5:M$8,$B$11))>0,1,0),0)","v":0},{"$f":"IF('Build Your Schedule'!N$9=$B$11,IF((COUNTIF('Build Your Schedule'!M$11,$B$11)+COUNTIF('Build Your Schedule'!N$5:N$8,$B$11))>0,1,0),0)","v":0},{"$f":"IF('Build Your Schedule'!O$9=$B$11,IF((COUNTIF('Build Your Schedule'!N$11,$B$11)+COUNTIF('Build Your Schedule'!O$5:O$8,$B$11))>0,1,0),0)","v":0},{"$f":"IF('Build Your Schedule'!P$9=$B$11,IF((COUNTIF('Build Your Schedule'!O$11,$B$11)+COUNTIF('Build Your Schedule'!P$5:P$8,$B$11))>0,1,0),0)","v":0},{"$f":"IF('Build Your Schedule'!Q$9=$B$11,IF((COUNTIF('Build Your Schedule'!P$11,$B$11)+COUNTIF('Build Your Schedule'!Q$5:Q$8,$B$11))>0,1,0),0)","v":0},{"$f":"IF('Build Your Schedule'!R$9=$B$11,IF((COUNTIF('Build Your Schedule'!Q$11,$B$11)+COUNTIF('Build Your Schedule'!R$5:R$8,$B$11))>0,1,0),0)","v":0},{"$f":"IF('Build Your Schedule'!S$9=$B$11,IF((COUNTIF('Build Your Schedule'!R$11,$B$11)+COUNTIF('Build Your Schedule'!S$5:S$8,$B$11))>0,1,0),0)","v":0},{"$f":"IF('Build Your Schedule'!T$9=$B$11,IF((COUNTIF('Build Your Schedule'!S$11,$B$11)+COUNTIF('Build Your Schedule'!T$5:T$8,$B$11))>0,1,0),0)","v":0},{"$f":"IF('Build Your Schedule'!U$9=$B$11,IF((COUNTIF('Build Your Schedule'!T$11,$B$11)+COUNTIF('Build Your Schedule'!U$5:U$8,$B$11))>0,1,0),0)","v":0},{"$f":"IF('Build Your Schedule'!V$9=$B$11,IF((COUNTIF('Build Your Schedule'!U$11,$B$11)+COUNTIF('Build Your Schedule'!V$5:V$8,$B$11))>0,1,0),0)","v":0},{"$f":"IF('Build Your Schedule'!W$9=$B$11,IF((COUNTIF('Build Your Schedule'!V$11,$B$11)+COUNTIF('Build Your Schedule'!W$5:W$8,$B$11))>0,1,0),0)","v":0},{"$f":"IF('Build Your Schedule'!X$9=$B$11,IF((COUNTIF('Build Your Schedule'!W$11,$B$11)+COUNTIF('Build Your Schedule'!X$5:X$8,$B$11))>0,1,0),0)","v":0},{"$f":"IF('Build Your Schedule'!Y$9=$B$11,IF((COUNTIF('Build Your Schedule'!X$11,$B$11)+COUNTIF('Build Your Schedule'!Y$5:Y$8,$B$11))>0,1,0),0)","v":0},{"$f":"IF('Build Your Schedule'!Z$9=$B$11,IF((COUNTIF('Build Your Schedule'!Y$11,$B$11)+COUNTIF('Build Your Schedule'!Z$5:Z$8,$B$11))>0,1,0),0)","v":0},{"$f":"IF('Build Your Schedule'!AA$9=$B$11,IF((COUNTIF('Build Your Schedule'!Z$11,$B$11)+COUNTIF('Build Your Schedule'!AA$5:AA$8,$B$11))>0,1,0),0)","v":0},{"$f":"IF('Build Your Schedule'!AB$9=$B$11,IF((COUNTIF('Build Your Schedule'!AA$11,$B$11)+COUNTIF('Build Your Schedule'!AB$5:AB$8,$B$11))>0,1,0),0)","v":0},{"$f":"IF('Build Your Schedule'!AC$9=$B$11,IF((COUNTIF('Build Your Schedule'!AB$11,$B$11)+COUNTIF('Build Your Schedule'!AC$5:AC$8,$B$11))>0,1,0),0)","v":0},{"$f":"IF('Build Your Schedule'!AD$9=$B$11,IF((COUNTIF('Build Your Schedule'!AC$11,$B$11)+COUNTIF('Build Your Schedule'!AD$5:AD$8,$B$11))>0,1,0),0)","v":0},{"$f":"IF('Build Your Schedule'!AE$9=$B$11,IF((COUNTIF('Build Your Schedule'!AD$11,$B$11)+COUNTIF('Build Your Schedule'!AE$5:AE$8,$B$11))>0,1,0),0)","v":0},{"$f":"IF('Build Your Schedule'!AF$9=$B$11,IF((COUNTIF('Build Your Schedule'!AE$11,$B$11)+COUNTIF('Build Your Schedule'!AF$5:AF$8,$B$11))>0,1,0),0)","v":0},{"$f":"IF('Build Your Schedule'!AG$9=$B$11,IF((COUNTIF('Build Your Schedule'!AF$11,$B$11)+COUNTIF('Build Your Schedule'!AG$5:AG$8,$B$11))>0,1,0),0)","v":0},{"$f":"IF('Build Your Schedule'!AH$9=$B$11,IF((COUNTIF('Build Your Schedule'!AG$11,$B$11)+COUNTIF('Build Your Schedule'!AH$5:AH$8,$B$11))>0,1,0),0)","v":0},{"$f":"IF('Build Your Schedule'!AI$9=$B$11,IF((COUNTIF('Build Your Schedule'!AH$11,$B$11)+COUNTIF('Build Your Schedule'!AI$5:AI$8,$B$11))>0,1,0),0)","v":0},{"$f":"IF('Build Your Schedule'!AJ$9=$B$11,IF((COUNTIF('Build Your Schedule'!AI$11,$B$11)+COUNTIF('Build Your Schedule'!AJ$5:AJ$8,$B$11))>0,1,0),0)","v":0},{"$f":"IF('Build Your Schedule'!AK$9=$B$11,IF((COUNTIF('Build Your Schedule'!AJ$11,$B$11)+COUNTIF('Build Your Schedule'!AK$5:AK$8,$B$11))>0,1,0),0)","v":0}]
[null,"8p-5a",{"$f":"IF('Build Your Schedule'!H$10=$B$11,IF(COUNTIF('Build Your Schedule'!H$5:H$9,$B$11)>0,1,0),0)","v":0},{"$f":"IF('Build Your Schedule'!I$10=$B$11,IF(COUNTIF('Build Your Schedule'!I$5:I$9,$B$11)>0,1,0),0)","v":0},{"$f":"IF('Build Your Schedule'!J$10=$B$11,IF(COUNTIF('Build Your Schedule'!J$5:J$9,$B$11)>0,1,0),0)","v":0},{"$f":"IF('Build Your Schedule'!K$10=$B$11,IF(COUNTIF('Build Your Schedule'!K$5:K$9,$B$11)>0,1,0),0)","v":0},{"$f":"IF('Build Your Schedule'!L$10=$B$11,IF(COUNTIF('Build Your Schedule'!L$5:L$9,$B$11)>0,1,0),0)","v":0},{"$f":"IF('Build Your Schedule'!M$10=$B$11,IF(COUNTIF('Build Your Schedule'!M$5:M$9,$B$11)>0,1,0),0)","v":0},{"$f":"IF('Build Your Schedule'!N$10=$B$11,IF(COUNTIF('Build Your Schedule'!N$5:N$9,$B$11)>0,1,0),0)","v":0},{"$f":"IF('Build Your Schedule'!O$10=$B$11,IF(COUNTIF('Build Your Schedule'!O$5:O$9,$B$11)>0,1,0),0)","v":0},{"$f":"IF('Build Your Schedule'!P$10=$B$11,IF(COUNTIF('Build Your Schedule'!P$5:P$9,$B$11)>0,1,0),0)","v":0},{"$f":"IF('Build Your Schedule'!Q$10=$B$11,IF(COUNTIF('Build Your Schedule'!Q$5:Q$9,$B$11)>0,1,0),0)","v":0},{"$f":"IF('Build Your Schedule'!R$10=$B$11,IF(COUNTIF('Build Your Schedule'!R$5:R$9,$B$11)>0,1,0),0)","v":0},{"$f":"IF('Build Your Schedule'!S$10=$B$11,IF(COUNTIF('Build Your Schedule'!S$5:S$9,$B$11)>0,1,0),0)","v":0},{"$f":"IF('Build Your Schedule'!T$10=$B$11,IF(COUNTIF('Build Your Schedule'!T$5:T$9,$B$11)>0,1,0),0)","v":0},{"$f":"IF('Build Your Schedule'!U$10=$B$11,IF(COUNTIF('Build Your Schedule'!U$5:U$9,$B$11)>0,1,0),0)","v":0},{"$f":"IF('Build Your Schedule'!V$10=$B$11,IF(COUNTIF('Build Your Schedule'!V$5:V$9,$B$11)>0,1,0),0)","v":0},{"$f":"IF('Build Your Schedule'!W$10=$B$11,IF(COUNTIF('Build Your Schedule'!W$5:W$9,$B$11)>0,1,0),0)","v":0},{"$f":"IF('Build Your Schedule'!X$10=$B$11,IF(COUNTIF('Build Your Schedule'!X$5:X$9,$B$11)>0,1,0),0)","v":0},{"$f":"IF('Build Your Schedule'!Y$10=$B$11,IF(COUNTIF('Build Your Schedule'!Y$5:Y$9,$B$11)>0,1,0),0)","v":0},{"$f":"IF('Build Your Schedule'!Z$10=$B$11,IF(COUNTIF('Build Your Schedule'!Z$5:Z$9,$B$11)>0,1,0),0)","v":0},{"$f":"IF('Build Your Schedule'!AA$10=$B$11,IF(COUNTIF('Build Your Schedule'!AA$5:AA$9,$B$11)>0,1,0),0)","v":0},{"$f":"IF('Build Your Schedule'!AB$10=$B$11,IF(COUNTIF('Build Your Schedule'!AB$5:AB$9,$B$11)>0,1,0),0)","v":0},{"$f":"IF('Build Your Schedule'!AC$10=$B$11,IF(COUNTIF('Build Your Schedule'!AC$5:AC$9,$B$11)>0,1,0),0)","v":0},{"$f":"IF('Build Your Schedule'!AD$10=$B$11,IF(COUNTIF('Build Your Schedule'!AD$5:AD$9,$B$11)>0,1,0),0)","v":0},{"$f":"IF('Build Your Schedule'!AE$10=$B$11,IF(COUNTIF('Build Your Schedule'!AE$5:AE$9,$B$11)>0,1,0),0)","v":0},{"$f":"IF('Build Your Schedule'!AF$10=$B$11,IF(COUNTIF('Build Your Schedule'!AF$5:AF$9,$B$11)>0,1,0),0)","v":0},{"$f":"IF('Build Your Schedule'!AG$10=$B$11,IF(COUNTIF('Build Your Schedule'!AG$5:AG$9,$B$11)>0,1,0),0)","v":0},{"$f":"IF('Build Your Schedule'!AH$10=$B$11,IF(COUNTIF('Build Your Schedule'!AH$5:AH$9,$B$11)>0,1,0),0)","v":0},{"$f":"IF('Build Your Schedule'!AI$10=$B$11,IF(COUNTIF('Build Your Schedule'!AI$5:AI$9,$B$11)>0,1,0),0)","v":0},{"$f":"IF('Build Your Schedule'!AJ$10=$B$11,IF(COUNTIF('Build Your Schedule'!AJ$5:AJ$9,$B$11)>0,1,0),0)","v":0},{"$f":"IF('Build Your Schedule'!AK$10=$B$11,IF(COUNTIF('Build Your Schedule'!AK$5:AK$9,$B$11)>0,1,0),0)","v":0}]
[null,"11p-8a",{"$f":"IF('Build Your Schedule'!H$11=$B$11,IF(COUNTIF('Build Your Schedule'!H$5:H$10,$B$11)>0,1,0),0)","v":0},{"$f":"IF('Build Your Schedule'!I$11=$B$11,IF(COUNTIF('Build Your Schedule'!I$5:I$10,$B$11)>0,1,0),0)","v":0},{"$f":"IF('Build Your Schedule'!J$11=$B$11,IF(COUNTIF('Build Your Schedule'!J$5:J$10,$B$11)>0,1,0),0)","v":0},{"$f":"IF('Build Your Schedule'!K$11=$B$11,IF(COUNTIF('Build Your Schedule'!K$5:K$10,$B$11)>0,1,0),0)","v":0},{"$f":"IF('Build Your Schedule'!L$11=$B$11,IF(COUNTIF('Build Your Schedule'!L$5:L$10,$B$11)>0,1,0),0)","v":0},{"$f":"IF('Build Your Schedule'!M$11=$B$11,IF(COUNTIF('Build Your Schedule'!M$5:M$10,$B$11)>0,1,0),0)","v":0},{"$f":"IF('Build Your Schedule'!N$11=$B$11,IF(COUNTIF('Build Your Schedule'!N$5:N$10,$B$11)>0,1,0),0)","v":0},{"$f":"IF('Build Your Schedule'!O$11=$B$11,IF(COUNTIF('Build Your Schedule'!O$5:O$10,$B$11)>0,1,0),0)","v":0},{"$f":"IF('Build Your Schedule'!P$11=$B$11,IF(COUNTIF('Build Your Schedule'!P$5:P$10,$B$11)>0,1,0),0)","v":0},{"$f":"IF('Build Your Schedule'!Q$11=$B$11,IF(COUNTIF('Build Your Schedule'!Q$5:Q$10,$B$11)>0,1,0),0)","v":0},{"$f":"IF('Build Your Schedule'!R$11=$B$11,IF(COUNTIF('Build Your Schedule'!R$5:R$10,$B$11)>0,1,0),0)","v":0},{"$f":"IF('Build Your Schedule'!S$11=$B$11,IF(COUNTIF('Build Your Schedule'!S$5:S$10,$B$11)>0,1,0),0)","v":0},{"$f":"IF('Build Your Schedule'!T$11=$B$11,IF(COUNTIF('Build Your Schedule'!T$5:T$10,$B$11)>0,1,0),0)","v":0},{"$f":"IF('Build Your Schedule'!U$11=$B$11,IF(COUNTIF('Build Your Schedule'!U$5:U$10,$B$11)>0,1,0),0)","v":0},{"$f":"IF('Build Your Schedule'!V$11=$B$11,IF(COUNTIF('Build Your Schedule'!V$5:V$10,$B$11)>0,1,0),0)","v":0},{"$f":"IF('Build Your Schedule'!W$11=$B$11,IF(COUNTIF('Build Your Schedule'!W$5:W$10,$B$11)>0,1,0),0)","v":0},{"$f":"IF('Build Your Schedule'!X$11=$B$11,IF(COUNTIF('Build Your Schedule'!X$5:X$10,$B$11)>0,1,0),0)","v":0},{"$f":"IF('Build Your Schedule'!Y$11=$B$11,IF(COUNTIF('Build Your Schedule'!Y$5:Y$10,$B$11)>0,1,0),0)","v":0},{"$f":"IF('Build Your Schedule'!Z$11=$B$11,IF(COUNTIF('Build Your Schedule'!Z$5:Z$10,$B$11)>0,1,0),0)","v":0},{"$f":"IF('Build Your Schedule'!AA$11=$B$11,IF(COUNTIF('Build Your Schedule'!AA$5:AA$10,$B$11)>0,1,0),0)","v":0},{"$f":"IF('Build Your Schedule'!AB$11=$B$11,IF(COUNTIF('Build Your Schedule'!AB$5:AB$10,$B$11)>0,1,0),0)","v":0},{"$f":"IF('Build Your Schedule'!AC$11=$B$11,IF(COUNTIF('Build Your Schedule'!AC$5:AC$10,$B$11)>0,1,0),0)","v":0},{"$f":"IF('Build Your Schedule'!AD$11=$B$11,IF(COUNTIF('Build Your Schedule'!AD$5:AD$10,$B$11)>0,1,0),0)","v":0},{"$f":"IF('Build Your Schedule'!AE$11=$B$11,IF(COUNTIF('Build Your Schedule'!AE$5:AE$10,$B$11)>0,1,0),0)","v":0},{"$f":"IF('Build Your Schedule'!AF$11=$B$11,IF(COUNTIF('Build Your Schedule'!AF$5:AF$10,$B$11)>0,1,0),0)","v":0},{"$f":"IF('Build Your Schedule'!AG$11=$B$11,IF(COUNTIF('Build Your Schedule'!AG$5:AG$10,$B$11)>0,1,0),0)","v":0},{"$f":"IF('Build Your Schedule'!AH$11=$B$11,IF(COUNTIF('Build Your Schedule'!AH$5:AH$10,$B$11)>0,1,0),0)","v":0},{"$f":"IF('Build Your Schedule'!AI$11=$B$11,IF(COUNTIF('Build Your Schedule'!AI$5:AI$10,$B$11)>0,1,0),0)","v":0},{"$f":"IF('Build Your Schedule'!AJ$11=$B$11,IF(COUNTIF('Build Your Schedule'!AJ$5:AJ$10,$B$11)>0,1,0),0)","v":0},{"$f":"IF('Build Your Schedule'!AK$11=$B$11,IF(COUNTIF('Build Your Schedule'!AK$5:AK$10,$B$11)>0,1,0),0)","v":0}]
[]
[null,{"$f":"B12","v":"Quick"},"2015-06-01","2015-06-02","2015-06-03","2015-06-04","2015-06-05","2015-06-06","2015-06-07","2015-06-08","2015-06-09","2015-06-10","2015-06-11","2015-06-12","2015-06-13","2015-06-14","2015-06-15","2015-06-16","2015-06-17","2015-06-18","2015-06-19","2015-06-20","2015-06-21","2015-06-22","2015-06-23","2015-06-24","2015-06-25","2015-06-26","2015-06-27","2015-06-28","2015-06-29","2015-06-30"]
[null,"7a-4p",{"$f":"IF('Build Your Schedule'!H$5=$B$12,IF(COUNTIF('Build Your Schedule'!G$8:G$11,$B$12)>0,1,0),0)","v":0},{"$f":"IF('Build Your Schedule'!I$5=$B$12,IF(COUNTIF('Build Your Schedule'!H$8:H$11,$B$12)>0,1,0),0)","v":0},{"$f":"IF('Build Your Schedule'!J$5=$B$12,IF(COUNTIF('Build Your Schedule'!I$8:I$11,$B$12)>0,1,0),0)","v":0},{"$f":"IF('Build Your Schedule'!K$5=$B$12,IF(COUNTIF('Build Your Schedule'!J$8:J$11,$B$12)>0,1,0),0)","v":0},{"$f":"IF('Build Your Schedule'!L$5=$B$12,IF(COUNTIF('Build Your Schedule'!K$8:K$11,$B$12)>0,1,0),0)","v":0},{"$f":"IF('Build Your Schedule'!M$5=$B$12,IF(COUNTIF('Build Your Schedule'!L$8:L$11,$B$12)>0,1,0),0)","v":0},{"$f":"IF('Build Your Schedule'!N$5=$B$12,IF(COUNTIF('Build Your Schedule'!M$8:M$11,$B$12)>0,1,0),0)","v":0},{"$f":"IF('Build Your Schedule'!O$5=$B$12,IF(COUNTIF('Build Your Schedule'!N$8:N$11,$B$12)>0,1,0),0)","v":0},{"$f":"IF('Build Your Schedule'!P$5=$B$12,IF(COUNTIF('Build Your Schedule'!O$8:O$11,$B$12)>0,1,0),0)","v":0},{"$f":"IF('Build Your Schedule'!Q$5=$B$12,IF(COUNTIF('Build Your Schedule'!P$8:P$11,$B$12)>0,1,0),0)","v":0},{"$f":"IF('Build Your Schedule'!R$5=$B$12,IF(COUNTIF('Build Your Schedule'!Q$8:Q$11,$B$12)>0,1,0),0)","v":0},{"$f":"IF('Build Your Schedule'!S$5=$B$12,IF(COUNTIF('Build Your Schedule'!R$8:R$11,$B$12)>0,1,0),0)","v":0},{"$f":"IF('Build Your Schedule'!T$5=$B$12,IF(COUNTIF('Build Your Schedule'!S$8:S$11,$B$12)>0,1,0),0)","v":0},{"$f":"IF('Build Your Schedule'!U$5=$B$12,IF(COUNTIF('Build Your Schedule'!T$8:T$11,$B$12)>0,1,0),0)","v":0},{"$f":"IF('Build Your Schedule'!V$5=$B$12,IF(COUNTIF('Build Your Schedule'!U$8:U$11,$B$12)>0,1,0),0)","v":0},{"$f":"IF('Build Your Schedule'!W$5=$B$12,IF(COUNTIF('Build Your Schedule'!V$8:V$11,$B$12)>0,1,0),0)","v":0},{"$f":"IF('Build Your Schedule'!X$5=$B$12,IF(COUNTIF('Build Your Schedule'!W$8:W$11,$B$12)>0,1,0),0)","v":0},{"$f":"IF('Build Your Schedule'!Y$5=$B$12,IF(COUNTIF('Build Your Schedule'!X$8:X$11,$B$12)>0,1,0),0)","v":0},{"$f":"IF('Build Your Schedule'!Z$5=$B$12,IF(COUNTIF('Build Your Schedule'!Y$8:Y$11,$B$12)>0,1,0),0)","v":0},{"$f":"IF('Build Your Schedule'!AA$5=$B$12,IF(COUNTIF('Build Your Schedule'!Z$8:Z$11,$B$12)>0,1,0),0)","v":0},{"$f":"IF('Build Your Schedule'!AB$5=$B$12,IF(COUNTIF('Build Your Schedule'!AA$8:AA$11,$B$12)>0,1,0),0)","v":0},{"$f":"IF('Build Your Schedule'!AC$5=$B$12,IF(COUNTIF('Build Your Schedule'!AB$8:AB$11,$B$12)>0,1,0),0)","v":0},{"$f":"IF('Build Your Schedule'!AD$5=$B$12,IF(COUNTIF('Build Your Schedule'!AC$8:AC$11,$B$12)>0,1,0),0)","v":0},{"$f":"IF('Build Your Schedule'!AE$5=$B$12,IF(COUNTIF('Build Your Schedule'!AD$8:AD$11,$B$12)>0,1,0),0)","v":0},{"$f":"IF('Build Your Schedule'!AF$5=$B$12,IF(COUNTIF('Build Your Schedule'!AE$8:AE$11,$B$12)>0,1,0),0)","v":0},{"$f":"IF('Build Your Schedule'!AG$5=$B$12,IF(COUNTIF('Build Your Schedule'!AF$8:AF$11,$B$12)>0,1,0),0)","v":0},{"$f":"IF('Build Your Schedule'!AH$5=$B$12,IF(COUNTIF('Build Your Schedule'!AG$8:AG$11,$B$12)>0,1,0),0)","v":0},{"$f":"IF('Build Your Schedule'!AI$5=$B$12,IF(COUNTIF('Build Your Schedule'!AH$8:AH$11,$B$12)>0,1,0),0)","v":0},{"$f":"IF('Build Your Schedule'!AJ$5=$B$12,IF(COUNTIF('Build Your Schedule'!AI$8:AI$11,$B$12)>0,1,0),0)","v":0},{"$f":"IF('Build Your Schedule'!AK$5=$B$12,IF(COUNTIF('Build Your Schedule'!AJ$8:AJ$11,$B$12)>0,1,0),0)","v":0}]
[null,"9a-6p",{"$f":"IF('Build Your Schedule'!H$6=$B$12,IF((COUNTIF('Build Your Schedule'!G$8:G$11,$B$12)+COUNTIF('Build Your Schedule'!H$5,$B$12))>0,1,0),0)","v":0},{"$f":"IF('Build Your Schedule'!I$6=$B$12,IF((COUNTIF('Build Your Schedule'!H$8:H$11,$B$12)+COUNTIF('Build Your Schedule'!I$5,$B$12))>0,1,0),0)","v":0},{"$f":"IF('Build Your Schedule'!J$6=$B$12,IF((COUNTIF('Build Your Schedule'!I$8:I$11,$B$12)+COUNTIF('Build Your Schedule'!J$5,$B$12))>0,1,0),0)","v":0},{"$f":"IF('Build Your Schedule'!K$6=$B$12,IF((COUNTIF('Build Your Schedule'!J$8:J$11,$B$12)+COUNTIF('Build Your Schedule'!K$5,$B$12))>0,1,0),0)","v":0},{"$f":"IF('Build Your Schedule'!L$6=$B$12,IF((COUNTIF('Build Your Schedule'!K$8:K$11,$B$12)+COUNTIF('Build Your Schedule'!L$5,$B$12))>0,1,0),0)","v":0},{"$f":"IF('Build Your Schedule'!M$6=$B$12,IF((COUNTIF('Build Your Schedule'!L$8:L$11,$B$12)+COUNTIF('Build Your Schedule'!M$5,$B$12))>0,1,0),0)","v":0},{"$f":"IF('Build Your Schedule'!N$6=$B$12,IF((COUNTIF('Build Your Schedule'!M$8:M$11,$B$12)+COUNTIF('Build Your Schedule'!N$5,$B$12))>0,1,0),0)","v":0},{"$f":"IF('Build Your Schedule'!O$6=$B$12,IF((COUNTIF('Build Your Schedule'!N$8:N$11,$B$12)+COUNTIF('Build Your Schedule'!O$5,$B$12))>0,1,0),0)","v":0},{"$f":"IF('Build Your Schedule'!P$6=$B$12,IF((COUNTIF('Build Your Schedule'!O$8:O$11,$B$12)+COUNTIF('Build Your Schedule'!P$5,$B$12))>0,1,0),0)","v":0},{"$f":"IF('Build Your Schedule'!Q$6=$B$12,IF((COUNTIF('Build Your Schedule'!P$8:P$11,$B$12)+COUNTIF('Build Your Schedule'!Q$5,$B$12))>0,1,0),0)","v":0},{"$f":"IF('Build Your Schedule'!R$6=$B$12,IF((COUNTIF('Build Your Schedule'!Q$8:Q$11,$B$12)+COUNTIF('Build Your Schedule'!R$5,$B$12))>0,1,0),0)","v":0},{"$f":"IF('Build Your Schedule'!S$6=$B$12,IF((COUNTIF('Build Your Schedule'!R$8:R$11,$B$12)+COUNTIF('Build Your Schedule'!S$5,$B$12))>0,1,0),0)","v":0},{"$f":"IF('Build Your Schedule'!T$6=$B$12,IF((COUNTIF('Build Your Schedule'!S$8:S$11,$B$12)+COUNTIF('Build Your Schedule'!T$5,$B$12))>0,1,0),0)","v":0},{"$f":"IF('Build Your Schedule'!U$6=$B$12,IF((COUNTIF('Build Your Schedule'!T$8:T$11,$B$12)+COUNTIF('Build Your Schedule'!U$5,$B$12))>0,1,0),0)","v":0},{"$f":"IF('Build Your Schedule'!V$6=$B$12,IF((COUNTIF('Build Your Schedule'!U$8:U$11,$B$12)+COUNTIF('Build Your Schedule'!V$5,$B$12))>0,1,0),0)","v":0},{"$f":"IF('Build Your Schedule'!W$6=$B$12,IF((COUNTIF('Build Your Schedule'!V$8:V$11,$B$12)+COUNTIF('Build Your Schedule'!W$5,$B$12))>0,1,0),0)","v":0},{"$f":"IF('Build Your Schedule'!X$6=$B$12,IF((COUNTIF('Build Your Schedule'!W$8:W$11,$B$12)+COUNTIF('Build Your Schedule'!X$5,$B$12))>0,1,0),0)","v":0},{"$f":"IF('Build Your Schedule'!Y$6=$B$12,IF((COUNTIF('Build Your Schedule'!X$8:X$11,$B$12)+COUNTIF('Build Your Schedule'!Y$5,$B$12))>0,1,0),0)","v":0},{"$f":"IF('Build Your Schedule'!Z$6=$B$12,IF((COUNTIF('Build Your Schedule'!Y$8:Y$11,$B$12)+COUNTIF('Build Your Schedule'!Z$5,$B$12))>0,1,0),0)","v":0},{"$f":"IF('Build Your Schedule'!AA$6=$B$12,IF((COUNTIF('Build Your Schedule'!Z$8:Z$11,$B$12)+COUNTIF('Build Your Schedule'!AA$5,$B$12))>0,1,0),0)","v":0},{"$f":"IF('Build Your Schedule'!AB$6=$B$12,IF((COUNTIF('Build Your Schedule'!AA$8:AA$11,$B$12)+COUNTIF('Build Your Schedule'!AB$5,$B$12))>0,1,0),0)","v":0},{"$f":"IF('Build Your Schedule'!AC$6=$B$12,IF((COUNTIF('Build Your Schedule'!AB$8:AB$11,$B$12)+COUNTIF('Build Your Schedule'!AC$5,$B$12))>0,1,0),0)","v":0},{"$f":"IF('Build Your Schedule'!AD$6=$B$12,IF((COUNTIF('Build Your Schedule'!AC$8:AC$11,$B$12)+COUNTIF('Build Your Schedule'!AD$5,$B$12))>0,1,0),0)","v":0},{"$f":"IF('Build Your Schedule'!AE$6=$B$12,IF((COUNTIF('Build Your Schedule'!AD$8:AD$11,$B$12)+COUNTIF('Build Your Schedule'!AE$5,$B$12))>0,1,0),0)","v":0},{"$f":"IF('Build Your Schedule'!AF$6=$B$12,IF((COUNTIF('Build Your Schedule'!AE$8:AE$11,$B$12)+COUNTIF('Build Your Schedule'!AF$5,$B$12))>0,1,0),0)","v":0},{"$f":"IF('Build Your Schedule'!AG$6=$B$12,IF((COUNTIF('Build Your Schedule'!AF$8:AF$11,$B$12)+COUNTIF('Build Your Schedule'!AG$5,$B$12))>0,1,0),0)","v":0},{"$f":"IF('Build Your Schedule'!AH$6=$B$12,IF((COUNTIF('Build Your Schedule'!AG$8:AG$11,$B$12)+COUNTIF('Build Your Schedule'!AH$5,$B$12))>0,1,0),0)","v":0},{"$f":"IF('Build Your Schedule'!AI$6=$B$12,IF((COUNTIF('Build Your Schedule'!AH$8:AH$11,$B$12)+COUNTIF('Build Your Schedule'!AI$5,$B$12))>0,1,0),0)","v":0},{"$f":"IF('Build Your Schedule'!AJ$6=$B$12,IF((COUNTIF('Build Your Schedule'!AI$8:AI$11,$B$12)+COUNTIF('Build Your Schedule'!AJ$5,$B$12))>0,1,0),0)","v":0},{"$f":"IF('Build Your Schedule'!AK$6=$B$12,IF((COUNTIF('Build Your Schedule'!AJ$8:AJ$11,$B$12)+COUNTIF('Build Your Schedule'!AK$5,$B$12))>0,1,0),0)","v":0}]
[null,"12p-9p",{"$f":"IF('Build Your Schedule'!H$7=$B$12,IF((COUNTIF('Build Your Schedule'!G$10:G$11,$B$12)+COUNTIF('Build Your Schedule'!H$5:H$6,$B$12))>0,1,0),0)","v":0},{"$f":"IF('Build Your Schedule'!I$7=$B$12,IF((COUNTIF('Build Your Schedule'!H$10:H$11,$B$12)+COUNTIF('Build Your Schedule'!I$5:I$6,$B$12))>0,1,0),0)","v":0},{"$f":"IF('Build Your Schedule'!J$7=$B$12,IF((COUNTIF('Build Your Schedule'!I$10:I$11,$B$12)+COUNTIF('Build Your Schedule'!J$5:J$6,$B$12))>0,1,0),0)","v":0},{"$f":"IF('Build Your Schedule'!K$7=$B$12,IF((COUNTIF('Build Your Schedule'!J$10:J$11,$B$12)+COUNTIF('Build Your Schedule'!K$5:K$6,$B$12))>0,1,0),0)","v":0},{"$f":"IF('Build Your Schedule'!L$7=$B$12,IF((COUNTIF('Build Your Schedule'!K$10:K$11,$B$12)+COUNTIF('Build Your Schedule'!L$5:L$6,$B$12))>0,1,0),0)","v":0},{"$f":"IF('Build Your Schedule'!M$7=$B$12,IF((COUNTIF('Build Your Schedule'!L$10:L$11,$B$12)+COUNTIF('Build Your Schedule'!M$5:M$6,$B$12))>0,1,0),0)","v":0},{"$f":"IF('Build Your Schedule'!N$7=$B$12,IF((COUNTIF('Build Your Schedule'!M$10:M$11,$B$12)+COUNTIF('Build Your Schedule'!N$5:N$6,$B$12))>0,1,0),0)","v":0},{"$f":"IF('Build Your Schedule'!O$7=$B$12,IF((COUNTIF('Build Your Schedule'!N$10:N$11,$B$12)+COUNTIF('Build Your Schedule'!O$5:O$6,$B$12))>0,1,0),0)","v":0},{"$f":"IF('Build Your Schedule'!P$7=$B$12,IF((COUNTIF('Build Your Schedule'!O$10:O$11,$B$12)+COUNTIF('Build Your Schedule'!P$5:P$6,$B$12))>0,1,0),0)","v":0},{"$f":"IF('Build Your Schedule'!Q$7=$B$12,IF((COUNTIF('Build Your Schedule'!P$10:P$11,$B$12)+COUNTIF('Build Your Schedule'!Q$5:Q$6,$B$12))>0,1,0),0)","v":0},{"$f":"IF('Build Your Schedule'!R$7=$B$12,IF((COUNTIF('Build Your Schedule'!Q$10:Q$11,$B$12)+COUNTIF('Build Your Schedule'!R$5:R$6,$B$12))>0,1,0),0)","v":0},{"$f":"IF('Build Your Schedule'!S$7=$B$12,IF((COUNTIF('Build Your Schedule'!R$10:R$11,$B$12)+COUNTIF('Build Your Schedule'!S$5:S$6,$B$12))>0,1,0),0)","v":0},{"$f":"IF('Build Your Schedule'!T$7=$B$12,IF((COUNTIF('Build Your Schedule'!S$10:S$11,$B$12)+COUNTIF('Build Your Schedule'!T$5:T$6,$B$12))>0,1,0),0)","v":0},{"$f":"IF('Build Your Schedule'!U$7=$B$12,IF((COUNTIF('Build Your Schedule'!T$10:T$11,$B$12)+COUNTIF('Build Your Schedule'!U$5:U$6,$B$12))>0,1,0),0)","v":0},{"$f":"IF('Build Your Schedule'!V$7=$B$12,IF((COUNTIF('Build Your Schedule'!U$10:U$11,$B$12)+COUNTIF('Build Your Schedule'!V$5:V$6,$B$12))>0,1,0),0)","v":0},{"$f":"IF('Build Your Schedule'!W$7=$B$12,IF((COUNTIF('Build Your Schedule'!V$10:V$11,$B$12)+COUNTIF('Build Your Schedule'!W$5:W$6,$B$12))>0,1,0),0)","v":0},{"$f":"IF('Build Your Schedule'!X$7=$B$12,IF((COUNTIF('Build Your Schedule'!W$10:W$11,$B$12)+COUNTIF('Build Your Schedule'!X$5:X$6,$B$12))>0,1,0),0)","v":0},{"$f":"IF('Build Your Schedule'!Y$7=$B$12,IF((COUNTIF('Build Your Schedule'!X$10:X$11,$B$12)+COUNTIF('Build Your Schedule'!Y$5:Y$6,$B$12))>0,1,0),0)","v":0},{"$f":"IF('Build Your Schedule'!Z$7=$B$12,IF((COUNTIF('Build Your Schedule'!Y$10:Y$11,$B$12)+COUNTIF('Build Your Schedule'!Z$5:Z$6,$B$12))>0,1,0),0)","v":0},{"$f":"IF('Build Your Schedule'!AA$7=$B$12,IF((COUNTIF('Build Your Schedule'!Z$10:Z$11,$B$12)+COUNTIF('Build Your Schedule'!AA$5:AA$6,$B$12))>0,1,0),0)","v":0},{"$f":"IF('Build Your Schedule'!AB$7=$B$12,IF((COUNTIF('Build Your Schedule'!AA$10:AA$11,$B$12)+COUNTIF('Build Your Schedule'!AB$5:AB$6,$B$12))>0,1,0),0)","v":0},{"$f":"IF('Build Your Schedule'!AC$7=$B$12,IF((COUNTIF('Build Your Schedule'!AB$10:AB$11,$B$12)+COUNTIF('Build Your Schedule'!AC$5:AC$6,$B$12))>0,1,0),0)","v":0},{"$f":"IF('Build Your Schedule'!AD$7=$B$12,IF((COUNTIF('Build Your Schedule'!AC$10:AC$11,$B$12)+COUNTIF('Build Your Schedule'!AD$5:AD$6,$B$12))>0,1,0),0)","v":0},{"$f":"IF('Build Your Schedule'!AE$7=$B$12,IF((COUNTIF('Build Your Schedule'!AD$10:AD$11,$B$12)+COUNTIF('Build Your Schedule'!AE$5:AE$6,$B$12))>0,1,0),0)","v":0},{"$f":"IF('Build Your Schedule'!AF$7=$B$12,IF((COUNTIF('Build Your Schedule'!AE$10:AE$11,$B$12)+COUNTIF('Build Your Schedule'!AF$5:AF$6,$B$12))>0,1,0),0)","v":0},{"$f":"IF('Build Your Schedule'!AG$7=$B$12,IF((COUNTIF('Build Your Schedule'!AF$10:AF$11,$B$12)+COUNTIF('Build Your Schedule'!AG$5:AG$6,$B$12))>0,1,0),0)","v":0},{"$f":"IF('Build Your Schedule'!AH$7=$B$12,IF((COUNTIF('Build Your Schedule'!AG$10:AG$11,$B$12)+COUNTIF('Build Your Schedule'!AH$5:AH$6,$B$12))>0,1,0),0)","v":0},{"$f":"IF('Build Your Schedule'!AI$7=$B$12,IF((COUNTIF('Build Your Schedule'!AH$10:AH$11,$B$12)+COUNTIF('Build Your Schedule'!AI$5:AI$6,$B$12))>0,1,0),0)","v":0},{"$f":"IF('Build Your Schedule'!AJ$7=$B$12,IF((COUNTIF('Build Your Schedule'!AI$10:AI$11,$B$12)+COUNTIF('Build Your Schedule'!AJ$5:AJ$6,$B$12))>0,1,0),0)","v":0},{"$f":"IF('Build Your Schedule'!AK$7=$B$12,IF((COUNTIF('Build Your Schedule'!AJ$10:AJ$11,$B$12)+COUNTIF('Build Your Schedule'!AK$5:AK$6,$B$12))>0,1,0),0)","v":0}]
[null,"4p-1a",{"$f":"IF('Build Your Schedule'!H$8=$B$12,IF((COUNTIF('Build Your Schedule'!G$11,$B$12)+COUNTIF('Build Your Schedule'!H$5:H$7,$B$12))>0,1,0),0)","v":0},{"$f":"IF('Build Your Schedule'!I$8=$B$12,IF((COUNTIF('Build Your Schedule'!H$11,$B$12)+COUNTIF('Build Your Schedule'!I$5:I$7,$B$12))>0,1,0),0)","v":0},{"$f":"IF('Build Your Schedule'!J$8=$B$12,IF((COUNTIF('Build Your Schedule'!I$11,$B$12)+COUNTIF('Build Your Schedule'!J$5:J$7,$B$12))>0,1,0),0)","v":0},{"$f":"IF('Build Your Schedule'!K$8=$B$12,IF((COUNTIF('Build Your Schedule'!J$11,$B$12)+COUNTIF('Build Your Schedule'!K$5:K$7,$B$12))>0,1,0),0)","v":0},{"$f":"IF('Build Your Schedule'!L$8=$B$12,IF((COUNTIF('Build Your Schedule'!K$11,$B$12)+COUNTIF('Build Your Schedule'!L$5:L$7,$B$12))>0,1,0),0)","v":0},{"$f":"IF('Build Your Schedule'!M$8=$B$12,IF((COUNTIF('Build Your Schedule'!L$11,$B$12)+COUNTIF('Build Your Schedule'!M$5:M$7,$B$12))>0,1,0),0)","v":0},{"$f":"IF('Build Your Schedule'!N$8=$B$12,IF((COUNTIF('Build Your Schedule'!M$11,$B$12)+COUNTIF('Build Your Schedule'!N$5:N$7,$B$12))>0,1,0),0)","v":0},{"$f":"IF('Build Your Schedule'!O$8=$B$12,IF((COUNTIF('Build Your Schedule'!N$11,$B$12)+COUNTIF('Build Your Schedule'!O$5:O$7,$B$12))>0,1,0),0)","v":0},{"$f":"IF('Build Your Schedule'!P$8=$B$12,IF((COUNTIF('Build Your Schedule'!O$11,$B$12)+COUNTIF('Build Your Schedule'!P$5:P$7,$B$12))>0,1,0),0)","v":0},{"$f":"IF('Build Your Schedule'!Q$8=$B$12,IF((COUNTIF('Build Your Schedule'!P$11,$B$12)+COUNTIF('Build Your Schedule'!Q$5:Q$7,$B$12))>0,1,0),0)","v":0},{"$f":"IF('Build Your Schedule'!R$8=$B$12,IF((COUNTIF('Build Your Schedule'!Q$11,$B$12)+COUNTIF('Build Your Schedule'!R$5:R$7,$B$12))>0,1,0),0)","v":0},{"$f":"IF('Build Your Schedule'!S$8=$B$12,IF((COUNTIF('Build Your Schedule'!R$11,$B$12)+COUNTIF('Build Your Schedule'!S$5:S$7,$B$12))>0,1,0),0)","v":0},{"$f":"IF('Build Your Schedule'!T$8=$B$12,IF((COUNTIF('Build Your Schedule'!S$11,$B$12)+COUNTIF('Build Your Schedule'!T$5:T$7,$B$12))>0,1,0),0)","v":0},{"$f":"IF('Build Your Schedule'!U$8=$B$12,IF((COUNTIF('Build Your Schedule'!T$11,$B$12)+COUNTIF('Build Your Schedule'!U$5:U$7,$B$12))>0,1,0),0)","v":0},{"$f":"IF('Build Your Schedule'!V$8=$B$12,IF((COUNTIF('Build Your Schedule'!U$11,$B$12)+COUNTIF('Build Your Schedule'!V$5:V$7,$B$12))>0,1,0),0)","v":0},{"$f":"IF('Build Your Schedule'!W$8=$B$12,IF((COUNTIF('Build Your Schedule'!V$11,$B$12)+COUNTIF('Build Your Schedule'!W$5:W$7,$B$12))>0,1,0),0)","v":0},{"$f":"IF('Build Your Schedule'!X$8=$B$12,IF((COUNTIF('Build Your Schedule'!W$11,$B$12)+COUNTIF('Build Your Schedule'!X$5:X$7,$B$12))>0,1,0),0)","v":0},{"$f":"IF('Build Your Schedule'!Y$8=$B$12,IF((COUNTIF('Build Your Schedule'!X$11,$B$12)+COUNTIF('Build Your Schedule'!Y$5:Y$7,$B$12))>0,1,0),0)","v":0},{"$f":"IF('Build Your Schedule'!Z$8=$B$12,IF((COUNTIF('Build Your Schedule'!Y$11,$B$12)+COUNTIF('Build Your Schedule'!Z$5:Z$7,$B$12))>0,1,0),0)","v":0},{"$f":"IF('Build Your Schedule'!AA$8=$B$12,IF((COUNTIF('Build Your Schedule'!Z$11,$B$12)+COUNTIF('Build Your Schedule'!AA$5:AA$7,$B$12))>0,1,0),0)","v":0},{"$f":"IF('Build Your Schedule'!AB$8=$B$12,IF((COUNTIF('Build Your Schedule'!AA$11,$B$12)+COUNTIF('Build Your Schedule'!AB$5:AB$7,$B$12))>0,1,0),0)","v":0},{"$f":"IF('Build Your Schedule'!AC$8=$B$12,IF((COUNTIF('Build Your Schedule'!AB$11,$B$12)+COUNTIF('Build Your Schedule'!AC$5:AC$7,$B$12))>0,1,0),0)","v":0},{"$f":"IF('Build Your Schedule'!AD$8=$B$12,IF((COUNTIF('Build Your Schedule'!AC$11,$B$12)+COUNTIF('Build Your Schedule'!AD$5:AD$7,$B$12))>0,1,0),0)","v":0},{"$f":"IF('Build Your Schedule'!AE$8=$B$12,IF((COUNTIF('Build Your Schedule'!AD$11,$B$12)+COUNTIF('Build Your Schedule'!AE$5:AE$7,$B$12))>0,1,0),0)","v":0},{"$f":"IF('Build Your Schedule'!AF$8=$B$12,IF((COUNTIF('Build Your Schedule'!AE$11,$B$12)+COUNTIF('Build Your Schedule'!AF$5:AF$7,$B$12))>0,1,0),0)","v":0},{"$f":"IF('Build Your Schedule'!AG$8=$B$12,IF((COUNTIF('Build Your Schedule'!AF$11,$B$12)+COUNTIF('Build Your Schedule'!AG$5:AG$7,$B$12))>0,1,0),0)","v":0},{"$f":"IF('Build Your Schedule'!AH$8=$B$12,IF((COUNTIF('Build Your Schedule'!AG$11,$B$12)+COUNTIF('Build Your Schedule'!AH$5:AH$7,$B$12))>0,1,0),0)","v":0},{"$f":"IF('Build Your Schedule'!AI$8=$B$12,IF((COUNTIF('Build Your Schedule'!AH$11,$B$12)+COUNTIF('Build Your Schedule'!AI$5:AI$7,$B$12))>0,1,0),0)","v":0},{"$f":"IF('Build Your Schedule'!AJ$8=$B$12,IF((COUNTIF('Build Your Schedule'!AI$11,$B$12)+COUNTIF('Build Your Schedule'!AJ$5:AJ$7,$B$12))>0,1,0),0)","v":0},{"$f":"IF('Build Your Schedule'!AK$8=$B$12,IF((COUNTIF('Build Your Schedule'!AJ$11,$B$12)+COUNTIF('Build Your Schedule'!AK$5:AK$7,$B$12))>0,1,0),0)","v":0}]
[null,"5p-2a",{"$f":"IF('Build Your Schedule'!H$9=$B$12,IF((COUNTIF('Build Your Schedule'!G$11,$B$12)+COUNTIF('Build Your Schedule'!H$5:H$8,$B$12))>0,1,0),0)","v":0},{"$f":"IF('Build Your Schedule'!I$9=$B$12,IF((COUNTIF('Build Your Schedule'!H$11,$B$12)+COUNTIF('Build Your Schedule'!I$5:I$8,$B$12))>0,1,0),0)","v":0},{"$f":"IF('Build Your Schedule'!J$9=$B$12,IF((COUNTIF('Build Your Schedule'!I$11,$B$12)+COUNTIF('Build Your Schedule'!J$5:J$8,$B$12))>0,1,0),0)","v":0},{"$f":"IF('Build Your Schedule'!K$9=$B$12,IF((COUNTIF('Build Your Schedule'!J$11,$B$12)+COUNTIF('Build Your Schedule'!K$5:K$8,$B$12))>0,1,0),0)","v":0},{"$f":"IF('Build Your Schedule'!L$9=$B$12,IF((COUNTIF('Build Your Schedule'!K$11,$B$12)+COUNTIF('Build Your Schedule'!L$5:L$8,$B$12))>0,1,0),0)","v":0},{"$f":"IF('Build Your Schedule'!M$9=$B$12,IF((COUNTIF('Build Your Schedule'!L$11,$B$12)+COUNTIF('Build Your Schedule'!M$5:M$8,$B$12))>0,1,0),0)","v":0},{"$f":"IF('Build Your Schedule'!N$9=$B$12,IF((COUNTIF('Build Your Schedule'!M$11,$B$12)+COUNTIF('Build Your Schedule'!N$5:N$8,$B$12))>0,1,0),0)","v":0},{"$f":"IF('Build Your Schedule'!O$9=$B$12,IF((COUNTIF('Build Your Schedule'!N$11,$B$12)+COUNTIF('Build Your Schedule'!O$5:O$8,$B$12))>0,1,0),0)","v":0},{"$f":"IF('Build Your Schedule'!P$9=$B$12,IF((COUNTIF('Build Your Schedule'!O$11,$B$12)+COUNTIF('Build Your Schedule'!P$5:P$8,$B$12))>0,1,0),0)","v":0},{"$f":"IF('Build Your Schedule'!Q$9=$B$12,IF((COUNTIF('Build Your Schedule'!P$11,$B$12)+COUNTIF('Build Your Schedule'!Q$5:Q$8,$B$12))>0,1,0),0)","v":0},{"$f":"IF('Build Your Schedule'!R$9=$B$12,IF((COUNTIF('Build Your Schedule'!Q$11,$B$12)+COUNTIF('Build Your Schedule'!R$5:R$8,$B$12))>0,1,0),0)","v":0},{"$f":"IF('Build Your Schedule'!S$9=$B$12,IF((COUNTIF('Build Your Schedule'!R$11,$B$12)+COUNTIF('Build Your Schedule'!S$5:S$8,$B$12))>0,1,0),0)","v":0},{"$f":"IF('Build Your Schedule'!T$9=$B$12,IF((COUNTIF('Build Your Schedule'!S$11,$B$12)+COUNTIF('Build Your Schedule'!T$5:T$8,$B$12))>0,1,0),0)","v":0},{"$f":"IF('Build Your Schedule'!U$9=$B$12,IF((COUNTIF('Build Your Schedule'!T$11,$B$12)+COUNTIF('Build Your Schedule'!U$5:U$8,$B$12))>0,1,0),0)","v":0},{"$f":"IF('Build Your Schedule'!V$9=$B$12,IF((COUNTIF('Build Your Schedule'!U$11,$B$12)+COUNTIF('Build Your Schedule'!V$5:V$8,$B$12))>0,1,0),0)","v":0},{"$f":"IF('Build Your Schedule'!W$9=$B$12,IF((COUNTIF('Build Your Schedule'!V$11,$B$12)+COUNTIF('Build Your Schedule'!W$5:W$8,$B$12))>0,1,0),0)","v":0},{"$f":"IF('Build Your Schedule'!X$9=$B$12,IF((COUNTIF('Build Your Schedule'!W$11,$B$12)+COUNTIF('Build Your Schedule'!X$5:X$8,$B$12))>0,1,0),0)","v":0},{"$f":"IF('Build Your Schedule'!Y$9=$B$12,IF((COUNTIF('Build Your Schedule'!X$11,$B$12)+COUNTIF('Build Your Schedule'!Y$5:Y$8,$B$12))>0,1,0),0)","v":0},{"$f":"IF('Build Your Schedule'!Z$9=$B$12,IF((COUNTIF('Build Your Schedule'!Y$11,$B$12)+COUNTIF('Build Your Schedule'!Z$5:Z$8,$B$12))>0,1,0),0)","v":0},{"$f":"IF('Build Your Schedule'!AA$9=$B$12,IF((COUNTIF('Build Your Schedule'!Z$11,$B$12)+COUNTIF('Build Your Schedule'!AA$5:AA$8,$B$12))>0,1,0),0)","v":0},{"$f":"IF('Build Your Schedule'!AB$9=$B$12,IF((COUNTIF('Build Your Schedule'!AA$11,$B$12)+COUNTIF('Build Your Schedule'!AB$5:AB$8,$B$12))>0,1,0),0)","v":0},{"$f":"IF('Build Your Schedule'!AC$9=$B$12,IF((COUNTIF('Build Your Schedule'!AB$11,$B$12)+COUNTIF('Build Your Schedule'!AC$5:AC$8,$B$12))>0,1,0),0)","v":0},{"$f":"IF('Build Your Schedule'!AD$9=$B$12,IF((COUNTIF('Build Your Schedule'!AC$11,$B$12)+COUNTIF('Build Your Schedule'!AD$5:AD$8,$B$12))>0,1,0),0)","v":0},{"$f":"IF('Build Your Schedule'!AE$9=$B$12,IF((COUNTIF('Build Your Schedule'!AD$11,$B$12)+COUNTIF('Build Your Schedule'!AE$5:AE$8,$B$12))>0,1,0),0)","v":0},{"$f":"IF('Build Your Schedule'!AF$9=$B$12,IF((COUNTIF('Build Your Schedule'!AE$11,$B$12)+COUNTIF('Build Your Schedule'!AF$5:AF$8,$B$12))>0,1,0),0)","v":0},{"$f":"IF('Build Your Schedule'!AG$9=$B$12,IF((COUNTIF('Build Your Schedule'!AF$11,$B$12)+COUNTIF('Build Your Schedule'!AG$5:AG$8,$B$12))>0,1,0),0)","v":0},{"$f":"IF('Build Your Schedule'!AH$9=$B$12,IF((COUNTIF('Build Your Schedule'!AG$11,$B$12)+COUNTIF('Build Your Schedule'!AH$5:AH$8,$B$12))>0,1,0),0)","v":0},{"$f":"IF('Build Your Schedule'!AI$9=$B$12,IF((COUNTIF('Build Your Schedule'!AH$11,$B$12)+COUNTIF('Build Your Schedule'!AI$5:AI$8,$B$12))>0,1,0),0)","v":0},{"$f":"IF('Build Your Schedule'!AJ$9=$B$12,IF((COUNTIF('Build Your Schedule'!AI$11,$B$12)+COUNTIF('Build Your Schedule'!AJ$5:AJ$8,$B$12))>0,1,0),0)","v":0},{"$f":"IF('Build Your Schedule'!AK$9=$B$12,IF((COUNTIF('Build Your Schedule'!AJ$11,$B$12)+COUNTIF('Build Your Schedule'!AK$5:AK$8,$B$12))>0,1,0),0)","v":0}]
[null,"8p-5a",{"$f":"IF('Build Your Schedule'!H$10=$B$12,IF(COUNTIF('Build Your Schedule'!H$5:H$9,$B$12)>0,1,0),0)","v":0},{"$f":"IF('Build Your Schedule'!I$10=$B$12,IF(COUNTIF('Build Your Schedule'!I$5:I$9,$B$12)>0,1,0),0)","v":0},{"$f":"IF('Build Your Schedule'!J$10=$B$12,IF(COUNTIF('Build Your Schedule'!J$5:J$9,$B$12)>0,1,0),0)","v":0},{"$f":"IF('Build Your Schedule'!K$10=$B$12,IF(COUNTIF('Build Your Schedule'!K$5:K$9,$B$12)>0,1,0),0)","v":0},{"$f":"IF('Build Your Schedule'!L$10=$B$12,IF(COUNTIF('Build Your Schedule'!L$5:L$9,$B$12)>0,1,0),0)","v":0},{"$f":"IF('Build Your Schedule'!M$10=$B$12,IF(COUNTIF('Build Your Schedule'!M$5:M$9,$B$12)>0,1,0),0)","v":0},{"$f":"IF('Build Your Schedule'!N$10=$B$12,IF(COUNTIF('Build Your Schedule'!N$5:N$9,$B$12)>0,1,0),0)","v":0},{"$f":"IF('Build Your Schedule'!O$10=$B$12,IF(COUNTIF('Build Your Schedule'!O$5:O$9,$B$12)>0,1,0),0)","v":0},{"$f":"IF('Build Your Schedule'!P$10=$B$12,IF(COUNTIF('Build Your Schedule'!P$5:P$9,$B$12)>0,1,0),0)","v":0},{"$f":"IF('Build Your Schedule'!Q$10=$B$12,IF(COUNTIF('Build Your Schedule'!Q$5:Q$9,$B$12)>0,1,0),0)","v":0},{"$f":"IF('Build Your Schedule'!R$10=$B$12,IF(COUNTIF('Build Your Schedule'!R$5:R$9,$B$12)>0,1,0),0)","v":0},{"$f":"IF('Build Your Schedule'!S$10=$B$12,IF(COUNTIF('Build Your Schedule'!S$5:S$9,$B$12)>0,1,0),0)","v":0},{"$f":"IF('Build Your Schedule'!T$10=$B$12,IF(COUNTIF('Build Your Schedule'!T$5:T$9,$B$12)>0,1,0),0)","v":0},{"$f":"IF('Build Your Schedule'!U$10=$B$12,IF(COUNTIF('Build Your Schedule'!U$5:U$9,$B$12)>0,1,0),0)","v":0},{"$f":"IF('Build Your Schedule'!V$10=$B$12,IF(COUNTIF('Build Your Schedule'!V$5:V$9,$B$12)>0,1,0),0)","v":0},{"$f":"IF('Build Your Schedule'!W$10=$B$12,IF(COUNTIF('Build Your Schedule'!W$5:W$9,$B$12)>0,1,0),0)","v":0},{"$f":"IF('Build Your Schedule'!X$10=$B$12,IF(COUNTIF('Build Your Schedule'!X$5:X$9,$B$12)>0,1,0),0)","v":0},{"$f":"IF('Build Your Schedule'!Y$10=$B$12,IF(COUNTIF('Build Your Schedule'!Y$5:Y$9,$B$12)>0,1,0),0)","v":0},{"$f":"IF('Build Your Schedule'!Z$10=$B$12,IF(COUNTIF('Build Your Schedule'!Z$5:Z$9,$B$12)>0,1,0),0)","v":0},{"$f":"IF('Build Your Schedule'!AA$10=$B$12,IF(COUNTIF('Build Your Schedule'!AA$5:AA$9,$B$12)>0,1,0),0)","v":0},{"$f":"IF('Build Your Schedule'!AB$10=$B$12,IF(COUNTIF('Build Your Schedule'!AB$5:AB$9,$B$12)>0,1,0),0)","v":0},{"$f":"IF('Build Your Schedule'!AC$10=$B$12,IF(COUNTIF('Build Your Schedule'!AC$5:AC$9,$B$12)>0,1,0),0)","v":0},{"$f":"IF('Build Your Schedule'!AD$10=$B$12,IF(COUNTIF('Build Your Schedule'!AD$5:AD$9,$B$12)>0,1,0),0)","v":0},{"$f":"IF('Build Your Schedule'!AE$10=$B$12,IF(COUNTIF('Build Your Schedule'!AE$5:AE$9,$B$12)>0,1,0),0)","v":0},{"$f":"IF('Build Your Schedule'!AF$10=$B$12,IF(COUNTIF('Build Your Schedule'!AF$5:AF$9,$B$12)>0,1,0),0)","v":0},{"$f":"IF('Build Your Schedule'!AG$10=$B$12,IF(COUNTIF('Build Your Schedule'!AG$5:AG$9,$B$12)>0,1,0),0)","v":0},{"$f":"IF('Build Your Schedule'!AH$10=$B$12,IF(COUNTIF('Build Your Schedule'!AH$5:AH$9,$B$12)>0,1,0),0)","v":0},{"$f":"IF('Build Your Schedule'!AI$10=$B$12,IF(COUNTIF('Build Your Schedule'!AI$5:AI$9,$B$12)>0,1,0),0)","v":0},{"$f":"IF('Build Your Schedule'!AJ$10=$B$12,IF(COUNTIF('Build Your Schedule'!AJ$5:AJ$9,$B$12)>0,1,0),0)","v":0},{"$f":"IF('Build Your Schedule'!AK$10=$B$12,IF(COUNTIF('Build Your Schedule'!AK$5:AK$9,$B$12)>0,1,0),0)","v":0}]
[null,"11p-8a",{"$f":"IF('Build Your Schedule'!H$11=$B$12,IF(COUNTIF('Build Your Schedule'!H$5:H$10,$B$12)>0,1,0),0)","v":0},{"$f":"IF('Build Your Schedule'!I$11=$B$12,IF(COUNTIF('Build Your Schedule'!I$5:I$10,$B$12)>0,1,0),0)","v":0},{"$f":"IF('Build Your Schedule'!J$11=$B$12,IF(COUNTIF('Build Your Schedule'!J$5:J$10,$B$12)>0,1,0),0)","v":0},{"$f":"IF('Build Your Schedule'!K$11=$B$12,IF(COUNTIF('Build Your Schedule'!K$5:K$10,$B$12)>0,1,0),0)","v":0},{"$f":"IF('Build Your Schedule'!L$11=$B$12,IF(COUNTIF('Build Your Schedule'!L$5:L$10,$B$12)>0,1,0),0)","v":0},{"$f":"IF('Build Your Schedule'!M$11=$B$12,IF(COUNTIF('Build Your Schedule'!M$5:M$10,$B$12)>0,1,0),0)","v":0},{"$f":"IF('Build Your Schedule'!N$11=$B$12,IF(COUNTIF('Build Your Schedule'!N$5:N$10,$B$12)>0,1,0),0)","v":0},{"$f":"IF('Build Your Schedule'!O$11=$B$12,IF(COUNTIF('Build Your Schedule'!O$5:O$10,$B$12)>0,1,0),0)","v":0},{"$f":"IF('Build Your Schedule'!P$11=$B$12,IF(COUNTIF('Build Your Schedule'!P$5:P$10,$B$12)>0,1,0),0)","v":0},{"$f":"IF('Build Your Schedule'!Q$11=$B$12,IF(COUNTIF('Build Your Schedule'!Q$5:Q$10,$B$12)>0,1,0),0)","v":0},{"$f":"IF('Build Your Schedule'!R$11=$B$12,IF(COUNTIF('Build Your Schedule'!R$5:R$10,$B$12)>0,1,0),0)","v":0},{"$f":"IF('Build Your Schedule'!S$11=$B$12,IF(COUNTIF('Build Your Schedule'!S$5:S$10,$B$12)>0,1,0),0)","v":0},{"$f":"IF('Build Your Schedule'!T$11=$B$12,IF(COUNTIF('Build Your Schedule'!T$5:T$10,$B$12)>0,1,0),0)","v":0},{"$f":"IF('Build Your Schedule'!U$11=$B$12,IF(COUNTIF('Build Your Schedule'!U$5:U$10,$B$12)>0,1,0),0)","v":0},{"$f":"IF('Build Your Schedule'!V$11=$B$12,IF(COUNTIF('Build Your Schedule'!V$5:V$10,$B$12)>0,1,0),0)","v":0},{"$f":"IF('Build Your Schedule'!W$11=$B$12,IF(COUNTIF('Build Your Schedule'!W$5:W$10,$B$12)>0,1,0),0)","v":0},{"$f":"IF('Build Your Schedule'!X$11=$B$12,IF(COUNTIF('Build Your Schedule'!X$5:X$10,$B$12)>0,1,0),0)","v":0},{"$f":"IF('Build Your Schedule'!Y$11=$B$12,IF(COUNTIF('Build Your Schedule'!Y$5:Y$10,$B$12)>0,1,0),0)","v":0},{"$f":"IF('Build Your Schedule'!Z$11=$B$12,IF(COUNTIF('Build Your Schedule'!Z$5:Z$10,$B$12)>0,1,0),0)","v":0},{"$f":"IF('Build Your Schedule'!AA$11=$B$12,IF(COUNTIF('Build Your Schedule'!AA$5:AA$10,$B$12)>0,1,0),0)","v":0},{"$f":"IF('Build Your Schedule'!AB$11=$B$12,IF(COUNTIF('Build Your Schedule'!AB$5:AB$10,$B$12)>0,1,0),0)","v":0},{"$f":"IF('Build Your Schedule'!AC$11=$B$12,IF(COUNTIF('Build Your Schedule'!AC$5:AC$10,$B$12)>0,1,0),0)","v":0},{"$f":"IF('Build Your Schedule'!AD$11=$B$12,IF(COUNTIF('Build Your Schedule'!AD$5:AD$10,$B$12)>0,1,0),0)","v":0},{"$f":"IF('Build Your Schedule'!AE$11=$B$12,IF(COUNTIF('Build Your Schedule'!AE$5:AE$10,$B$12)>0,1,0),0)","v":0},{"$f":"IF('Build Your Schedule'!AF$11=$B$12,IF(COUNTIF('Build Your Schedule'!AF$5:AF$10,$B$12)>0,1,0),0)","v":0},{"$f":"IF('Build Your Schedule'!AG$11=$B$12,IF(COUNTIF('Build Your Schedule'!AG$5:AG$10,$B$12)>0,1,0),0)","v":0},{"$f":"IF('Build Your Schedule'!AH$11=$B$12,IF(COUNTIF('Build Your Schedule'!AH$5:AH$10,$B$12)>0,1,0),0)","v":0},{"$f":"IF('Build Your Schedule'!AI$11=$B$12,IF(COUNTIF('Build Your Schedule'!AI$5:AI$10,$B$12)>0,1,0),0)","v":0},{"$f":"IF('Build Your Schedule'!AJ$11=$B$12,IF(COUNTIF('Build Your Schedule'!AJ$5:AJ$10,$B$12)>0,1,0),0)","v":0},{"$f":"IF('Build Your Schedule'!AK$11=$B$12,IF(COUNTIF('Build Your Schedule'!AK$5:AK$10,$B$12)>0,1,0),0)","v":0}]
[]
[null,{"$f":"B13","v":"Stumpos"},"2015-06-01","2015-06-02","2015-06-03","2015-06-04","2015-06-05","2015-06-06","2015-06-07","2015-06-08","2015-06-09","2015-06-10","2015-06-11","2015-06-12","2015-06-13","2015-06-14","2015-06-15","2015-06-16","2015-06-17","2015-06-18","2015-06-19","2015-06-20","2015-06-21","2015-06-22","2015-06-23","2015-06-24","2015-06-25","2015-06-26","2015-06-27","2015-06-28","2015-06-29","2015-06-30"]
[null,"7a-4p",{"$f":"IF('Build Your Schedule'!H$5=$B$13,IF(COUNTIF('Build Your Schedule'!G$8:G$11,$B$13)>0,1,0),0)","v":0},{"$f":"IF('Build Your Schedule'!I$5=$B$13,IF(COUNTIF('Build Your Schedule'!H$8:H$11,$B$13)>0,1,0),0)","v":0},{"$f":"IF('Build Your Schedule'!J$5=$B$13,IF(COUNTIF('Build Your Schedule'!I$8:I$11,$B$13)>0,1,0),0)","v":0},{"$f":"IF('Build Your Schedule'!K$5=$B$13,IF(COUNTIF('Build Your Schedule'!J$8:J$11,$B$13)>0,1,0),0)","v":0},{"$f":"IF('Build Your Schedule'!L$5=$B$13,IF(COUNTIF('Build Your Schedule'!K$8:K$11,$B$13)>0,1,0),0)","v":0},{"$f":"IF('Build Your Schedule'!M$5=$B$13,IF(COUNTIF('Build Your Schedule'!L$8:L$11,$B$13)>0,1,0),0)","v":0},{"$f":"IF('Build Your Schedule'!N$5=$B$13,IF(COUNTIF('Build Your Schedule'!M$8:M$11,$B$13)>0,1,0),0)","v":0},{"$f":"IF('Build Your Schedule'!O$5=$B$13,IF(COUNTIF('Build Your Schedule'!N$8:N$11,$B$13)>0,1,0),0)","v":0},{"$f":"IF('Build Your Schedule'!P$5=$B$13,IF(COUNTIF('Build Your Schedule'!O$8:O$11,$B$13)>0,1,0),0)","v":0},{"$f":"IF('Build Your Schedule'!Q$5=$B$13,IF(COUNTIF('Build Your Schedule'!P$8:P$11,$B$13)>0,1,0),0)","v":0},{"$f":"IF('Build Your Schedule'!R$5=$B$13,IF(COUNTIF('Build Your Schedule'!Q$8:Q$11,$B$13)>0,1,0),0)","v":0},{"$f":"IF('Build Your Schedule'!S$5=$B$13,IF(COUNTIF('Build Your Schedule'!R$8:R$11,$B$13)>0,1,0),0)","v":0},{"$f":"IF('Build Your Schedule'!T$5=$B$13,IF(COUNTIF('Build Your Schedule'!S$8:S$11,$B$13)>0,1,0),0)","v":0},{"$f":"IF('Build Your Schedule'!U$5=$B$13,IF(COUNTIF('Build Your Schedule'!T$8:T$11,$B$13)>0,1,0),0)","v":0},{"$f":"IF('Build Your Schedule'!V$5=$B$13,IF(COUNTIF('Build Your Schedule'!U$8:U$11,$B$13)>0,1,0),0)","v":0},{"$f":"IF('Build Your Schedule'!W$5=$B$13,IF(COUNTIF('Build Your Schedule'!V$8:V$11,$B$13)>0,1,0),0)","v":0},{"$f":"IF('Build Your Schedule'!X$5=$B$13,IF(COUNTIF('Build Your Schedule'!W$8:W$11,$B$13)>0,1,0),0)","v":0},{"$f":"IF('Build Your Schedule'!Y$5=$B$13,IF(COUNTIF('Build Your Schedule'!X$8:X$11,$B$13)>0,1,0),0)","v":0},{"$f":"IF('Build Your Schedule'!Z$5=$B$13,IF(COUNTIF('Build Your Schedule'!Y$8:Y$11,$B$13)>0,1,0),0)","v":0},{"$f":"IF('Build Your Schedule'!AA$5=$B$13,IF(COUNTIF('Build Your Schedule'!Z$8:Z$11,$B$13)>0,1,0),0)","v":0},{"$f":"IF('Build Your Schedule'!AB$5=$B$13,IF(COUNTIF('Build Your Schedule'!AA$8:AA$11,$B$13)>0,1,0),0)","v":0},{"$f":"IF('Build Your Schedule'!AC$5=$B$13,IF(COUNTIF('Build Your Schedule'!AB$8:AB$11,$B$13)>0,1,0),0)","v":0},{"$f":"IF('Build Your Schedule'!AD$5=$B$13,IF(COUNTIF('Build Your Schedule'!AC$8:AC$11,$B$13)>0,1,0),0)","v":0},{"$f":"IF('Build Your Schedule'!AE$5=$B$13,IF(COUNTIF('Build Your Schedule'!AD$8:AD$11,$B$13)>0,1,0),0)","v":0},{"$f":"IF('Build Your Schedule'!AF$5=$B$13,IF(COUNTIF('Build Your Schedule'!AE$8:AE$11,$B$13)>0,1,0),0)","v":0},{"$f":"IF('Build Your Schedule'!AG$5=$B$13,IF(COUNTIF('Build Your Schedule'!AF$8:AF$11,$B$13)>0,1,0),0)","v":0},{"$f":"IF('Build Your Schedule'!AH$5=$B$13,IF(COUNTIF('Build Your Schedule'!AG$8:AG$11,$B$13)>0,1,0),0)","v":0},{"$f":"IF('Build Your Schedule'!AI$5=$B$13,IF(COUNTIF('Build Your Schedule'!AH$8:AH$11,$B$13)>0,1,0),0)","v":0},{"$f":"IF('Build Your Schedule'!AJ$5=$B$13,IF(COUNTIF('Build Your Schedule'!AI$8:AI$11,$B$13)>0,1,0),0)","v":0},{"$f":"IF('Build Your Schedule'!AK$5=$B$13,IF(COUNTIF('Build Your Schedule'!AJ$8:AJ$11,$B$13)>0,1,0),0)","v":0}]
[null,"9a-6p",{"$f":"IF('Build Your Schedule'!H$6=$B$13,IF((COUNTIF('Build Your Schedule'!G$8:G$11,$B$13)+COUNTIF('Build Your Schedule'!H$5,$B$13))>0,1,0),0)","v":0},{"$f":"IF('Build Your Schedule'!I$6=$B$13,IF((COUNTIF('Build Your Schedule'!H$8:H$11,$B$13)+COUNTIF('Build Your Schedule'!I$5,$B$13))>0,1,0),0)","v":0},{"$f":"IF('Build Your Schedule'!J$6=$B$13,IF((COUNTIF('Build Your Schedule'!I$8:I$11,$B$13)+COUNTIF('Build Your Schedule'!J$5,$B$13))>0,1,0),0)","v":0},{"$f":"IF('Build Your Schedule'!K$6=$B$13,IF((COUNTIF('Build Your Schedule'!J$8:J$11,$B$13)+COUNTIF('Build Your Schedule'!K$5,$B$13))>0,1,0),0)","v":0},{"$f":"IF('Build Your Schedule'!L$6=$B$13,IF((COUNTIF('Build Your Schedule'!K$8:K$11,$B$13)+COUNTIF('Build Your Schedule'!L$5,$B$13))>0,1,0),0)","v":0},{"$f":"IF('Build Your Schedule'!M$6=$B$13,IF((COUNTIF('Build Your Schedule'!L$8:L$11,$B$13)+COUNTIF('Build Your Schedule'!M$5,$B$13))>0,1,0),0)","v":0},{"$f":"IF('Build Your Schedule'!N$6=$B$13,IF((COUNTIF('Build Your Schedule'!M$8:M$11,$B$13)+COUNTIF('Build Your Schedule'!N$5,$B$13))>0,1,0),0)","v":0},{"$f":"IF('Build Your Schedule'!O$6=$B$13,IF((COUNTIF('Build Your Schedule'!N$8:N$11,$B$13)+COUNTIF('Build Your Schedule'!O$5,$B$13))>0,1,0),0)","v":0},{"$f":"IF('Build Your Schedule'!P$6=$B$13,IF((COUNTIF('Build Your Schedule'!O$8:O$11,$B$13)+COUNTIF('Build Your Schedule'!P$5,$B$13))>0,1,0),0)","v":0},{"$f":"IF('Build Your Schedule'!Q$6=$B$13,IF((COUNTIF('Build Your Schedule'!P$8:P$11,$B$13)+COUNTIF('Build Your Schedule'!Q$5,$B$13))>0,1,0),0)","v":0},{"$f":"IF('Build Your Schedule'!R$6=$B$13,IF((COUNTIF('Build Your Schedule'!Q$8:Q$11,$B$13)+COUNTIF('Build Your Schedule'!R$5,$B$13))>0,1,0),0)","v":0},{"$f":"IF('Build Your Schedule'!S$6=$B$13,IF((COUNTIF('Build Your Schedule'!R$8:R$11,$B$13)+COUNTIF('Build Your Schedule'!S$5,$B$13))>0,1,0),0)","v":0},{"$f":"IF('Build Your Schedule'!T$6=$B$13,IF((COUNTIF('Build Your Schedule'!S$8:S$11,$B$13)+COUNTIF('Build Your Schedule'!T$5,$B$13))>0,1,0),0)","v":0},{"$f":"IF('Build Your Schedule'!U$6=$B$13,IF((COUNTIF('Build Your Schedule'!T$8:T$11,$B$13)+COUNTIF('Build Your Schedule'!U$5,$B$13))>0,1,0),0)","v":0},{"$f":"IF('Build Your Schedule'!V$6=$B$13,IF((COUNTIF('Build Your Schedule'!U$8:U$11,$B$13)+COUNTIF('Build Your Schedule'!V$5,$B$13))>0,1,0),0)","v":0},{"$f":"IF('Build Your Schedule'!W$6=$B$13,IF((COUNTIF('Build Your Schedule'!V$8:V$11,$B$13)+COUNTIF('Build Your Schedule'!W$5,$B$13))>0,1,0),0)","v":0},{"$f":"IF('Build Your Schedule'!X$6=$B$13,IF((COUNTIF('Build Your Schedule'!W$8:W$11,$B$13)+COUNTIF('Build Your Schedule'!X$5,$B$13))>0,1,0),0)","v":0},{"$f":"IF('Build Your Schedule'!Y$6=$B$13,IF((COUNTIF('Build Your Schedule'!X$8:X$11,$B$13)+COUNTIF('Build Your Schedule'!Y$5,$B$13))>0,1,0),0)","v":0},{"$f":"IF('Build Your Schedule'!Z$6=$B$13,IF((COUNTIF('Build Your Schedule'!Y$8:Y$11,$B$13)+COUNTIF('Build Your Schedule'!Z$5,$B$13))>0,1,0),0)","v":0},{"$f":"IF('Build Your Schedule'!AA$6=$B$13,IF((COUNTIF('Build Your Schedule'!Z$8:Z$11,$B$13)+COUNTIF('Build Your Schedule'!AA$5,$B$13))>0,1,0),0)","v":0},{"$f":"IF('Build Your Schedule'!AB$6=$B$13,IF((COUNTIF('Build Your Schedule'!AA$8:AA$11,$B$13)+COUNTIF('Build Your Schedule'!AB$5,$B$13))>0,1,0),0)","v":0},{"$f":"IF('Build Your Schedule'!AC$6=$B$13,IF((COUNTIF('Build Your Schedule'!AB$8:AB$11,$B$13)+COUNTIF('Build Your Schedule'!AC$5,$B$13))>0,1,0),0)","v":0},{"$f":"IF('Build Your Schedule'!AD$6=$B$13,IF((COUNTIF('Build Your Schedule'!AC$8:AC$11,$B$13)+COUNTIF('Build Your Schedule'!AD$5,$B$13))>0,1,0),0)","v":0},{"$f":"IF('Build Your Schedule'!AE$6=$B$13,IF((COUNTIF('Build Your Schedule'!AD$8:AD$11,$B$13)+COUNTIF('Build Your Schedule'!AE$5,$B$13))>0,1,0),0)","v":0},{"$f":"IF('Build Your Schedule'!AF$6=$B$13,IF((COUNTIF('Build Your Schedule'!AE$8:AE$11,$B$13)+COUNTIF('Build Your Schedule'!AF$5,$B$13))>0,1,0),0)","v":0},{"$f":"IF('Build Your Schedule'!AG$6=$B$13,IF((COUNTIF('Build Your Schedule'!AF$8:AF$11,$B$13)+COUNTIF('Build Your Schedule'!AG$5,$B$13))>0,1,0),0)","v":0},{"$f":"IF('Build Your Schedule'!AH$6=$B$13,IF((COUNTIF('Build Your Schedule'!AG$8:AG$11,$B$13)+COUNTIF('Build Your Schedule'!AH$5,$B$13))>0,1,0),0)","v":0},{"$f":"IF('Build Your Schedule'!AI$6=$B$13,IF((COUNTIF('Build Your Schedule'!AH$8:AH$11,$B$13)+COUNTIF('Build Your Schedule'!AI$5,$B$13))>0,1,0),0)","v":0},{"$f":"IF('Build Your Schedule'!AJ$6=$B$13,IF((COUNTIF('Build Your Schedule'!AI$8:AI$11,$B$13)+COUNTIF('Build Your Schedule'!AJ$5,$B$13))>0,1,0),0)","v":0},{"$f":"IF('Build Your Schedule'!AK$6=$B$13,IF((COUNTIF('Build Your Schedule'!AJ$8:AJ$11,$B$13)+COUNTIF('Build Your Schedule'!AK$5,$B$13))>0,1,0),0)","v":0}]
[null,"12p-9p",{"$f":"IF('Build Your Schedule'!H$7=$B$13,IF((COUNTIF('Build Your Schedule'!G$10:G$11,$B$13)+COUNTIF('Build Your Schedule'!H$5:H$6,$B$13))>0,1,0),0)","v":0},{"$f":"IF('Build Your Schedule'!I$7=$B$13,IF((COUNTIF('Build Your Schedule'!H$10:H$11,$B$13)+COUNTIF('Build Your Schedule'!I$5:I$6,$B$13))>0,1,0),0)","v":0},{"$f":"IF('Build Your Schedule'!J$7=$B$13,IF((COUNTIF('Build Your Schedule'!I$10:I$11,$B$13)+COUNTIF('Build Your Schedule'!J$5:J$6,$B$13))>0,1,0),0)","v":0},{"$f":"IF('Build Your Schedule'!K$7=$B$13,IF((COUNTIF('Build Your Schedule'!J$10:J$11,$B$13)+COUNTIF('Build Your Schedule'!K$5:K$6,$B$13))>0,1,0),0)","v":0},{"$f":"IF('Build Your Schedule'!L$7=$B$13,IF((COUNTIF('Build Your Schedule'!K$10:K$11,$B$13)+COUNTIF('Build Your Schedule'!L$5:L$6,$B$13))>0,1,0),0)","v":0},{"$f":"IF('Build Your Schedule'!M$7=$B$13,IF((COUNTIF('Build Your Schedule'!L$10:L$11,$B$13)+COUNTIF('Build Your Schedule'!M$5:M$6,$B$13))>0,1,0),0)","v":0},{"$f":"IF('Build Your Schedule'!N$7=$B$13,IF((COUNTIF('Build Your Schedule'!M$10:M$11,$B$13)+COUNTIF('Build Your Schedule'!N$5:N$6,$B$13))>0,1,0),0)","v":0},{"$f":"IF('Build Your Schedule'!O$7=$B$13,IF((COUNTIF('Build Your Schedule'!N$10:N$11,$B$13)+COUNTIF('Build Your Schedule'!O$5:O$6,$B$13))>0,1,0),0)","v":0},{"$f":"IF('Build Your Schedule'!P$7=$B$13,IF((COUNTIF('Build Your Schedule'!O$10:O$11,$B$13)+COUNTIF('Build Your Schedule'!P$5:P$6,$B$13))>0,1,0),0)","v":0},{"$f":"IF('Build Your Schedule'!Q$7=$B$13,IF((COUNTIF('Build Your Schedule'!P$10:P$11,$B$13)+COUNTIF('Build Your Schedule'!Q$5:Q$6,$B$13))>0,1,0),0)","v":0},{"$f":"IF('Build Your Schedule'!R$7=$B$13,IF((COUNTIF('Build Your Schedule'!Q$10:Q$11,$B$13)+COUNTIF('Build Your Schedule'!R$5:R$6,$B$13))>0,1,0),0)","v":0},{"$f":"IF('Build Your Schedule'!S$7=$B$13,IF((COUNTIF('Build Your Schedule'!R$10:R$11,$B$13)+COUNTIF('Build Your Schedule'!S$5:S$6,$B$13))>0,1,0),0)","v":0},{"$f":"IF('Build Your Schedule'!T$7=$B$13,IF((COUNTIF('Build Your Schedule'!S$10:S$11,$B$13)+COUNTIF('Build Your Schedule'!T$5:T$6,$B$13))>0,1,0),0)","v":0},{"$f":"IF('Build Your Schedule'!U$7=$B$13,IF((COUNTIF('Build Your Schedule'!T$10:T$11,$B$13)+COUNTIF('Build Your Schedule'!U$5:U$6,$B$13))>0,1,0),0)","v":0},{"$f":"IF('Build Your Schedule'!V$7=$B$13,IF((COUNTIF('Build Your Schedule'!U$10:U$11,$B$13)+COUNTIF('Build Your Schedule'!V$5:V$6,$B$13))>0,1,0),0)","v":0},{"$f":"IF('Build Your Schedule'!W$7=$B$13,IF((COUNTIF('Build Your Schedule'!V$10:V$11,$B$13)+COUNTIF('Build Your Schedule'!W$5:W$6,$B$13))>0,1,0),0)","v":0},{"$f":"IF('Build Your Schedule'!X$7=$B$13,IF((COUNTIF('Build Your Schedule'!W$10:W$11,$B$13)+COUNTIF('Build Your Schedule'!X$5:X$6,$B$13))>0,1,0),0)","v":0},{"$f":"IF('Build Your Schedule'!Y$7=$B$13,IF((COUNTIF('Build Your Schedule'!X$10:X$11,$B$13)+COUNTIF('Build Your Schedule'!Y$5:Y$6,$B$13))>0,1,0),0)","v":0},{"$f":"IF('Build Your Schedule'!Z$7=$B$13,IF((COUNTIF('Build Your Schedule'!Y$10:Y$11,$B$13)+COUNTIF('Build Your Schedule'!Z$5:Z$6,$B$13))>0,1,0),0)","v":0},{"$f":"IF('Build Your Schedule'!AA$7=$B$13,IF((COUNTIF('Build Your Schedule'!Z$10:Z$11,$B$13)+COUNTIF('Build Your Schedule'!AA$5:AA$6,$B$13))>0,1,0),0)","v":0},{"$f":"IF('Build Your Schedule'!AB$7=$B$13,IF((COUNTIF('Build Your Schedule'!AA$10:AA$11,$B$13)+COUNTIF('Build Your Schedule'!AB$5:AB$6,$B$13))>0,1,0),0)","v":0},{"$f":"IF('Build Your Schedule'!AC$7=$B$13,IF((COUNTIF('Build Your Schedule'!AB$10:AB$11,$B$13)+COUNTIF('Build Your Schedule'!AC$5:AC$6,$B$13))>0,1,0),0)","v":0},{"$f":"IF('Build Your Schedule'!AD$7=$B$13,IF((COUNTIF('Build Your Schedule'!AC$10:AC$11,$B$13)+COUNTIF('Build Your Schedule'!AD$5:AD$6,$B$13))>0,1,0),0)","v":0},{"$f":"IF('Build Your Schedule'!AE$7=$B$13,IF((COUNTIF('Build Your Schedule'!AD$10:AD$11,$B$13)+COUNTIF('Build Your Schedule'!AE$5:AE$6,$B$13))>0,1,0),0)","v":0},{"$f":"IF('Build Your Schedule'!AF$7=$B$13,IF((COUNTIF('Build Your Schedule'!AE$10:AE$11,$B$13)+COUNTIF('Build Your Schedule'!AF$5:AF$6,$B$13))>0,1,0),0)","v":0},{"$f":"IF('Build Your Schedule'!AG$7=$B$13,IF((COUNTIF('Build Your Schedule'!AF$10:AF$11,$B$13)+COUNTIF('Build Your Schedule'!AG$5:AG$6,$B$13))>0,1,0),0)","v":0},{"$f":"IF('Build Your Schedule'!AH$7=$B$13,IF((COUNTIF('Build Your Schedule'!AG$10:AG$11,$B$13)+COUNTIF('Build Your Schedule'!AH$5:AH$6,$B$13))>0,1,0),0)","v":0},{"$f":"IF('Build Your Schedule'!AI$7=$B$13,IF((COUNTIF('Build Your Schedule'!AH$10:AH$11,$B$13)+COUNTIF('Build Your Schedule'!AI$5:AI$6,$B$13))>0,1,0),0)","v":0},{"$f":"IF('Build Your Schedule'!AJ$7=$B$13,IF((COUNTIF('Build Your Schedule'!AI$10:AI$11,$B$13)+COUNTIF('Build Your Schedule'!AJ$5:AJ$6,$B$13))>0,1,0),0)","v":0},{"$f":"IF('Build Your Schedule'!AK$7=$B$13,IF((COUNTIF('Build Your Schedule'!AJ$10:AJ$11,$B$13)+COUNTIF('Build Your Schedule'!AK$5:AK$6,$B$13))>0,1,0),0)","v":0}]
[null,"4p-1a",{"$f":"IF('Build Your Schedule'!H$8=$B$13,IF((COUNTIF('Build Your Schedule'!G$11,$B$13)+COUNTIF('Build Your Schedule'!H$5:H$7,$B$13))>0,1,0),0)","v":0},{"$f":"IF('Build Your Schedule'!I$8=$B$13,IF((COUNTIF('Build Your Schedule'!H$11,$B$13)+COUNTIF('Build Your Schedule'!I$5:I$7,$B$13))>0,1,0),0)","v":0},{"$f":"IF('Build Your Schedule'!J$8=$B$13,IF((COUNTIF('Build Your Schedule'!I$11,$B$13)+COUNTIF('Build Your Schedule'!J$5:J$7,$B$13))>0,1,0),0)","v":0},{"$f":"IF('Build Your Schedule'!K$8=$B$13,IF((COUNTIF('Build Your Schedule'!J$11,$B$13)+COUNTIF('Build Your Schedule'!K$5:K$7,$B$13))>0,1,0),0)","v":0},{"$f":"IF('Build Your Schedule'!L$8=$B$13,IF((COUNTIF('Build Your Schedule'!K$11,$B$13)+COUNTIF('Build Your Schedule'!L$5:L$7,$B$13))>0,1,0),0)","v":0},{"$f":"IF('Build Your Schedule'!M$8=$B$13,IF((COUNTIF('Build Your Schedule'!L$11,$B$13)+COUNTIF('Build Your Schedule'!M$5:M$7,$B$13))>0,1,0),0)","v":0},{"$f":"IF('Build Your Schedule'!N$8=$B$13,IF((COUNTIF('Build Your Schedule'!M$11,$B$13)+COUNTIF('Build Your Schedule'!N$5:N$7,$B$13))>0,1,0),0)","v":0},{"$f":"IF('Build Your Schedule'!O$8=$B$13,IF((COUNTIF('Build Your Schedule'!N$11,$B$13)+COUNTIF('Build Your Schedule'!O$5:O$7,$B$13))>0,1,0),0)","v":0},{"$f":"IF('Build Your Schedule'!P$8=$B$13,IF((COUNTIF('Build Your Schedule'!O$11,$B$13)+COUNTIF('Build Your Schedule'!P$5:P$7,$B$13))>0,1,0),0)","v":0},{"$f":"IF('Build Your Schedule'!Q$8=$B$13,IF((COUNTIF('Build Your Schedule'!P$11,$B$13)+COUNTIF('Build Your Schedule'!Q$5:Q$7,$B$13))>0,1,0),0)","v":0},{"$f":"IF('Build Your Schedule'!R$8=$B$13,IF((COUNTIF('Build Your Schedule'!Q$11,$B$13)+COUNTIF('Build Your Schedule'!R$5:R$7,$B$13))>0,1,0),0)","v":0},{"$f":"IF('Build Your Schedule'!S$8=$B$13,IF((COUNTIF('Build Your Schedule'!R$11,$B$13)+COUNTIF('Build Your Schedule'!S$5:S$7,$B$13))>0,1,0),0)","v":0},{"$f":"IF('Build Your Schedule'!T$8=$B$13,IF((COUNTIF('Build Your Schedule'!S$11,$B$13)+COUNTIF('Build Your Schedule'!T$5:T$7,$B$13))>0,1,0),0)","v":0},{"$f":"IF('Build Your Schedule'!U$8=$B$13,IF((COUNTIF('Build Your Schedule'!T$11,$B$13)+COUNTIF('Build Your Schedule'!U$5:U$7,$B$13))>0,1,0),0)","v":0},{"$f":"IF('Build Your Schedule'!V$8=$B$13,IF((COUNTIF('Build Your Schedule'!U$11,$B$13)+COUNTIF('Build Your Schedule'!V$5:V$7,$B$13))>0,1,0),0)","v":0},{"$f":"IF('Build Your Schedule'!W$8=$B$13,IF((COUNTIF('Build Your Schedule'!V$11,$B$13)+COUNTIF('Build Your Schedule'!W$5:W$7,$B$13))>0,1,0),0)","v":0},{"$f":"IF('Build Your Schedule'!X$8=$B$13,IF((COUNTIF('Build Your Schedule'!W$11,$B$13)+COUNTIF('Build Your Schedule'!X$5:X$7,$B$13))>0,1,0),0)","v":0},{"$f":"IF('Build Your Schedule'!Y$8=$B$13,IF((COUNTIF('Build Your Schedule'!X$11,$B$13)+COUNTIF('Build Your Schedule'!Y$5:Y$7,$B$13))>0,1,0),0)","v":0},{"$f":"IF('Build Your Schedule'!Z$8=$B$13,IF((COUNTIF('Build Your Schedule'!Y$11,$B$13)+COUNTIF('Build Your Schedule'!Z$5:Z$7,$B$13))>0,1,0),0)","v":0},{"$f":"IF('Build Your Schedule'!AA$8=$B$13,IF((COUNTIF('Build Your Schedule'!Z$11,$B$13)+COUNTIF('Build Your Schedule'!AA$5:AA$7,$B$13))>0,1,0),0)","v":0},{"$f":"IF('Build Your Schedule'!AB$8=$B$13,IF((COUNTIF('Build Your Schedule'!AA$11,$B$13)+COUNTIF('Build Your Schedule'!AB$5:AB$7,$B$13))>0,1,0),0)","v":0},{"$f":"IF('Build Your Schedule'!AC$8=$B$13,IF((COUNTIF('Build Your Schedule'!AB$11,$B$13)+COUNTIF('Build Your Schedule'!AC$5:AC$7,$B$13))>0,1,0),0)","v":0},{"$f":"IF('Build Your Schedule'!AD$8=$B$13,IF((COUNTIF('Build Your Schedule'!AC$11,$B$13)+COUNTIF('Build Your Schedule'!AD$5:AD$7,$B$13))>0,1,0),0)","v":0},{"$f":"IF('Build Your Schedule'!AE$8=$B$13,IF((COUNTIF('Build Your Schedule'!AD$11,$B$13)+COUNTIF('Build Your Schedule'!AE$5:AE$7,$B$13))>0,1,0),0)","v":0},{"$f":"IF('Build Your Schedule'!AF$8=$B$13,IF((COUNTIF('Build Your Schedule'!AE$11,$B$13)+COUNTIF('Build Your Schedule'!AF$5:AF$7,$B$13))>0,1,0),0)","v":0},{"$f":"IF('Build Your Schedule'!AG$8=$B$13,IF((COUNTIF('Build Your Schedule'!AF$11,$B$13)+COUNTIF('Build Your Schedule'!AG$5:AG$7,$B$13))>0,1,0),0)","v":0},{"$f":"IF('Build Your Schedule'!AH$8=$B$13,IF((COUNTIF('Build Your Schedule'!AG$11,$B$13)+COUNTIF('Build Your Schedule'!AH$5:AH$7,$B$13))>0,1,0),0)","v":0},{"$f":"IF('Build Your Schedule'!AI$8=$B$13,IF((COUNTIF('Build Your Schedule'!AH$11,$B$13)+COUNTIF('Build Your Schedule'!AI$5:AI$7,$B$13))>0,1,0),0)","v":0},{"$f":"IF('Build Your Schedule'!AJ$8=$B$13,IF((COUNTIF('Build Your Schedule'!AI$11,$B$13)+COUNTIF('Build Your Schedule'!AJ$5:AJ$7,$B$13))>0,1,0),0)","v":0},{"$f":"IF('Build Your Schedule'!AK$8=$B$13,IF((COUNTIF('Build Your Schedule'!AJ$11,$B$13)+COUNTIF('Build Your Schedule'!AK$5:AK$7,$B$13))>0,1,0),0)","v":0}]
[null,"5p-2a",{"$f":"IF('Build Your Schedule'!H$9=$B$13,IF((COUNTIF('Build Your Schedule'!G$11,$B$13)+COUNTIF('Build Your Schedule'!H$5:H$8,$B$13))>0,1,0),0)","v":0},{"$f":"IF('Build Your Schedule'!I$9=$B$13,IF((COUNTIF('Build Your Schedule'!H$11,$B$13)+COUNTIF('Build Your Schedule'!I$5:I$8,$B$13))>0,1,0),0)","v":0},{"$f":"IF('Build Your Schedule'!J$9=$B$13,IF((COUNTIF('Build Your Schedule'!I$11,$B$13)+COUNTIF('Build Your Schedule'!J$5:J$8,$B$13))>0,1,0),0)","v":0},{"$f":"IF('Build Your Schedule'!K$9=$B$13,IF((COUNTIF('Build Your Schedule'!J$11,$B$13)+COUNTIF('Build Your Schedule'!K$5:K$8,$B$13))>0,1,0),0)","v":0},{"$f":"IF('Build Your Schedule'!L$9=$B$13,IF((COUNTIF('Build Your Schedule'!K$11,$B$13)+COUNTIF('Build Your Schedule'!L$5:L$8,$B$13))>0,1,0),0)","v":0},{"$f":"IF('Build Your Schedule'!M$9=$B$13,IF((COUNTIF('Build Your Schedule'!L$11,$B$13)+COUNTIF('Build Your Schedule'!M$5:M$8,$B$13))>0,1,0),0)","v":0},{"$f":"IF('Build Your Schedule'!N$9=$B$13,IF((COUNTIF('Build Your Schedule'!M$11,$B$13)+COUNTIF('Build Your Schedule'!N$5:N$8,$B$13))>0,1,0),0)","v":0},{"$f":"IF('Build Your Schedule'!O$9=$B$13,IF((COUNTIF('Build Your Schedule'!N$11,$B$13)+COUNTIF('Build Your Schedule'!O$5:O$8,$B$13))>0,1,0),0)","v":0},{"$f":"IF('Build Your Schedule'!P$9=$B$13,IF((COUNTIF('Build Your Schedule'!O$11,$B$13)+COUNTIF('Build Your Schedule'!P$5:P$8,$B$13))>0,1,0),0)","v":0},{"$f":"IF('Build Your Schedule'!Q$9=$B$13,IF((COUNTIF('Build Your Schedule'!P$11,$B$13)+COUNTIF('Build Your Schedule'!Q$5:Q$8,$B$13))>0,1,0),0)","v":0},{"$f":"IF('Build Your Schedule'!R$9=$B$13,IF((COUNTIF('Build Your Schedule'!Q$11,$B$13)+COUNTIF('Build Your Schedule'!R$5:R$8,$B$13))>0,1,0),0)","v":0},{"$f":"IF('Build Your Schedule'!S$9=$B$13,IF((COUNTIF('Build Your Schedule'!R$11,$B$13)+COUNTIF('Build Your Schedule'!S$5:S$8,$B$13))>0,1,0),0)","v":0},{"$f":"IF('Build Your Schedule'!T$9=$B$13,IF((COUNTIF('Build Your Schedule'!S$11,$B$13)+COUNTIF('Build Your Schedule'!T$5:T$8,$B$13))>0,1,0),0)","v":0},{"$f":"IF('Build Your Schedule'!U$9=$B$13,IF((COUNTIF('Build Your Schedule'!T$11,$B$13)+COUNTIF('Build Your Schedule'!U$5:U$8,$B$13))>0,1,0),0)","v":0},{"$f":"IF('Build Your Schedule'!V$9=$B$13,IF((COUNTIF('Build Your Schedule'!U$11,$B$13)+COUNTIF('Build Your Schedule'!V$5:V$8,$B$13))>0,1,0),0)","v":0},{"$f":"IF('Build Your Schedule'!W$9=$B$13,IF((COUNTIF('Build Your Schedule'!V$11,$B$13)+COUNTIF('Build Your Schedule'!W$5:W$8,$B$13))>0,1,0),0)","v":0},{"$f":"IF('Build Your Schedule'!X$9=$B$13,IF((COUNTIF('Build Your Schedule'!W$11,$B$13)+COUNTIF('Build Your Schedule'!X$5:X$8,$B$13))>0,1,0),0)","v":0},{"$f":"IF('Build Your Schedule'!Y$9=$B$13,IF((COUNTIF('Build Your Schedule'!X$11,$B$13)+COUNTIF('Build Your Schedule'!Y$5:Y$8,$B$13))>0,1,0),0)","v":0},{"$f":"IF('Build Your Schedule'!Z$9=$B$13,IF((COUNTIF('Build Your Schedule'!Y$11,$B$13)+COUNTIF('Build Your Schedule'!Z$5:Z$8,$B$13))>0,1,0),0)","v":0},{"$f":"IF('Build Your Schedule'!AA$9=$B$13,IF((COUNTIF('Build Your Schedule'!Z$11,$B$13)+COUNTIF('Build Your Schedule'!AA$5:AA$8,$B$13))>0,1,0),0)","v":0},{"$f":"IF('Build Your Schedule'!AB$9=$B$13,IF((COUNTIF('Build Your Schedule'!AA$11,$B$13)+COUNTIF('Build Your Schedule'!AB$5:AB$8,$B$13))>0,1,0),0)","v":0},{"$f":"IF('Build Your Schedule'!AC$9=$B$13,IF((COUNTIF('Build Your Schedule'!AB$11,$B$13)+COUNTIF('Build Your Schedule'!AC$5:AC$8,$B$13))>0,1,0),0)","v":0},{"$f":"IF('Build Your Schedule'!AD$9=$B$13,IF((COUNTIF('Build Your Schedule'!AC$11,$B$13)+COUNTIF('Build Your Schedule'!AD$5:AD$8,$B$13))>0,1,0),0)","v":0},{"$f":"IF('Build Your Schedule'!AE$9=$B$13,IF((COUNTIF('Build Your Schedule'!AD$11,$B$13)+COUNTIF('Build Your Schedule'!AE$5:AE$8,$B$13))>0,1,0),0)","v":0},{"$f":"IF('Build Your Schedule'!AF$9=$B$13,IF((COUNTIF('Build Your Schedule'!AE$11,$B$13)+COUNTIF('Build Your Schedule'!AF$5:AF$8,$B$13))>0,1,0),0)","v":0},{"$f":"IF('Build Your Schedule'!AG$9=$B$13,IF((COUNTIF('Build Your Schedule'!AF$11,$B$13)+COUNTIF('Build Your Schedule'!AG$5:AG$8,$B$13))>0,1,0),0)","v":0},{"$f":"IF('Build Your Schedule'!AH$9=$B$13,IF((COUNTIF('Build Your Schedule'!AG$11,$B$13)+COUNTIF('Build Your Schedule'!AH$5:AH$8,$B$13))>0,1,0),0)","v":0},{"$f":"IF('Build Your Schedule'!AI$9=$B$13,IF((COUNTIF('Build Your Schedule'!AH$11,$B$13)+COUNTIF('Build Your Schedule'!AI$5:AI$8,$B$13))>0,1,0),0)","v":0},{"$f":"IF('Build Your Schedule'!AJ$9=$B$13,IF((COUNTIF('Build Your Schedule'!AI$11,$B$13)+COUNTIF('Build Your Schedule'!AJ$5:AJ$8,$B$13))>0,1,0),0)","v":0},{"$f":"IF('Build Your Schedule'!AK$9=$B$13,IF((COUNTIF('Build Your Schedule'!AJ$11,$B$13)+COUNTIF('Build Your Schedule'!AK$5:AK$8,$B$13))>0,1,0),0)","v":0}]
[null,"8p-5a",{"$f":"IF('Build Your Schedule'!H$10=$B$13,IF(COUNTIF('Build Your Schedule'!H$5:H$9,$B$13)>0,1,0),0)","v":0},{"$f":"IF('Build Your Schedule'!I$10=$B$13,IF(COUNTIF('Build Your Schedule'!I$5:I$9,$B$13)>0,1,0),0)","v":0},{"$f":"IF('Build Your Schedule'!J$10=$B$13,IF(COUNTIF('Build Your Schedule'!J$5:J$9,$B$13)>0,1,0),0)","v":0},{"$f":"IF('Build Your Schedule'!K$10=$B$13,IF(COUNTIF('Build Your Schedule'!K$5:K$9,$B$13)>0,1,0),0)","v":0},{"$f":"IF('Build Your Schedule'!L$10=$B$13,IF(COUNTIF('Build Your Schedule'!L$5:L$9,$B$13)>0,1,0),0)","v":0},{"$f":"IF('Build Your Schedule'!M$10=$B$13,IF(COUNTIF('Build Your Schedule'!M$5:M$9,$B$13)>0,1,0),0)","v":0},{"$f":"IF('Build Your Schedule'!N$10=$B$13,IF(COUNTIF('Build Your Schedule'!N$5:N$9,$B$13)>0,1,0),0)","v":0},{"$f":"IF('Build Your Schedule'!O$10=$B$13,IF(COUNTIF('Build Your Schedule'!O$5:O$9,$B$13)>0,1,0),0)","v":0},{"$f":"IF('Build Your Schedule'!P$10=$B$13,IF(COUNTIF('Build Your Schedule'!P$5:P$9,$B$13)>0,1,0),0)","v":0},{"$f":"IF('Build Your Schedule'!Q$10=$B$13,IF(COUNTIF('Build Your Schedule'!Q$5:Q$9,$B$13)>0,1,0),0)","v":0},{"$f":"IF('Build Your Schedule'!R$10=$B$13,IF(COUNTIF('Build Your Schedule'!R$5:R$9,$B$13)>0,1,0),0)","v":0},{"$f":"IF('Build Your Schedule'!S$10=$B$13,IF(COUNTIF('Build Your Schedule'!S$5:S$9,$B$13)>0,1,0),0)","v":0},{"$f":"IF('Build Your Schedule'!T$10=$B$13,IF(COUNTIF('Build Your Schedule'!T$5:T$9,$B$13)>0,1,0),0)","v":0},{"$f":"IF('Build Your Schedule'!U$10=$B$13,IF(COUNTIF('Build Your Schedule'!U$5:U$9,$B$13)>0,1,0),0)","v":0},{"$f":"IF('Build Your Schedule'!V$10=$B$13,IF(COUNTIF('Build Your Schedule'!V$5:V$9,$B$13)>0,1,0),0)","v":0},{"$f":"IF('Build Your Schedule'!W$10=$B$13,IF(COUNTIF('Build Your Schedule'!W$5:W$9,$B$13)>0,1,0),0)","v":0},{"$f":"IF('Build Your Schedule'!X$10=$B$13,IF(COUNTIF('Build Your Schedule'!X$5:X$9,$B$13)>0,1,0),0)","v":0},{"$f":"IF('Build Your Schedule'!Y$10=$B$13,IF(COUNTIF('Build Your Schedule'!Y$5:Y$9,$B$13)>0,1,0),0)","v":0},{"$f":"IF('Build Your Schedule'!Z$10=$B$13,IF(COUNTIF('Build Your Schedule'!Z$5:Z$9,$B$13)>0,1,0),0)","v":0},{"$f":"IF('Build Your Schedule'!AA$10=$B$13,IF(COUNTIF('Build Your Schedule'!AA$5:AA$9,$B$13)>0,1,0),0)","v":0},{"$f":"IF('Build Your Schedule'!AB$10=$B$13,IF(COUNTIF('Build Your Schedule'!AB$5:AB$9,$B$13)>0,1,0),0)","v":0},{"$f":"IF('Build Your Schedule'!AC$10=$B$13,IF(COUNTIF('Build Your Schedule'!AC$5:AC$9,$B$13)>0,1,0),0)","v":0},{"$f":"IF('Build Your Schedule'!AD$10=$B$13,IF(COUNTIF('Build Your Schedule'!AD$5:AD$9,$B$13)>0,1,0),0)","v":0},{"$f":"IF('Build Your Schedule'!AE$10=$B$13,IF(COUNTIF('Build Your Schedule'!AE$5:AE$9,$B$13)>0,1,0),0)","v":0},{"$f":"IF('Build Your Schedule'!AF$10=$B$13,IF(COUNTIF('Build Your Schedule'!AF$5:AF$9,$B$13)>0,1,0),0)","v":0},{"$f":"IF('Build Your Schedule'!AG$10=$B$13,IF(COUNTIF('Build Your Schedule'!AG$5:AG$9,$B$13)>0,1,0),0)","v":0},{"$f":"IF('Build Your Schedule'!AH$10=$B$13,IF(COUNTIF('Build Your Schedule'!AH$5:AH$9,$B$13)>0,1,0),0)","v":0},{"$f":"IF('Build Your Schedule'!AI$10=$B$13,IF(COUNTIF('Build Your Schedule'!AI$5:AI$9,$B$13)>0,1,0),0)","v":0},{"$f":"IF('Build Your Schedule'!AJ$10=$B$13,IF(COUNTIF('Build Your Schedule'!AJ$5:AJ$9,$B$13)>0,1,0),0)","v":0},{"$f":"IF('Build Your Schedule'!AK$10=$B$13,IF(COUNTIF('Build Your Schedule'!AK$5:AK$9,$B$13)>0,1,0),0)","v":0}]
[null,"11p-8a",{"$f":"IF('Build Your Schedule'!H$11=$B$13,IF(COUNTIF('Build Your Schedule'!H$5:H$10,$B$13)>0,1,0),0)","v":0},{"$f":"IF('Build Your Schedule'!I$11=$B$13,IF(COUNTIF('Build Your Schedule'!I$5:I$10,$B$13)>0,1,0),0)","v":0},{"$f":"IF('Build Your Schedule'!J$11=$B$13,IF(COUNTIF('Build Your Schedule'!J$5:J$10,$B$13)>0,1,0),0)","v":0},{"$f":"IF('Build Your Schedule'!K$11=$B$13,IF(COUNTIF('Build Your Schedule'!K$5:K$10,$B$13)>0,1,0),0)","v":0},{"$f":"IF('Build Your Schedule'!L$11=$B$13,IF(COUNTIF('Build Your Schedule'!L$5:L$10,$B$13)>0,1,0),0)","v":0},{"$f":"IF('Build Your Schedule'!M$11=$B$13,IF(COUNTIF('Build Your Schedule'!M$5:M$10,$B$13)>0,1,0),0)","v":0},{"$f":"IF('Build Your Schedule'!N$11=$B$13,IF(COUNTIF('Build Your Schedule'!N$5:N$10,$B$13)>0,1,0),0)","v":0},{"$f":"IF('Build Your Schedule'!O$11=$B$13,IF(COUNTIF('Build Your Schedule'!O$5:O$10,$B$13)>0,1,0),0)","v":0},{"$f":"IF('Build Your Schedule'!P$11=$B$13,IF(COUNTIF('Build Your Schedule'!P$5:P$10,$B$13)>0,1,0),0)","v":0},{"$f":"IF('Build Your Schedule'!Q$11=$B$13,IF(COUNTIF('Build Your Schedule'!Q$5:Q$10,$B$13)>0,1,0),0)","v":0},{"$f":"IF('Build Your Schedule'!R$11=$B$13,IF(COUNTIF('Build Your Schedule'!R$5:R$10,$B$13)>0,1,0),0)","v":0},{"$f":"IF('Build Your Schedule'!S$11=$B$13,IF(COUNTIF('Build Your Schedule'!S$5:S$10,$B$13)>0,1,0),0)","v":0},{"$f":"IF('Build Your Schedule'!T$11=$B$13,IF(COUNTIF('Build Your Schedule'!T$5:T$10,$B$13)>0,1,0),0)","v":0},{"$f":"IF('Build Your Schedule'!U$11=$B$13,IF(COUNTIF('Build Your Schedule'!U$5:U$10,$B$13)>0,1,0),0)","v":0},{"$f":"IF('Build Your Schedule'!V$11=$B$13,IF(COUNTIF('Build Your Schedule'!V$5:V$10,$B$13)>0,1,0),0)","v":0},{"$f":"IF('Build Your Schedule'!W$11=$B$13,IF(COUNTIF('Build Your Schedule'!W$5:W$10,$B$13)>0,1,0),0)","v":0},{"$f":"IF('Build Your Schedule'!X$11=$B$13,IF(COUNTIF('Build Your Schedule'!X$5:X$10,$B$13)>0,1,0),0)","v":0},{"$f":"IF('Build Your Schedule'!Y$11=$B$13,IF(COUNTIF('Build Your Schedule'!Y$5:Y$10,$B$13)>0,1,0),0)","v":0},{"$f":"IF('Build Your Schedule'!Z$11=$B$13,IF(COUNTIF('Build Your Schedule'!Z$5:Z$10,$B$13)>0,1,0),0)","v":0},{"$f":"IF('Build Your Schedule'!AA$11=$B$13,IF(COUNTIF('Build Your Schedule'!AA$5:AA$10,$B$13)>0,1,0),0)","v":0},{"$f":"IF('Build Your Schedule'!AB$11=$B$13,IF(COUNTIF('Build Your Schedule'!AB$5:AB$10,$B$13)>0,1,0),0)","v":0},{"$f":"IF('Build Your Schedule'!AC$11=$B$13,IF(COUNTIF('Build Your Schedule'!AC$5:AC$10,$B$13)>0,1,0),0)","v":0},{"$f":"IF('Build Your Schedule'!AD$11=$B$13,IF(COUNTIF('Build Your Schedule'!AD$5:AD$10,$B$13)>0,1,0),0)","v":0},{"$f":"IF('Build Your Schedule'!AE$11=$B$13,IF(COUNTIF('Build Your Schedule'!AE$5:AE$10,$B$13)>0,1,0),0)","v":0},{"$f":"IF('Build Your Schedule'!AF$11=$B$13,IF(COUNTIF('Build Your Schedule'!AF$5:AF$10,$B$13)>0,1,0),0)","v":0},{"$f":"IF('Build Your Schedule'!AG$11=$B$13,IF(COUNTIF('Build Your Schedule'!AG$5:AG$10,$B$13)>0,1,0),0)","v":0},{"$f":"IF('Build Your Schedule'!AH$11=$B$13,IF(COUNTIF('Build Your Schedule'!AH$5:AH$10,$B$13)>0,1,0),0)","v":0},{"$f":"IF('Build Your Schedule'!AI$11=$B$13,IF(COUNTIF('Build Your Schedule'!AI$5:AI$10,$B$13)>0,1,0),0)","v":0},{"$f":"IF('Build Your Schedule'!AJ$11=$B$13,IF(COUNTIF('Build Your Schedule'!AJ$5:AJ$10,$B$13)>0,1,0),0)","v":0},{"$f":"IF('Build Your Schedule'!AK$11=$B$13,IF(COUNTIF('Build Your Schedule'!AK$5:AK$10,$B$13)>0,1,0),0)","v":0}]
[]
[null,{"$f":"B14","v":"Vidal"},"2015-06-01","2015-06-02","2015-06-03","2015-06-04","2015-06-05","2015-06-06","2015-06-07","2015-06-08","2015-06-09","2015-06-10","2015-06-11","2015-06-12","2015-06-13","2015-06-14","2015-06-15","2015-06-16","2015-06-17","2015-06-18","2015-06-19","2015-06-20","2015-06-21","2015-06-22","2015-06-23","2015-06-24","2015-06-25","2015-06-26","2015-06-27","2015-06-28","2015-06-29","2015-06-30"]
[null,"7a-4p",{"$f":"IF('Build Your Schedule'!H$5=$B$14,IF(COUNTIF('Build Your Schedule'!G$8:G$11,$B$14)>0,1,0),0)","v":0},{"$f":"IF('Build Your Schedule'!I$5=$B$14,IF(COUNTIF('Build Your Schedule'!H$8:H$11,$B$14)>0,1,0),0)","v":0},{"$f":"IF('Build Your Schedule'!J$5=$B$14,IF(COUNTIF('Build Your Schedule'!I$8:I$11,$B$14)>0,1,0),0)","v":0},{"$f":"IF('Build Your Schedule'!K$5=$B$14,IF(COUNTIF('Build Your Schedule'!J$8:J$11,$B$14)>0,1,0),0)","v":0},{"$f":"IF('Build Your Schedule'!L$5=$B$14,IF(COUNTIF('Build Your Schedule'!K$8:K$11,$B$14)>0,1,0),0)","v":0},{"$f":"IF('Build Your Schedule'!M$5=$B$14,IF(COUNTIF('Build Your Schedule'!L$8:L$11,$B$14)>0,1,0),0)","v":0},{"$f":"IF('Build Your Schedule'!N$5=$B$14,IF(COUNTIF('Build Your Schedule'!M$8:M$11,$B$14)>0,1,0),0)","v":0},{"$f":"IF('Build Your Schedule'!O$5=$B$14,IF(COUNTIF('Build Your Schedule'!N$8:N$11,$B$14)>0,1,0),0)","v":0},{"$f":"IF('Build Your Schedule'!P$5=$B$14,IF(COUNTIF('Build Your Schedule'!O$8:O$11,$B$14)>0,1,0),0)","v":0},{"$f":"IF('Build Your Schedule'!Q$5=$B$14,IF(COUNTIF('Build Your Schedule'!P$8:P$11,$B$14)>0,1,0),0)","v":0},{"$f":"IF('Build Your Schedule'!R$5=$B$14,IF(COUNTIF('Build Your Schedule'!Q$8:Q$11,$B$14)>0,1,0),0)","v":0},{"$f":"IF('Build Your Schedule'!S$5=$B$14,IF(COUNTIF('Build Your Schedule'!R$8:R$11,$B$14)>0,1,0),0)","v":0},{"$f":"IF('Build Your Schedule'!T$5=$B$14,IF(COUNTIF('Build Your Schedule'!S$8:S$11,$B$14)>0,1,0),0)","v":0},{"$f":"IF('Build Your Schedule'!U$5=$B$14,IF(COUNTIF('Build Your Schedule'!T$8:T$11,$B$14)>0,1,0),0)","v":0},{"$f":"IF('Build Your Schedule'!V$5=$B$14,IF(COUNTIF('Build Your Schedule'!U$8:U$11,$B$14)>0,1,0),0)","v":0},{"$f":"IF('Build Your Schedule'!W$5=$B$14,IF(COUNTIF('Build Your Schedule'!V$8:V$11,$B$14)>0,1,0),0)","v":0},{"$f":"IF('Build Your Schedule'!X$5=$B$14,IF(COUNTIF('Build Your Schedule'!W$8:W$11,$B$14)>0,1,0),0)","v":0},{"$f":"IF('Build Your Schedule'!Y$5=$B$14,IF(COUNTIF('Build Your Schedule'!X$8:X$11,$B$14)>0,1,0),0)","v":0},{"$f":"IF('Build Your Schedule'!Z$5=$B$14,IF(COUNTIF('Build Your Schedule'!Y$8:Y$11,$B$14)>0,1,0),0)","v":0},{"$f":"IF('Build Your Schedule'!AA$5=$B$14,IF(COUNTIF('Build Your Schedule'!Z$8:Z$11,$B$14)>0,1,0),0)","v":0},{"$f":"IF('Build Your Schedule'!AB$5=$B$14,IF(COUNTIF('Build Your Schedule'!AA$8:AA$11,$B$14)>0,1,0),0)","v":0},{"$f":"IF('Build Your Schedule'!AC$5=$B$14,IF(COUNTIF('Build Your Schedule'!AB$8:AB$11,$B$14)>0,1,0),0)","v":0},{"$f":"IF('Build Your Schedule'!AD$5=$B$14,IF(COUNTIF('Build Your Schedule'!AC$8:AC$11,$B$14)>0,1,0),0)","v":0},{"$f":"IF('Build Your Schedule'!AE$5=$B$14,IF(COUNTIF('Build Your Schedule'!AD$8:AD$11,$B$14)>0,1,0),0)","v":0},{"$f":"IF('Build Your Schedule'!AF$5=$B$14,IF(COUNTIF('Build Your Schedule'!AE$8:AE$11,$B$14)>0,1,0),0)","v":0},{"$f":"IF('Build Your Schedule'!AG$5=$B$14,IF(COUNTIF('Build Your Schedule'!AF$8:AF$11,$B$14)>0,1,0),0)","v":0},{"$f":"IF('Build Your Schedule'!AH$5=$B$14,IF(COUNTIF('Build Your Schedule'!AG$8:AG$11,$B$14)>0,1,0),0)","v":0},{"$f":"IF('Build Your Schedule'!AI$5=$B$14,IF(COUNTIF('Build Your Schedule'!AH$8:AH$11,$B$14)>0,1,0),0)","v":0},{"$f":"IF('Build Your Schedule'!AJ$5=$B$14,IF(COUNTIF('Build Your Schedule'!AI$8:AI$11,$B$14)>0,1,0),0)","v":0},{"$f":"IF('Build Your Schedule'!AK$5=$B$14,IF(COUNTIF('Build Your Schedule'!AJ$8:AJ$11,$B$14)>0,1,0),0)","v":0}]
[null,"9a-6p",{"$f":"IF('Build Your Schedule'!H$6=$B$14,IF((COUNTIF('Build Your Schedule'!G$8:G$11,$B$14)+COUNTIF('Build Your Schedule'!H$5,$B$14))>0,1,0),0)","v":0},{"$f":"IF('Build Your Schedule'!I$6=$B$14,IF((COUNTIF('Build Your Schedule'!H$8:H$11,$B$14)+COUNTIF('Build Your Schedule'!I$5,$B$14))>0,1,0),0)","v":0},{"$f":"IF('Build Your Schedule'!J$6=$B$14,IF((COUNTIF('Build Your Schedule'!I$8:I$11,$B$14)+COUNTIF('Build Your Schedule'!J$5,$B$14))>0,1,0),0)","v":0},{"$f":"IF('Build Your Schedule'!K$6=$B$14,IF((COUNTIF('Build Your Schedule'!J$8:J$11,$B$14)+COUNTIF('Build Your Schedule'!K$5,$B$14))>0,1,0),0)","v":0},{"$f":"IF('Build Your Schedule'!L$6=$B$14,IF((COUNTIF('Build Your Schedule'!K$8:K$11,$B$14)+COUNTIF('Build Your Schedule'!L$5,$B$14))>0,1,0),0)","v":0},{"$f":"IF('Build Your Schedule'!M$6=$B$14,IF((COUNTIF('Build Your Schedule'!L$8:L$11,$B$14)+COUNTIF('Build Your Schedule'!M$5,$B$14))>0,1,0),0)","v":0},{"$f":"IF('Build Your Schedule'!N$6=$B$14,IF((COUNTIF('Build Your Schedule'!M$8:M$11,$B$14)+COUNTIF('Build Your Schedule'!N$5,$B$14))>0,1,0),0)","v":0},{"$f":"IF('Build Your Schedule'!O$6=$B$14,IF((COUNTIF('Build Your Schedule'!N$8:N$11,$B$14)+COUNTIF('Build Your Schedule'!O$5,$B$14))>0,1,0),0)","v":0},{"$f":"IF('Build Your Schedule'!P$6=$B$14,IF((COUNTIF('Build Your Schedule'!O$8:O$11,$B$14)+COUNTIF('Build Your Schedule'!P$5,$B$14))>0,1,0),0)","v":0},{"$f":"IF('Build Your Schedule'!Q$6=$B$14,IF((COUNTIF('Build Your Schedule'!P$8:P$11,$B$14)+COUNTIF('Build Your Schedule'!Q$5,$B$14))>0,1,0),0)","v":0},{"$f":"IF('Build Your Schedule'!R$6=$B$14,IF((COUNTIF('Build Your Schedule'!Q$8:Q$11,$B$14)+COUNTIF('Build Your Schedule'!R$5,$B$14))>0,1,0),0)","v":0},{"$f":"IF('Build Your Schedule'!S$6=$B$14,IF((COUNTIF('Build Your Schedule'!R$8:R$11,$B$14)+COUNTIF('Build Your Schedule'!S$5,$B$14))>0,1,0),0)","v":0},{"$f":"IF('Build Your Schedule'!T$6=$B$14,IF((COUNTIF('Build Your Schedule'!S$8:S$11,$B$14)+COUNTIF('Build Your Schedule'!T$5,$B$14))>0,1,0),0)","v":0},{"$f":"IF('Build Your Schedule'!U$6=$B$14,IF((COUNTIF('Build Your Schedule'!T$8:T$11,$B$14)+COUNTIF('Build Your Schedule'!U$5,$B$14))>0,1,0),0)","v":0},{"$f":"IF('Build Your Schedule'!V$6=$B$14,IF((COUNTIF('Build Your Schedule'!U$8:U$11,$B$14)+COUNTIF('Build Your Schedule'!V$5,$B$14))>0,1,0),0)","v":0},{"$f":"IF('Build Your Schedule'!W$6=$B$14,IF((COUNTIF('Build Your Schedule'!V$8:V$11,$B$14)+COUNTIF('Build Your Schedule'!W$5,$B$14))>0,1,0),0)","v":0},{"$f":"IF('Build Your Schedule'!X$6=$B$14,IF((COUNTIF('Build Your Schedule'!W$8:W$11,$B$14)+COUNTIF('Build Your Schedule'!X$5,$B$14))>0,1,0),0)","v":0},{"$f":"IF('Build Your Schedule'!Y$6=$B$14,IF((COUNTIF('Build Your Schedule'!X$8:X$11,$B$14)+COUNTIF('Build Your Schedule'!Y$5,$B$14))>0,1,0),0)","v":0},{"$f":"IF('Build Your Schedule'!Z$6=$B$14,IF((COUNTIF('Build Your Schedule'!Y$8:Y$11,$B$14)+COUNTIF('Build Your Schedule'!Z$5,$B$14))>0,1,0),0)","v":0},{"$f":"IF('Build Your Schedule'!AA$6=$B$14,IF((COUNTIF('Build Your Schedule'!Z$8:Z$11,$B$14)+COUNTIF('Build Your Schedule'!AA$5,$B$14))>0,1,0),0)","v":0},{"$f":"IF('Build Your Schedule'!AB$6=$B$14,IF((COUNTIF('Build Your Schedule'!AA$8:AA$11,$B$14)+COUNTIF('Build Your Schedule'!AB$5,$B$14))>0,1,0),0)","v":0},{"$f":"IF('Build Your Schedule'!AC$6=$B$14,IF((COUNTIF('Build Your Schedule'!AB$8:AB$11,$B$14)+COUNTIF('Build Your Schedule'!AC$5,$B$14))>0,1,0),0)","v":0},{"$f":"IF('Build Your Schedule'!AD$6=$B$14,IF((COUNTIF('Build Your Schedule'!AC$8:AC$11,$B$14)+COUNTIF('Build Your Schedule'!AD$5,$B$14))>0,1,0),0)","v":0},{"$f":"IF('Build Your Schedule'!AE$6=$B$14,IF((COUNTIF('Build Your Schedule'!AD$8:AD$11,$B$14)+COUNTIF('Build Your Schedule'!AE$5,$B$14))>0,1,0),0)","v":0},{"$f":"IF('Build Your Schedule'!AF$6=$B$14,IF((COUNTIF('Build Your Schedule'!AE$8:AE$11,$B$14)+COUNTIF('Build Your Schedule'!AF$5,$B$14))>0,1,0),0)","v":0},{"$f":"IF('Build Your Schedule'!AG$6=$B$14,IF((COUNTIF('Build Your Schedule'!AF$8:AF$11,$B$14)+COUNTIF('Build Your Schedule'!AG$5,$B$14))>0,1,0),0)","v":0},{"$f":"IF('Build Your Schedule'!AH$6=$B$14,IF((COUNTIF('Build Your Schedule'!AG$8:AG$11,$B$14)+COUNTIF('Build Your Schedule'!AH$5,$B$14))>0,1,0),0)","v":0},{"$f":"IF('Build Your Schedule'!AI$6=$B$14,IF((COUNTIF('Build Your Schedule'!AH$8:AH$11,$B$14)+COUNTIF('Build Your Schedule'!AI$5,$B$14))>0,1,0),0)","v":0},{"$f":"IF('Build Your Schedule'!AJ$6=$B$14,IF((COUNTIF('Build Your Schedule'!AI$8:AI$11,$B$14)+COUNTIF('Build Your Schedule'!AJ$5,$B$14))>0,1,0),0)","v":0},{"$f":"IF('Build Your Schedule'!AK$6=$B$14,IF((COUNTIF('Build Your Schedule'!AJ$8:AJ$11,$B$14)+COUNTIF('Build Your Schedule'!AK$5,$B$14))>0,1,0),0)","v":0}]
[null,"12p-9p",{"$f":"IF('Build Your Schedule'!H$7=$B$14,IF((COUNTIF('Build Your Schedule'!G$10:G$11,$B$14)+COUNTIF('Build Your Schedule'!H$5:H$6,$B$14))>0,1,0),0)","v":0},{"$f":"IF('Build Your Schedule'!I$7=$B$14,IF((COUNTIF('Build Your Schedule'!H$10:H$11,$B$14)+COUNTIF('Build Your Schedule'!I$5:I$6,$B$14))>0,1,0),0)","v":0},{"$f":"IF('Build Your Schedule'!J$7=$B$14,IF((COUNTIF('Build Your Schedule'!I$10:I$11,$B$14)+COUNTIF('Build Your Schedule'!J$5:J$6,$B$14))>0,1,0),0)","v":0},{"$f":"IF('Build Your Schedule'!K$7=$B$14,IF((COUNTIF('Build Your Schedule'!J$10:J$11,$B$14)+COUNTIF('Build Your Schedule'!K$5:K$6,$B$14))>0,1,0),0)","v":0},{"$f":"IF('Build Your Schedule'!L$7=$B$14,IF((COUNTIF('Build Your Schedule'!K$10:K$11,$B$14)+COUNTIF('Build Your Schedule'!L$5:L$6,$B$14))>0,1,0),0)","v":0},{"$f":"IF('Build Your Schedule'!M$7=$B$14,IF((COUNTIF('Build Your Schedule'!L$10:L$11,$B$14)+COUNTIF('Build Your Schedule'!M$5:M$6,$B$14))>0,1,0),0)","v":0},{"$f":"IF('Build Your Schedule'!N$7=$B$14,IF((COUNTIF('Build Your Schedule'!M$10:M$11,$B$14)+COUNTIF('Build Your Schedule'!N$5:N$6,$B$14))>0,1,0),0)","v":0},{"$f":"IF('Build Your Schedule'!O$7=$B$14,IF((COUNTIF('Build Your Schedule'!N$10:N$11,$B$14)+COUNTIF('Build Your Schedule'!O$5:O$6,$B$14))>0,1,0),0)","v":0},{"$f":"IF('Build Your Schedule'!P$7=$B$14,IF((COUNTIF('Build Your Schedule'!O$10:O$11,$B$14)+COUNTIF('Build Your Schedule'!P$5:P$6,$B$14))>0,1,0),0)","v":0},{"$f":"IF('Build Your Schedule'!Q$7=$B$14,IF((COUNTIF('Build Your Schedule'!P$10:P$11,$B$14)+COUNTIF('Build Your Schedule'!Q$5:Q$6,$B$14))>0,1,0),0)","v":0},{"$f":"IF('Build Your Schedule'!R$7=$B$14,IF((COUNTIF('Build Your Schedule'!Q$10:Q$11,$B$14)+COUNTIF('Build Your Schedule'!R$5:R$6,$B$14))>0,1,0),0)","v":0},{"$f":"IF('Build Your Schedule'!S$7=$B$14,IF((COUNTIF('Build Your Schedule'!R$10:R$11,$B$14)+COUNTIF('Build Your Schedule'!S$5:S$6,$B$14))>0,1,0),0)","v":0},{"$f":"IF('Build Your Schedule'!T$7=$B$14,IF((COUNTIF('Build Your Schedule'!S$10:S$11,$B$14)+COUNTIF('Build Your Schedule'!T$5:T$6,$B$14))>0,1,0),0)","v":0},{"$f":"IF('Build Your Schedule'!U$7=$B$14,IF((COUNTIF('Build Your Schedule'!T$10:T$11,$B$14)+COUNTIF('Build Your Schedule'!U$5:U$6,$B$14))>0,1,0),0)","v":0},{"$f":"IF('Build Your Schedule'!V$7=$B$14,IF((COUNTIF('Build Your Schedule'!U$10:U$11,$B$14)+COUNTIF('Build Your Schedule'!V$5:V$6,$B$14))>0,1,0),0)","v":0},{"$f":"IF('Build Your Schedule'!W$7=$B$14,IF((COUNTIF('Build Your Schedule'!V$10:V$11,$B$14)+COUNTIF('Build Your Schedule'!W$5:W$6,$B$14))>0,1,0),0)","v":0},{"$f":"IF('Build Your Schedule'!X$7=$B$14,IF((COUNTIF('Build Your Schedule'!W$10:W$11,$B$14)+COUNTIF('Build Your Schedule'!X$5:X$6,$B$14))>0,1,0),0)","v":0},{"$f":"IF('Build Your Schedule'!Y$7=$B$14,IF((COUNTIF('Build Your Schedule'!X$10:X$11,$B$14)+COUNTIF('Build Your Schedule'!Y$5:Y$6,$B$14))>0,1,0),0)","v":0},{"$f":"IF('Build Your Schedule'!Z$7=$B$14,IF((COUNTIF('Build Your Schedule'!Y$10:Y$11,$B$14)+COUNTIF('Build Your Schedule'!Z$5:Z$6,$B$14))>0,1,0),0)","v":0},{"$f":"IF('Build Your Schedule'!AA$7=$B$14,IF((COUNTIF('Build Your Schedule'!Z$10:Z$11,$B$14)+COUNTIF('Build Your Schedule'!AA$5:AA$6,$B$14))>0,1,0),0)","v":0},{"$f":"IF('Build Your Schedule'!AB$7=$B$14,IF((COUNTIF('Build Your Schedule'!AA$10:AA$11,$B$14)+COUNTIF('Build Your Schedule'!AB$5:AB$6,$B$14))>0,1,0),0)","v":0},{"$f":"IF('Build Your Schedule'!AC$7=$B$14,IF((COUNTIF('Build Your Schedule'!AB$10:AB$11,$B$14)+COUNTIF('Build Your Schedule'!AC$5:AC$6,$B$14))>0,1,0),0)","v":0},{"$f":"IF('Build Your Schedule'!AD$7=$B$14,IF((COUNTIF('Build Your Schedule'!AC$10:AC$11,$B$14)+COUNTIF('Build Your Schedule'!AD$5:AD$6,$B$14))>0,1,0),0)","v":0},{"$f":"IF('Build Your Schedule'!AE$7=$B$14,IF((COUNTIF('Build Your Schedule'!AD$10:AD$11,$B$14)+COUNTIF('Build Your Schedule'!AE$5:AE$6,$B$14))>0,1,0),0)","v":0},{"$f":"IF('Build Your Schedule'!AF$7=$B$14,IF((COUNTIF('Build Your Schedule'!AE$10:AE$11,$B$14)+COUNTIF('Build Your Schedule'!AF$5:AF$6,$B$14))>0,1,0),0)","v":0},{"$f":"IF('Build Your Schedule'!AG$7=$B$14,IF((COUNTIF('Build Your Schedule'!AF$10:AF$11,$B$14)+COUNTIF('Build Your Schedule'!AG$5:AG$6,$B$14))>0,1,0),0)","v":0},{"$f":"IF('Build Your Schedule'!AH$7=$B$14,IF((COUNTIF('Build Your Schedule'!AG$10:AG$11,$B$14)+COUNTIF('Build Your Schedule'!AH$5:AH$6,$B$14))>0,1,0),0)","v":0},{"$f":"IF('Build Your Schedule'!AI$7=$B$14,IF((COUNTIF('Build Your Schedule'!AH$10:AH$11,$B$14)+COUNTIF('Build Your Schedule'!AI$5:AI$6,$B$14))>0,1,0),0)","v":0},{"$f":"IF('Build Your Schedule'!AJ$7=$B$14,IF((COUNTIF('Build Your Schedule'!AI$10:AI$11,$B$14)+COUNTIF('Build Your Schedule'!AJ$5:AJ$6,$B$14))>0,1,0),0)","v":0},{"$f":"IF('Build Your Schedule'!AK$7=$B$14,IF((COUNTIF('Build Your Schedule'!AJ$10:AJ$11,$B$14)+COUNTIF('Build Your Schedule'!AK$5:AK$6,$B$14))>0,1,0),0)","v":0}]
[null,"4p-1a",{"$f":"IF('Build Your Schedule'!H$8=$B$14,IF((COUNTIF('Build Your Schedule'!G$11,$B$14)+COUNTIF('Build Your Schedule'!H$5:H$7,$B$14))>0,1,0),0)","v":0},{"$f":"IF('Build Your Schedule'!I$8=$B$14,IF((COUNTIF('Build Your Schedule'!H$11,$B$14)+COUNTIF('Build Your Schedule'!I$5:I$7,$B$14))>0,1,0),0)","v":0},{"$f":"IF('Build Your Schedule'!J$8=$B$14,IF((COUNTIF('Build Your Schedule'!I$11,$B$14)+COUNTIF('Build Your Schedule'!J$5:J$7,$B$14))>0,1,0),0)","v":0},{"$f":"IF('Build Your Schedule'!K$8=$B$14,IF((COUNTIF('Build Your Schedule'!J$11,$B$14)+COUNTIF('Build Your Schedule'!K$5:K$7,$B$14))>0,1,0),0)","v":0},{"$f":"IF('Build Your Schedule'!L$8=$B$14,IF((COUNTIF('Build Your Schedule'!K$11,$B$14)+COUNTIF('Build Your Schedule'!L$5:L$7,$B$14))>0,1,0),0)","v":0},{"$f":"IF('Build Your Schedule'!M$8=$B$14,IF((COUNTIF('Build Your Schedule'!L$11,$B$14)+COUNTIF('Build Your Schedule'!M$5:M$7,$B$14))>0,1,0),0)","v":0},{"$f":"IF('Build Your Schedule'!N$8=$B$14,IF((COUNTIF('Build Your Schedule'!M$11,$B$14)+COUNTIF('Build Your Schedule'!N$5:N$7,$B$14))>0,1,0),0)","v":0},{"$f":"IF('Build Your Schedule'!O$8=$B$14,IF((COUNTIF('Build Your Schedule'!N$11,$B$14)+COUNTIF('Build Your Schedule'!O$5:O$7,$B$14))>0,1,0),0)","v":0},{"$f":"IF('Build Your Schedule'!P$8=$B$14,IF((COUNTIF('Build Your Schedule'!O$11,$B$14)+COUNTIF('Build Your Schedule'!P$5:P$7,$B$14))>0,1,0),0)","v":0},{"$f":"IF('Build Your Schedule'!Q$8=$B$14,IF((COUNTIF('Build Your Schedule'!P$11,$B$14)+COUNTIF('Build Your Schedule'!Q$5:Q$7,$B$14))>0,1,0),0)","v":0},{"$f":"IF('Build Your Schedule'!R$8=$B$14,IF((COUNTIF('Build Your Schedule'!Q$11,$B$14)+COUNTIF('Build Your Schedule'!R$5:R$7,$B$14))>0,1,0),0)","v":0},{"$f":"IF('Build Your Schedule'!S$8=$B$14,IF((COUNTIF('Build Your Schedule'!R$11,$B$14)+COUNTIF('Build Your Schedule'!S$5:S$7,$B$14))>0,1,0),0)","v":0},{"$f":"IF('Build Your Schedule'!T$8=$B$14,IF((COUNTIF('Build Your Schedule'!S$11,$B$14)+COUNTIF('Build Your Schedule'!T$5:T$7,$B$14))>0,1,0),0)","v":0},{"$f":"IF('Build Your Schedule'!U$8=$B$14,IF((COUNTIF('Build Your Schedule'!T$11,$B$14)+COUNTIF('Build Your Schedule'!U$5:U$7,$B$14))>0,1,0),0)","v":0},{"$f":"IF('Build Your Schedule'!V$8=$B$14,IF((COUNTIF('Build Your Schedule'!U$11,$B$14)+COUNTIF('Build Your Schedule'!V$5:V$7,$B$14))>0,1,0),0)","v":0},{"$f":"IF('Build Your Schedule'!W$8=$B$14,IF((COUNTIF('Build Your Schedule'!V$11,$B$14)+COUNTIF('Build Your Schedule'!W$5:W$7,$B$14))>0,1,0),0)","v":0},{"$f":"IF('Build Your Schedule'!X$8=$B$14,IF((COUNTIF('Build Your Schedule'!W$11,$B$14)+COUNTIF('Build Your Schedule'!X$5:X$7,$B$14))>0,1,0),0)","v":0},{"$f":"IF('Build Your Schedule'!Y$8=$B$14,IF((COUNTIF('Build Your Schedule'!X$11,$B$14)+COUNTIF('Build Your Schedule'!Y$5:Y$7,$B$14))>0,1,0),0)","v":0},{"$f":"IF('Build Your Schedule'!Z$8=$B$14,IF((COUNTIF('Build Your Schedule'!Y$11,$B$14)+COUNTIF('Build Your Schedule'!Z$5:Z$7,$B$14))>0,1,0),0)","v":0},{"$f":"IF('Build Your Schedule'!AA$8=$B$14,IF((COUNTIF('Build Your Schedule'!Z$11,$B$14)+COUNTIF('Build Your Schedule'!AA$5:AA$7,$B$14))>0,1,0),0)","v":0},{"$f":"IF('Build Your Schedule'!AB$8=$B$14,IF((COUNTIF('Build Your Schedule'!AA$11,$B$14)+COUNTIF('Build Your Schedule'!AB$5:AB$7,$B$14))>0,1,0),0)","v":0},{"$f":"IF('Build Your Schedule'!AC$8=$B$14,IF((COUNTIF('Build Your Schedule'!AB$11,$B$14)+COUNTIF('Build Your Schedule'!AC$5:AC$7,$B$14))>0,1,0),0)","v":0},{"$f":"IF('Build Your Schedule'!AD$8=$B$14,IF((COUNTIF('Build Your Schedule'!AC$11,$B$14)+COUNTIF('Build Your Schedule'!AD$5:AD$7,$B$14))>0,1,0),0)","v":0},{"$f":"IF('Build Your Schedule'!AE$8=$B$14,IF((COUNTIF('Build Your Schedule'!AD$11,$B$14)+COUNTIF('Build Your Schedule'!AE$5:AE$7,$B$14))>0,1,0),0)","v":0},{"$f":"IF('Build Your Schedule'!AF$8=$B$14,IF((COUNTIF('Build Your Schedule'!AE$11,$B$14)+COUNTIF('Build Your Schedule'!AF$5:AF$7,$B$14))>0,1,0),0)","v":0},{"$f":"IF('Build Your Schedule'!AG$8=$B$14,IF((COUNTIF('Build Your Schedule'!AF$11,$B$14)+COUNTIF('Build Your Schedule'!AG$5:AG$7,$B$14))>0,1,0),0)","v":0},{"$f":"IF('Build Your Schedule'!AH$8=$B$14,IF((COUNTIF('Build Your Schedule'!AG$11,$B$14)+COUNTIF('Build Your Schedule'!AH$5:AH$7,$B$14))>0,1,0),0)","v":0},{"$f":"IF('Build Your Schedule'!AI$8=$B$14,IF((COUNTIF('Build Your Schedule'!AH$11,$B$14)+COUNTIF('Build Your Schedule'!AI$5:AI$7,$B$14))>0,1,0),0)","v":0},{"$f":"IF('Build Your Schedule'!AJ$8=$B$14,IF((COUNTIF('Build Your Schedule'!AI$11,$B$14)+COUNTIF('Build Your Schedule'!AJ$5:AJ$7,$B$14))>0,1,0),0)","v":0},{"$f":"IF('Build Your Schedule'!AK$8=$B$14,IF((COUNTIF('Build Your Schedule'!AJ$11,$B$14)+COUNTIF('Build Your Schedule'!AK$5:AK$7,$B$14))>0,1,0),0)","v":0}]
[null,"5p-2a",{"$f":"IF('Build Your Schedule'!H$9=$B$14,IF((COUNTIF('Build Your Schedule'!G$11,$B$14)+COUNTIF('Build Your Schedule'!H$5:H$8,$B$14))>0,1,0),0)","v":0},{"$f":"IF('Build Your Schedule'!I$9=$B$14,IF((COUNTIF('Build Your Schedule'!H$11,$B$14)+COUNTIF('Build Your Schedule'!I$5:I$8,$B$14))>0,1,0),0)","v":0},{"$f":"IF('Build Your Schedule'!J$9=$B$14,IF((COUNTIF('Build Your Schedule'!I$11,$B$14)+COUNTIF('Build Your Schedule'!J$5:J$8,$B$14))>0,1,0),0)","v":0},{"$f":"IF('Build Your Schedule'!K$9=$B$14,IF((COUNTIF('Build Your Schedule'!J$11,$B$14)+COUNTIF('Build Your Schedule'!K$5:K$8,$B$14))>0,1,0),0)","v":0},{"$f":"IF('Build Your Schedule'!L$9=$B$14,IF((COUNTIF('Build Your Schedule'!K$11,$B$14)+COUNTIF('Build Your Schedule'!L$5:L$8,$B$14))>0,1,0),0)","v":0},{"$f":"IF('Build Your Schedule'!M$9=$B$14,IF((COUNTIF('Build Your Schedule'!L$11,$B$14)+COUNTIF('Build Your Schedule'!M$5:M$8,$B$14))>0,1,0),0)","v":0},{"$f":"IF('Build Your Schedule'!N$9=$B$14,IF((COUNTIF('Build Your Schedule'!M$11,$B$14)+COUNTIF('Build Your Schedule'!N$5:N$8,$B$14))>0,1,0),0)","v":0},{"$f":"IF('Build Your Schedule'!O$9=$B$14,IF((COUNTIF('Build Your Schedule'!N$11,$B$14)+COUNTIF('Build Your Schedule'!O$5:O$8,$B$14))>0,1,0),0)","v":0},{"$f":"IF('Build Your Schedule'!P$9=$B$14,IF((COUNTIF('Build Your Schedule'!O$11,$B$14)+COUNTIF('Build Your Schedule'!P$5:P$8,$B$14))>0,1,0),0)","v":0},{"$f":"IF('Build Your Schedule'!Q$9=$B$14,IF((COUNTIF('Build Your Schedule'!P$11,$B$14)+COUNTIF('Build Your Schedule'!Q$5:Q$8,$B$14))>0,1,0),0)","v":0},{"$f":"IF('Build Your Schedule'!R$9=$B$14,IF((COUNTIF('Build Your Schedule'!Q$11,$B$14)+COUNTIF('Build Your Schedule'!R$5:R$8,$B$14))>0,1,0),0)","v":0},{"$f":"IF('Build Your Schedule'!S$9=$B$14,IF((COUNTIF('Build Your Schedule'!R$11,$B$14)+COUNTIF('Build Your Schedule'!S$5:S$8,$B$14))>0,1,0),0)","v":0},{"$f":"IF('Build Your Schedule'!T$9=$B$14,IF((COUNTIF('Build Your Schedule'!S$11,$B$14)+COUNTIF('Build Your Schedule'!T$5:T$8,$B$14))>0,1,0),0)","v":0},{"$f":"IF('Build Your Schedule'!U$9=$B$14,IF((COUNTIF('Build Your Schedule'!T$11,$B$14)+COUNTIF('Build Your Schedule'!U$5:U$8,$B$14))>0,1,0),0)","v":0},{"$f":"IF('Build Your Schedule'!V$9=$B$14,IF((COUNTIF('Build Your Schedule'!U$11,$B$14)+COUNTIF('Build Your Schedule'!V$5:V$8,$B$14))>0,1,0),0)","v":0},{"$f":"IF('Build Your Schedule'!W$9=$B$14,IF((COUNTIF('Build Your Schedule'!V$11,$B$14)+COUNTIF('Build Your Schedule'!W$5:W$8,$B$14))>0,1,0),0)","v":0},{"$f":"IF('Build Your Schedule'!X$9=$B$14,IF((COUNTIF('Build Your Schedule'!W$11,$B$14)+COUNTIF('Build Your Schedule'!X$5:X$8,$B$14))>0,1,0),0)","v":0},{"$f":"IF('Build Your Schedule'!Y$9=$B$14,IF((COUNTIF('Build Your Schedule'!X$11,$B$14)+COUNTIF('Build Your Schedule'!Y$5:Y$8,$B$14))>0,1,0),0)","v":0},{"$f":"IF('Build Your Schedule'!Z$9=$B$14,IF((COUNTIF('Build Your Schedule'!Y$11,$B$14)+COUNTIF('Build Your Schedule'!Z$5:Z$8,$B$14))>0,1,0),0)","v":0},{"$f":"IF('Build Your Schedule'!AA$9=$B$14,IF((COUNTIF('Build Your Schedule'!Z$11,$B$14)+COUNTIF('Build Your Schedule'!AA$5:AA$8,$B$14))>0,1,0),0)","v":0},{"$f":"IF('Build Your Schedule'!AB$9=$B$14,IF((COUNTIF('Build Your Schedule'!AA$11,$B$14)+COUNTIF('Build Your Schedule'!AB$5:AB$8,$B$14))>0,1,0),0)","v":0},{"$f":"IF('Build Your Schedule'!AC$9=$B$14,IF((COUNTIF('Build Your Schedule'!AB$11,$B$14)+COUNTIF('Build Your Schedule'!AC$5:AC$8,$B$14))>0,1,0),0)","v":0},{"$f":"IF('Build Your Schedule'!AD$9=$B$14,IF((COUNTIF('Build Your Schedule'!AC$11,$B$14)+COUNTIF('Build Your Schedule'!AD$5:AD$8,$B$14))>0,1,0),0)","v":0},{"$f":"IF('Build Your Schedule'!AE$9=$B$14,IF((COUNTIF('Build Your Schedule'!AD$11,$B$14)+COUNTIF('Build Your Schedule'!AE$5:AE$8,$B$14))>0,1,0),0)","v":0},{"$f":"IF('Build Your Schedule'!AF$9=$B$14,IF((COUNTIF('Build Your Schedule'!AE$11,$B$14)+COUNTIF('Build Your Schedule'!AF$5:AF$8,$B$14))>0,1,0),0)","v":0},{"$f":"IF('Build Your Schedule'!AG$9=$B$14,IF((COUNTIF('Build Your Schedule'!AF$11,$B$14)+COUNTIF('Build Your Schedule'!AG$5:AG$8,$B$14))>0,1,0),0)","v":0},{"$f":"IF('Build Your Schedule'!AH$9=$B$14,IF((COUNTIF('Build Your Schedule'!AG$11,$B$14)+COUNTIF('Build Your Schedule'!AH$5:AH$8,$B$14))>0,1,0),0)","v":0},{"$f":"IF('Build Your Schedule'!AI$9=$B$14,IF((COUNTIF('Build Your Schedule'!AH$11,$B$14)+COUNTIF('Build Your Schedule'!AI$5:AI$8,$B$14))>0,1,0),0)","v":0},{"$f":"IF('Build Your Schedule'!AJ$9=$B$14,IF((COUNTIF('Build Your Schedule'!AI$11,$B$14)+COUNTIF('Build Your Schedule'!AJ$5:AJ$8,$B$14))>0,1,0),0)","v":0},{"$f":"IF('Build Your Schedule'!AK$9=$B$14,IF((COUNTIF('Build Your Schedule'!AJ$11,$B$14)+COUNTIF('Build Your Schedule'!AK$5:AK$8,$B$14))>0,1,0),0)","v":0}]
[null,"8p-5a",{"$f":"IF('Build Your Schedule'!H$10=$B$14,IF(COUNTIF('Build Your Schedule'!H$5:H$9,$B$14)>0,1,0),0)","v":0},{"$f":"IF('Build Your Schedule'!I$10=$B$14,IF(COUNTIF('Build Your Schedule'!I$5:I$9,$B$14)>0,1,0),0)","v":0},{"$f":"IF('Build Your Schedule'!J$10=$B$14,IF(COUNTIF('Build Your Schedule'!J$5:J$9,$B$14)>0,1,0),0)","v":0},{"$f":"IF('Build Your Schedule'!K$10=$B$14,IF(COUNTIF('Build Your Schedule'!K$5:K$9,$B$14)>0,1,0),0)","v":0},{"$f":"IF('Build Your Schedule'!L$10=$B$14,IF(COUNTIF('Build Your Schedule'!L$5:L$9,$B$14)>0,1,0),0)","v":0},{"$f":"IF('Build Your Schedule'!M$10=$B$14,IF(COUNTIF('Build Your Schedule'!M$5:M$9,$B$14)>0,1,0),0)","v":0},{"$f":"IF('Build Your Schedule'!N$10=$B$14,IF(COUNTIF('Build Your Schedule'!N$5:N$9,$B$14)>0,1,0),0)","v":0},{"$f":"IF('Build Your Schedule'!O$10=$B$14,IF(COUNTIF('Build Your Schedule'!O$5:O$9,$B$14)>0,1,0),0)","v":0},{"$f":"IF('Build Your Schedule'!P$10=$B$14,IF(COUNTIF('Build Your Schedule'!P$5:P$9,$B$14)>0,1,0),0)","v":0},{"$f":"IF('Build Your Schedule'!Q$10=$B$14,IF(COUNTIF('Build Your Schedule'!Q$5:Q$9,$B$14)>0,1,0),0)","v":0},{"$f":"IF('Build Your Schedule'!R$10=$B$14,IF(COUNTIF('Build Your Schedule'!R$5:R$9,$B$14)>0,1,0),0)","v":0},{"$f":"IF('Build Your Schedule'!S$10=$B$14,IF(COUNTIF('Build Your Schedule'!S$5:S$9,$B$14)>0,1,0),0)","v":0},{"$f":"IF('Build Your Schedule'!T$10=$B$14,IF(COUNTIF('Build Your Schedule'!T$5:T$9,$B$14)>0,1,0),0)","v":0},{"$f":"IF('Build Your Schedule'!U$10=$B$14,IF(COUNTIF('Build Your Schedule'!U$5:U$9,$B$14)>0,1,0),0)","v":0},{"$f":"IF('Build Your Schedule'!V$10=$B$14,IF(COUNTIF('Build Your Schedule'!V$5:V$9,$B$14)>0,1,0),0)","v":0},{"$f":"IF('Build Your Schedule'!W$10=$B$14,IF(COUNTIF('Build Your Schedule'!W$5:W$9,$B$14)>0,1,0),0)","v":0},{"$f":"IF('Build Your Schedule'!X$10=$B$14,IF(COUNTIF('Build Your Schedule'!X$5:X$9,$B$14)>0,1,0),0)","v":0},{"$f":"IF('Build Your Schedule'!Y$10=$B$14,IF(COUNTIF('Build Your Schedule'!Y$5:Y$9,$B$14)>0,1,0),0)","v":0},{"$f":"IF('Build Your Schedule'!Z$10=$B$14,IF(COUNTIF('Build Your Schedule'!Z$5:Z$9,$B$14)>0,1,0),0)","v":0},{"$f":"IF('Build Your Schedule'!AA$10=$B$14,IF(COUNTIF('Build Your Schedule'!AA$5:AA$9,$B$14)>0,1,0),0)","v":0},{"$f":"IF('Build Your Schedule'!AB$10=$B$14,IF(COUNTIF('Build Your Schedule'!AB$5:AB$9,$B$14)>0,1,0),0)","v":0},{"$f":"IF('Build Your Schedule'!AC$10=$B$14,IF(COUNTIF('Build Your Schedule'!AC$5:AC$9,$B$14)>0,1,0),0)","v":0},{"$f":"IF('Build Your Schedule'!AD$10=$B$14,IF(COUNTIF('Build Your Schedule'!AD$5:AD$9,$B$14)>0,1,0),0)","v":0},{"$f":"IF('Build Your Schedule'!AE$10=$B$14,IF(COUNTIF('Build Your Schedule'!AE$5:AE$9,$B$14)>0,1,0),0)","v":0},{"$f":"IF('Build Your Schedule'!AF$10=$B$14,IF(COUNTIF('Build Your Schedule'!AF$5:AF$9,$B$14)>0,1,0),0)","v":0},{"$f":"IF('Build Your Schedule'!AG$10=$B$14,IF(COUNTIF('Build Your Schedule'!AG$5:AG$9,$B$14)>0,1,0),0)","v":0},{"$f":"IF('Build Your Schedule'!AH$10=$B$14,IF(COUNTIF('Build Your Schedule'!AH$5:AH$9,$B$14)>0,1,0),0)","v":0},{"$f":"IF('Build Your Schedule'!AI$10=$B$14,IF(COUNTIF('Build Your Schedule'!AI$5:AI$9,$B$14)>0,1,0),0)","v":0},{"$f":"IF('Build Your Schedule'!AJ$10=$B$14,IF(COUNTIF('Build Your Schedule'!AJ$5:AJ$9,$B$14)>0,1,0),0)","v":0},{"$f":"IF('Build Your Schedule'!AK$10=$B$14,IF(COUNTIF('Build Your Schedule'!AK$5:AK$9,$B$14)>0,1,0),0)","v":0}]
[null,"11p-8a",{"$f":"IF('Build Your Schedule'!H$11=$B$14,IF(COUNTIF('Build Your Schedule'!H$5:H$10,$B$14)>0,1,0),0)","v":0},{"$f":"IF('Build Your Schedule'!I$11=$B$14,IF(COUNTIF('Build Your Schedule'!I$5:I$10,$B$14)>0,1,0),0)","v":0},{"$f":"IF('Build Your Schedule'!J$11=$B$14,IF(COUNTIF('Build Your Schedule'!J$5:J$10,$B$14)>0,1,0),0)","v":0},{"$f":"IF('Build Your Schedule'!K$11=$B$14,IF(COUNTIF('Build Your Schedule'!K$5:K$10,$B$14)>0,1,0),0)","v":0},{"$f":"IF('Build Your Schedule'!L$11=$B$14,IF(COUNTIF('Build Your Schedule'!L$5:L$10,$B$14)>0,1,0),0)","v":0},{"$f":"IF('Build Your Schedule'!M$11=$B$14,IF(COUNTIF('Build Your Schedule'!M$5:M$10,$B$14)>0,1,0),0)","v":0},{"$f":"IF('Build Your Schedule'!N$11=$B$14,IF(COUNTIF('Build Your Schedule'!N$5:N$10,$B$14)>0,1,0),0)","v":0},{"$f":"IF('Build Your Schedule'!O$11=$B$14,IF(COUNTIF('Build Your Schedule'!O$5:O$10,$B$14)>0,1,0),0)","v":0},{"$f":"IF('Build Your Schedule'!P$11=$B$14,IF(COUNTIF('Build Your Schedule'!P$5:P$10,$B$14)>0,1,0),0)","v":0},{"$f":"IF('Build Your Schedule'!Q$11=$B$14,IF(COUNTIF('Build Your Schedule'!Q$5:Q$10,$B$14)>0,1,0),0)","v":0},{"$f":"IF('Build Your Schedule'!R$11=$B$14,IF(COUNTIF('Build Your Schedule'!R$5:R$10,$B$14)>0,1,0),0)","v":0},{"$f":"IF('Build Your Schedule'!S$11=$B$14,IF(COUNTIF('Build Your Schedule'!S$5:S$10,$B$14)>0,1,0),0)","v":0},{"$f":"IF('Build Your Schedule'!T$11=$B$14,IF(COUNTIF('Build Your Schedule'!T$5:T$10,$B$14)>0,1,0),0)","v":0},{"$f":"IF('Build Your Schedule'!U$11=$B$14,IF(COUNTIF('Build Your Schedule'!U$5:U$10,$B$14)>0,1,0),0)","v":0},{"$f":"IF('Build Your Schedule'!V$11=$B$14,IF(COUNTIF('Build Your Schedule'!V$5:V$10,$B$14)>0,1,0),0)","v":0},{"$f":"IF('Build Your Schedule'!W$11=$B$14,IF(COUNTIF('Build Your Schedule'!W$5:W$10,$B$14)>0,1,0),0)","v":0},{"$f":"IF('Build Your Schedule'!X$11=$B$14,IF(COUNTIF('Build Your Schedule'!X$5:X$10,$B$14)>0,1,0),0)","v":0},{"$f":"IF('Build Your Schedule'!Y$11=$B$14,IF(COUNTIF('Build Your Schedule'!Y$5:Y$10,$B$14)>0,1,0),0)","v":0},{"$f":"IF('Build Your Schedule'!Z$11=$B$14,IF(COUNTIF('Build Your Schedule'!Z$5:Z$10,$B$14)>0,1,0),0)","v":0},{"$f":"IF('Build Your Schedule'!AA$11=$B$14,IF(COUNTIF('Build Your Schedule'!AA$5:AA$10,$B$14)>0,1,0),0)","v":0},{"$f":"IF('Build Your Schedule'!AB$11=$B$14,IF(COUNTIF('Build Your Schedule'!AB$5:AB$10,$B$14)>0,1,0),0)","v":0},{"$f":"IF('Build Your Schedule'!AC$11=$B$14,IF(COUNTIF('Build Your Schedule'!AC$5:AC$10,$B$14)>0,1,0),0)","v":0},{"$f":"IF('Build Your Schedule'!AD$11=$B$14,IF(COUNTIF('Build Your Schedule'!AD$5:AD$10,$B$14)>0,1,0),0)","v":0},{"$f":"IF('Build Your Schedule'!AE$11=$B$14,IF(COUNTIF('Build Your Schedule'!AE$5:AE$10,$B$14)>0,1,0),0)","v":0},{"$f":"IF('Build Your Schedule'!AF$11=$B$14,IF(COUNTIF('Build Your Schedule'!AF$5:AF$10,$B$14)>0,1,0),0)","v":0},{"$f":"IF('Build Your Schedule'!AG$11=$B$14,IF(COUNTIF('Build Your Schedule'!AG$5:AG$10,$B$14)>0,1,0),0)","v":0},{"$f":"IF('Build Your Schedule'!AH$11=$B$14,IF(COUNTIF('Build Your Schedule'!AH$5:AH$10,$B$14)>0,1,0),0)","v":0},{"$f":"IF('Build Your Schedule'!AI$11=$B$14,IF(COUNTIF('Build Your Schedule'!AI$5:AI$10,$B$14)>0,1,0),0)","v":0},{"$f":"IF('Build Your Schedule'!AJ$11=$B$14,IF(COUNTIF('Build Your Schedule'!AJ$5:AJ$10,$B$14)>0,1,0),0)","v":0},{"$f":"IF('Build Your Schedule'!AK$11=$B$14,IF(COUNTIF('Build Your Schedule'!AK$5:AK$10,$B$14)>0,1,0),0)","v":0}]
[]
[null,{"$f":"B15","v":"West"},"2015-06-01","2015-06-02","2015-06-03","2015-06-04","2015-06-05","2015-06-06","2015-06-07","2015-06-08","2015-06-09","2015-06-10","2015-06-11","2015-06-12","2015-06-13","2015-06-14","2015-06-15","2015-06-16","2015-06-17","2015-06-18","2015-06-19","2015-06-20","2015-06-21","2015-06-22","2015-06-23","2015-06-24","2015-06-25","2015-06-26","2015-06-27","2015-06-28","2015-06-29","2015-06-30"]
[null,"7a-4p",{"$f":"IF('Build Your Schedule'!H$5=$B$15,IF(COUNTIF('Build Your Schedule'!G$8:G$11,$B$15)>0,1,0),0)","v":0},{"$f":"IF('Build Your Schedule'!I$5=$B$15,IF(COUNTIF('Build Your Schedule'!H$8:H$11,$B$15)>0,1,0),0)","v":0},{"$f":"IF('Build Your Schedule'!J$5=$B$15,IF(COUNTIF('Build Your Schedule'!I$8:I$11,$B$15)>0,1,0),0)","v":0},{"$f":"IF('Build Your Schedule'!K$5=$B$15,IF(COUNTIF('Build Your Schedule'!J$8:J$11,$B$15)>0,1,0),0)","v":0},{"$f":"IF('Build Your Schedule'!L$5=$B$15,IF(COUNTIF('Build Your Schedule'!K$8:K$11,$B$15)>0,1,0),0)","v":0},{"$f":"IF('Build Your Schedule'!M$5=$B$15,IF(COUNTIF('Build Your Schedule'!L$8:L$11,$B$15)>0,1,0),0)","v":0},{"$f":"IF('Build Your Schedule'!N$5=$B$15,IF(COUNTIF('Build Your Schedule'!M$8:M$11,$B$15)>0,1,0),0)","v":0},{"$f":"IF('Build Your Schedule'!O$5=$B$15,IF(COUNTIF('Build Your Schedule'!N$8:N$11,$B$15)>0,1,0),0)","v":0},{"$f":"IF('Build Your Schedule'!P$5=$B$15,IF(COUNTIF('Build Your Schedule'!O$8:O$11,$B$15)>0,1,0),0)","v":0},{"$f":"IF('Build Your Schedule'!Q$5=$B$15,IF(COUNTIF('Build Your Schedule'!P$8:P$11,$B$15)>0,1,0),0)","v":0},{"$f":"IF('Build Your Schedule'!R$5=$B$15,IF(COUNTIF('Build Your Schedule'!Q$8:Q$11,$B$15)>0,1,0),0)","v":0},{"$f":"IF('Build Your Schedule'!S$5=$B$15,IF(COUNTIF('Build Your Schedule'!R$8:R$11,$B$15)>0,1,0),0)","v":0},{"$f":"IF('Build Your Schedule'!T$5=$B$15,IF(COUNTIF('Build Your Schedule'!S$8:S$11,$B$15)>0,1,0),0)","v":0},{"$f":"IF('Build Your Schedule'!U$5=$B$15,IF(COUNTIF('Build Your Schedule'!T$8:T$11,$B$15)>0,1,0),0)","v":0},{"$f":"IF('Build Your Schedule'!V$5=$B$15,IF(COUNTIF('Build Your Schedule'!U$8:U$11,$B$15)>0,1,0),0)","v":0},{"$f":"IF('Build Your Schedule'!W$5=$B$15,IF(COUNTIF('Build Your Schedule'!V$8:V$11,$B$15)>0,1,0),0)","v":0},{"$f":"IF('Build Your Schedule'!X$5=$B$15,IF(COUNTIF('Build Your Schedule'!W$8:W$11,$B$15)>0,1,0),0)","v":0},{"$f":"IF('Build Your Schedule'!Y$5=$B$15,IF(COUNTIF('Build Your Schedule'!X$8:X$11,$B$15)>0,1,0),0)","v":0},{"$f":"IF('Build Your Schedule'!Z$5=$B$15,IF(COUNTIF('Build Your Schedule'!Y$8:Y$11,$B$15)>0,1,0),0)","v":0},{"$f":"IF('Build Your Schedule'!AA$5=$B$15,IF(COUNTIF('Build Your Schedule'!Z$8:Z$11,$B$15)>0,1,0),0)","v":0},{"$f":"IF('Build Your Schedule'!AB$5=$B$15,IF(COUNTIF('Build Your Schedule'!AA$8:AA$11,$B$15)>0,1,0),0)","v":0},{"$f":"IF('Build Your Schedule'!AC$5=$B$15,IF(COUNTIF('Build Your Schedule'!AB$8:AB$11,$B$15)>0,1,0),0)","v":0},{"$f":"IF('Build Your Schedule'!AD$5=$B$15,IF(COUNTIF('Build Your Schedule'!AC$8:AC$11,$B$15)>0,1,0),0)","v":0},{"$f":"IF('Build Your Schedule'!AE$5=$B$15,IF(COUNTIF('Build Your Schedule'!AD$8:AD$11,$B$15)>0,1,0),0)","v":0},{"$f":"IF('Build Your Schedule'!AF$5=$B$15,IF(COUNTIF('Build Your Schedule'!AE$8:AE$11,$B$15)>0,1,0),0)","v":0},{"$f":"IF('Build Your Schedule'!AG$5=$B$15,IF(COUNTIF('Build Your Schedule'!AF$8:AF$11,$B$15)>0,1,0),0)","v":0},{"$f":"IF('Build Your Schedule'!AH$5=$B$15,IF(COUNTIF('Build Your Schedule'!AG$8:AG$11,$B$15)>0,1,0),0)","v":0},{"$f":"IF('Build Your Schedule'!AI$5=$B$15,IF(COUNTIF('Build Your Schedule'!AH$8:AH$11,$B$15)>0,1,0),0)","v":0},{"$f":"IF('Build Your Schedule'!AJ$5=$B$15,IF(COUNTIF('Build Your Schedule'!AI$8:AI$11,$B$15)>0,1,0),0)","v":0},{"$f":"IF('Build Your Schedule'!AK$5=$B$15,IF(COUNTIF('Build Your Schedule'!AJ$8:AJ$11,$B$15)>0,1,0),0)","v":0}]
[null,"9a-6p",{"$f":"IF('Build Your Schedule'!H$6=$B$15,IF((COUNTIF('Build Your Schedule'!G$8:G$11,$B$15)+COUNTIF('Build Your Schedule'!H$5,$B$15))>0,1,0),0)","v":0},{"$f":"IF('Build Your Schedule'!I$6=$B$15,IF((COUNTIF('Build Your Schedule'!H$8:H$11,$B$15)+COUNTIF('Build Your Schedule'!I$5,$B$15))>0,1,0),0)","v":0},{"$f":"IF('Build Your Schedule'!J$6=$B$15,IF((COUNTIF('Build Your Schedule'!I$8:I$11,$B$15)+COUNTIF('Build Your Schedule'!J$5,$B$15))>0,1,0),0)","v":0},{"$f":"IF('Build Your Schedule'!K$6=$B$15,IF((COUNTIF('Build Your Schedule'!J$8:J$11,$B$15)+COUNTIF('Build Your Schedule'!K$5,$B$15))>0,1,0),0)","v":0},{"$f":"IF('Build Your Schedule'!L$6=$B$15,IF((COUNTIF('Build Your Schedule'!K$8:K$11,$B$15)+COUNTIF('Build Your Schedule'!L$5,$B$15))>0,1,0),0)","v":0},{"$f":"IF('Build Your Schedule'!M$6=$B$15,IF((COUNTIF('Build Your Schedule'!L$8:L$11,$B$15)+COUNTIF('Build Your Schedule'!M$5,$B$15))>0,1,0),0)","v":0},{"$f":"IF('Build Your Schedule'!N$6=$B$15,IF((COUNTIF('Build Your Schedule'!M$8:M$11,$B$15)+COUNTIF('Build Your Schedule'!N$5,$B$15))>0,1,0),0)","v":0},{"$f":"IF('Build Your Schedule'!O$6=$B$15,IF((COUNTIF('Build Your Schedule'!N$8:N$11,$B$15)+COUNTIF('Build Your Schedule'!O$5,$B$15))>0,1,0),0)","v":0},{"$f":"IF('Build Your Schedule'!P$6=$B$15,IF((COUNTIF('Build Your Schedule'!O$8:O$11,$B$15)+COUNTIF('Build Your Schedule'!P$5,$B$15))>0,1,0),0)","v":0},{"$f":"IF('Build Your Schedule'!Q$6=$B$15,IF((COUNTIF('Build Your Schedule'!P$8:P$11,$B$15)+COUNTIF('Build Your Schedule'!Q$5,$B$15))>0,1,0),0)","v":0},{"$f":"IF('Build Your Schedule'!R$6=$B$15,IF((COUNTIF('Build Your Schedule'!Q$8:Q$11,$B$15)+COUNTIF('Build Your Schedule'!R$5,$B$15))>0,1,0),0)","v":0},{"$f":"IF('Build Your Schedule'!S$6=$B$15,IF((COUNTIF('Build Your Schedule'!R$8:R$11,$B$15)+COUNTIF('Build Your Schedule'!S$5,$B$15))>0,1,0),0)","v":0},{"$f":"IF('Build Your Schedule'!T$6=$B$15,IF((COUNTIF('Build Your Schedule'!S$8:S$11,$B$15)+COUNTIF('Build Your Schedule'!T$5,$B$15))>0,1,0),0)","v":0},{"$f":"IF('Build Your Schedule'!U$6=$B$15,IF((COUNTIF('Build Your Schedule'!T$8:T$11,$B$15)+COUNTIF('Build Your Schedule'!U$5,$B$15))>0,1,0),0)","v":0},{"$f":"IF('Build Your Schedule'!V$6=$B$15,IF((COUNTIF('Build Your Schedule'!U$8:U$11,$B$15)+COUNTIF('Build Your Schedule'!V$5,$B$15))>0,1,0),0)","v":0},{"$f":"IF('Build Your Schedule'!W$6=$B$15,IF((COUNTIF('Build Your Schedule'!V$8:V$11,$B$15)+COUNTIF('Build Your Schedule'!W$5,$B$15))>0,1,0),0)","v":0},{"$f":"IF('Build Your Schedule'!X$6=$B$15,IF((COUNTIF('Build Your Schedule'!W$8:W$11,$B$15)+COUNTIF('Build Your Schedule'!X$5,$B$15))>0,1,0),0)","v":0},{"$f":"IF('Build Your Schedule'!Y$6=$B$15,IF((COUNTIF('Build Your Schedule'!X$8:X$11,$B$15)+COUNTIF('Build Your Schedule'!Y$5,$B$15))>0,1,0),0)","v":0},{"$f":"IF('Build Your Schedule'!Z$6=$B$15,IF((COUNTIF('Build Your Schedule'!Y$8:Y$11,$B$15)+COUNTIF('Build Your Schedule'!Z$5,$B$15))>0,1,0),0)","v":0},{"$f":"IF('Build Your Schedule'!AA$6=$B$15,IF((COUNTIF('Build Your Schedule'!Z$8:Z$11,$B$15)+COUNTIF('Build Your Schedule'!AA$5,$B$15))>0,1,0),0)","v":0},{"$f":"IF('Build Your Schedule'!AB$6=$B$15,IF((COUNTIF('Build Your Schedule'!AA$8:AA$11,$B$15)+COUNTIF('Build Your Schedule'!AB$5,$B$15))>0,1,0),0)","v":0},{"$f":"IF('Build Your Schedule'!AC$6=$B$15,IF((COUNTIF('Build Your Schedule'!AB$8:AB$11,$B$15)+COUNTIF('Build Your Schedule'!AC$5,$B$15))>0,1,0),0)","v":0},{"$f":"IF('Build Your Schedule'!AD$6=$B$15,IF((COUNTIF('Build Your Schedule'!AC$8:AC$11,$B$15)+COUNTIF('Build Your Schedule'!AD$5,$B$15))>0,1,0),0)","v":0},{"$f":"IF('Build Your Schedule'!AE$6=$B$15,IF((COUNTIF('Build Your Schedule'!AD$8:AD$11,$B$15)+COUNTIF('Build Your Schedule'!AE$5,$B$15))>0,1,0),0)","v":0},{"$f":"IF('Build Your Schedule'!AF$6=$B$15,IF((COUNTIF('Build Your Schedule'!AE$8:AE$11,$B$15)+COUNTIF('Build Your Schedule'!AF$5,$B$15))>0,1,0),0)","v":0},{"$f":"IF('Build Your Schedule'!AG$6=$B$15,IF((COUNTIF('Build Your Schedule'!AF$8:AF$11,$B$15)+COUNTIF('Build Your Schedule'!AG$5,$B$15))>0,1,0),0)","v":0},{"$f":"IF('Build Your Schedule'!AH$6=$B$15,IF((COUNTIF('Build Your Schedule'!AG$8:AG$11,$B$15)+COUNTIF('Build Your Schedule'!AH$5,$B$15))>0,1,0),0)","v":0},{"$f":"IF('Build Your Schedule'!AI$6=$B$15,IF((COUNTIF('Build Your Schedule'!AH$8:AH$11,$B$15)+COUNTIF('Build Your Schedule'!AI$5,$B$15))>0,1,0),0)","v":0},{"$f":"IF('Build Your Schedule'!AJ$6=$B$15,IF((COUNTIF('Build Your Schedule'!AI$8:AI$11,$B$15)+COUNTIF('Build Your Schedule'!AJ$5,$B$15))>0,1,0),0)","v":0},{"$f":"IF('Build Your Schedule'!AK$6=$B$15,IF((COUNTIF('Build Your Schedule'!AJ$8:AJ$11,$B$15)+COUNTIF('Build Your Schedule'!AK$5,$B$15))>0,1,0),0)","v":0}]
[null,"12p-9p",{"$f":"IF('Build Your Schedule'!H$7=$B$15,IF((COUNTIF('Build Your Schedule'!G$10:G$11,$B$15)+COUNTIF('Build Your Schedule'!H$5:H$6,$B$15))>0,1,0),0)","v":0},{"$f":"IF('Build Your Schedule'!I$7=$B$15,IF((COUNTIF('Build Your Schedule'!H$10:H$11,$B$15)+COUNTIF('Build Your Schedule'!I$5:I$6,$B$15))>0,1,0),0)","v":0},{"$f":"IF('Build Your Schedule'!J$7=$B$15,IF((COUNTIF('Build Your Schedule'!I$10:I$11,$B$15)+COUNTIF('Build Your Schedule'!J$5:J$6,$B$15))>0,1,0),0)","v":0},{"$f":"IF('Build Your Schedule'!K$7=$B$15,IF((COUNTIF('Build Your Schedule'!J$10:J$11,$B$15)+COUNTIF('Build Your Schedule'!K$5:K$6,$B$15))>0,1,0),0)","v":0},{"$f":"IF('Build Your Schedule'!L$7=$B$15,IF((COUNTIF('Build Your Schedule'!K$10:K$11,$B$15)+COUNTIF('Build Your Schedule'!L$5:L$6,$B$15))>0,1,0),0)","v":0},{"$f":"IF('Build Your Schedule'!M$7=$B$15,IF((COUNTIF('Build Your Schedule'!L$10:L$11,$B$15)+COUNTIF('Build Your Schedule'!M$5:M$6,$B$15))>0,1,0),0)","v":0},{"$f":"IF('Build Your Schedule'!N$7=$B$15,IF((COUNTIF('Build Your Schedule'!M$10:M$11,$B$15)+COUNTIF('Build Your Schedule'!N$5:N$6,$B$15))>0,1,0),0)","v":0},{"$f":"IF('Build Your Schedule'!O$7=$B$15,IF((COUNTIF('Build Your Schedule'!N$10:N$11,$B$15)+COUNTIF('Build Your Schedule'!O$5:O$6,$B$15))>0,1,0),0)","v":0},{"$f":"IF('Build Your Schedule'!P$7=$B$15,IF((COUNTIF('Build Your Schedule'!O$10:O$11,$B$15)+COUNTIF('Build Your Schedule'!P$5:P$6,$B$15))>0,1,0),0)","v":0},{"$f":"IF('Build Your Schedule'!Q$7=$B$15,IF((COUNTIF('Build Your Schedule'!P$10:P$11,$B$15)+COUNTIF('Build Your Schedule'!Q$5:Q$6,$B$15))>0,1,0),0)","v":0},{"$f":"IF('Build Your Schedule'!R$7=$B$15,IF((COUNTIF('Build Your Schedule'!Q$10:Q$11,$B$15)+COUNTIF('Build Your Schedule'!R$5:R$6,$B$15))>0,1,0),0)","v":0},{"$f":"IF('Build Your Schedule'!S$7=$B$15,IF((COUNTIF('Build Your Schedule'!R$10:R$11,$B$15)+COUNTIF('Build Your Schedule'!S$5:S$6,$B$15))>0,1,0),0)","v":0},{"$f":"IF('Build Your Schedule'!T$7=$B$15,IF((COUNTIF('Build Your Schedule'!S$10:S$11,$B$15)+COUNTIF('Build Your Schedule'!T$5:T$6,$B$15))>0,1,0),0)","v":0},{"$f":"IF('Build Your Schedule'!U$7=$B$15,IF((COUNTIF('Build Your Schedule'!T$10:T$11,$B$15)+COUNTIF('Build Your Schedule'!U$5:U$6,$B$15))>0,1,0),0)","v":0},{"$f":"IF('Build Your Schedule'!V$7=$B$15,IF((COUNTIF('Build Your Schedule'!U$10:U$11,$B$15)+COUNTIF('Build Your Schedule'!V$5:V$6,$B$15))>0,1,0),0)","v":0},{"$f":"IF('Build Your Schedule'!W$7=$B$15,IF((COUNTIF('Build Your Schedule'!V$10:V$11,$B$15)+COUNTIF('Build Your Schedule'!W$5:W$6,$B$15))>0,1,0),0)","v":0},{"$f":"IF('Build Your Schedule'!X$7=$B$15,IF((COUNTIF('Build Your Schedule'!W$10:W$11,$B$15)+COUNTIF('Build Your Schedule'!X$5:X$6,$B$15))>0,1,0),0)","v":0},{"$f":"IF('Build Your Schedule'!Y$7=$B$15,IF((COUNTIF('Build Your Schedule'!X$10:X$11,$B$15)+COUNTIF('Build Your Schedule'!Y$5:Y$6,$B$15))>0,1,0),0)","v":0},{"$f":"IF('Build Your Schedule'!Z$7=$B$15,IF((COUNTIF('Build Your Schedule'!Y$10:Y$11,$B$15)+COUNTIF('Build Your Schedule'!Z$5:Z$6,$B$15))>0,1,0),0)","v":0},{"$f":"IF('Build Your Schedule'!AA$7=$B$15,IF((COUNTIF('Build Your Schedule'!Z$10:Z$11,$B$15)+COUNTIF('Build Your Schedule'!AA$5:AA$6,$B$15))>0,1,0),0)","v":0},{"$f":"IF('Build Your Schedule'!AB$7=$B$15,IF((COUNTIF('Build Your Schedule'!AA$10:AA$11,$B$15)+COUNTIF('Build Your Schedule'!AB$5:AB$6,$B$15))>0,1,0),0)","v":0},{"$f":"IF('Build Your Schedule'!AC$7=$B$15,IF((COUNTIF('Build Your Schedule'!AB$10:AB$11,$B$15)+COUNTIF('Build Your Schedule'!AC$5:AC$6,$B$15))>0,1,0),0)","v":0},{"$f":"IF('Build Your Schedule'!AD$7=$B$15,IF((COUNTIF('Build Your Schedule'!AC$10:AC$11,$B$15)+COUNTIF('Build Your Schedule'!AD$5:AD$6,$B$15))>0,1,0),0)","v":0},{"$f":"IF('Build Your Schedule'!AE$7=$B$15,IF((COUNTIF('Build Your Schedule'!AD$10:AD$11,$B$15)+COUNTIF('Build Your Schedule'!AE$5:AE$6,$B$15))>0,1,0),0)","v":0},{"$f":"IF('Build Your Schedule'!AF$7=$B$15,IF((COUNTIF('Build Your Schedule'!AE$10:AE$11,$B$15)+COUNTIF('Build Your Schedule'!AF$5:AF$6,$B$15))>0,1,0),0)","v":0},{"$f":"IF('Build Your Schedule'!AG$7=$B$15,IF((COUNTIF('Build Your Schedule'!AF$10:AF$11,$B$15)+COUNTIF('Build Your Schedule'!AG$5:AG$6,$B$15))>0,1,0),0)","v":0},{"$f":"IF('Build Your Schedule'!AH$7=$B$15,IF((COUNTIF('Build Your Schedule'!AG$10:AG$11,$B$15)+COUNTIF('Build Your Schedule'!AH$5:AH$6,$B$15))>0,1,0),0)","v":0},{"$f":"IF('Build Your Schedule'!AI$7=$B$15,IF((COUNTIF('Build Your Schedule'!AH$10:AH$11,$B$15)+COUNTIF('Build Your Schedule'!AI$5:AI$6,$B$15))>0,1,0),0)","v":0},{"$f":"IF('Build Your Schedule'!AJ$7=$B$15,IF((COUNTIF('Build Your Schedule'!AI$10:AI$11,$B$15)+COUNTIF('Build Your Schedule'!AJ$5:AJ$6,$B$15))>0,1,0),0)","v":0},{"$f":"IF('Build Your Schedule'!AK$7=$B$15,IF((COUNTIF('Build Your Schedule'!AJ$10:AJ$11,$B$15)+COUNTIF('Build Your Schedule'!AK$5:AK$6,$B$15))>0,1,0),0)","v":0}]
[null,"4p-1a",{"$f":"IF('Build Your Schedule'!H$8=$B$15,IF((COUNTIF('Build Your Schedule'!G$11,$B$15)+COUNTIF('Build Your Schedule'!H$5:H$7,$B$15))>0,1,0),0)","v":0},{"$f":"IF('Build Your Schedule'!I$8=$B$15,IF((COUNTIF('Build Your Schedule'!H$11,$B$15)+COUNTIF('Build Your Schedule'!I$5:I$7,$B$15))>0,1,0),0)","v":0},{"$f":"IF('Build Your Schedule'!J$8=$B$15,IF((COUNTIF('Build Your Schedule'!I$11,$B$15)+COUNTIF('Build Your Schedule'!J$5:J$7,$B$15))>0,1,0),0)","v":0},{"$f":"IF('Build Your Schedule'!K$8=$B$15,IF((COUNTIF('Build Your Schedule'!J$11,$B$15)+COUNTIF('Build Your Schedule'!K$5:K$7,$B$15))>0,1,0),0)","v":0},{"$f":"IF('Build Your Schedule'!L$8=$B$15,IF((COUNTIF('Build Your Schedule'!K$11,$B$15)+COUNTIF('Build Your Schedule'!L$5:L$7,$B$15))>0,1,0),0)","v":0},{"$f":"IF('Build Your Schedule'!M$8=$B$15,IF((COUNTIF('Build Your Schedule'!L$11,$B$15)+COUNTIF('Build Your Schedule'!M$5:M$7,$B$15))>0,1,0),0)","v":0},{"$f":"IF('Build Your Schedule'!N$8=$B$15,IF((COUNTIF('Build Your Schedule'!M$11,$B$15)+COUNTIF('Build Your Schedule'!N$5:N$7,$B$15))>0,1,0),0)","v":0},{"$f":"IF('Build Your Schedule'!O$8=$B$15,IF((COUNTIF('Build Your Schedule'!N$11,$B$15)+COUNTIF('Build Your Schedule'!O$5:O$7,$B$15))>0,1,0),0)","v":0},{"$f":"IF('Build Your Schedule'!P$8=$B$15,IF((COUNTIF('Build Your Schedule'!O$11,$B$15)+COUNTIF('Build Your Schedule'!P$5:P$7,$B$15))>0,1,0),0)","v":0},{"$f":"IF('Build Your Schedule'!Q$8=$B$15,IF((COUNTIF('Build Your Schedule'!P$11,$B$15)+COUNTIF('Build Your Schedule'!Q$5:Q$7,$B$15))>0,1,0),0)","v":0},{"$f":"IF('Build Your Schedule'!R$8=$B$15,IF((COUNTIF('Build Your Schedule'!Q$11,$B$15)+COUNTIF('Build Your Schedule'!R$5:R$7,$B$15))>0,1,0),0)","v":0},{"$f":"IF('Build Your Schedule'!S$8=$B$15,IF((COUNTIF('Build Your Schedule'!R$11,$B$15)+COUNTIF('Build Your Schedule'!S$5:S$7,$B$15))>0,1,0),0)","v":0},{"$f":"IF('Build Your Schedule'!T$8=$B$15,IF((COUNTIF('Build Your Schedule'!S$11,$B$15)+COUNTIF('Build Your Schedule'!T$5:T$7,$B$15))>0,1,0),0)","v":0},{"$f":"IF('Build Your Schedule'!U$8=$B$15,IF((COUNTIF('Build Your Schedule'!T$11,$B$15)+COUNTIF('Build Your Schedule'!U$5:U$7,$B$15))>0,1,0),0)","v":0},{"$f":"IF('Build Your Schedule'!V$8=$B$15,IF((COUNTIF('Build Your Schedule'!U$11,$B$15)+COUNTIF('Build Your Schedule'!V$5:V$7,$B$15))>0,1,0),0)","v":0},{"$f":"IF('Build Your Schedule'!W$8=$B$15,IF((COUNTIF('Build Your Schedule'!V$11,$B$15)+COUNTIF('Build Your Schedule'!W$5:W$7,$B$15))>0,1,0),0)","v":0},{"$f":"IF('Build Your Schedule'!X$8=$B$15,IF((COUNTIF('Build Your Schedule'!W$11,$B$15)+COUNTIF('Build Your Schedule'!X$5:X$7,$B$15))>0,1,0),0)","v":0},{"$f":"IF('Build Your Schedule'!Y$8=$B$15,IF((COUNTIF('Build Your Schedule'!X$11,$B$15)+COUNTIF('Build Your Schedule'!Y$5:Y$7,$B$15))>0,1,0),0)","v":0},{"$f":"IF('Build Your Schedule'!Z$8=$B$15,IF((COUNTIF('Build Your Schedule'!Y$11,$B$15)+COUNTIF('Build Your Schedule'!Z$5:Z$7,$B$15))>0,1,0),0)","v":0},{"$f":"IF('Build Your Schedule'!AA$8=$B$15,IF((COUNTIF('Build Your Schedule'!Z$11,$B$15)+COUNTIF('Build Your Schedule'!AA$5:AA$7,$B$15))>0,1,0),0)","v":0},{"$f":"IF('Build Your Schedule'!AB$8=$B$15,IF((COUNTIF('Build Your Schedule'!AA$11,$B$15)+COUNTIF('Build Your Schedule'!AB$5:AB$7,$B$15))>0,1,0),0)","v":0},{"$f":"IF('Build Your Schedule'!AC$8=$B$15,IF((COUNTIF('Build Your Schedule'!AB$11,$B$15)+COUNTIF('Build Your Schedule'!AC$5:AC$7,$B$15))>0,1,0),0)","v":0},{"$f":"IF('Build Your Schedule'!AD$8=$B$15,IF((COUNTIF('Build Your Schedule'!AC$11,$B$15)+COUNTIF('Build Your Schedule'!AD$5:AD$7,$B$15))>0,1,0),0)","v":0},{"$f":"IF('Build Your Schedule'!AE$8=$B$15,IF((COUNTIF('Build Your Schedule'!AD$11,$B$15)+COUNTIF('Build Your Schedule'!AE$5:AE$7,$B$15))>0,1,0),0)","v":0},{"$f":"IF('Build Your Schedule'!AF$8=$B$15,IF((COUNTIF('Build Your Schedule'!AE$11,$B$15)+COUNTIF('Build Your Schedule'!AF$5:AF$7,$B$15))>0,1,0),0)","v":0},{"$f":"IF('Build Your Schedule'!AG$8=$B$15,IF((COUNTIF('Build Your Schedule'!AF$11,$B$15)+COUNTIF('Build Your Schedule'!AG$5:AG$7,$B$15))>0,1,0),0)","v":0},{"$f":"IF('Build Your Schedule'!AH$8=$B$15,IF((COUNTIF('Build Your Schedule'!AG$11,$B$15)+COUNTIF('Build Your Schedule'!AH$5:AH$7,$B$15))>0,1,0),0)","v":0},{"$f":"IF('Build Your Schedule'!AI$8=$B$15,IF((COUNTIF('Build Your Schedule'!AH$11,$B$15)+COUNTIF('Build Your Schedule'!AI$5:AI$7,$B$15))>0,1,0),0)","v":0},{"$f":"IF('Build Your Schedule'!AJ$8=$B$15,IF((COUNTIF('Build Your Schedule'!AI$11,$B$15)+COUNTIF('Build Your Schedule'!AJ$5:AJ$7,$B$15))>0,1,0),0)","v":0},{"$f":"IF('Build Your Schedule'!AK$8=$B$15,IF((COUNTIF('Build Your Schedule'!AJ$11,$B$15)+COUNTIF('Build Your Schedule'!AK$5:AK$7,$B$15))>0,1,0),0)","v":0}]
[null,"5p-2a",{"$f":"IF('Build Your Schedule'!H$9=$B$15,IF((COUNTIF('Build Your Schedule'!G$11,$B$15)+COUNTIF('Build Your Schedule'!H$5:H$8,$B$15))>0,1,0),0)","v":0},{"$f":"IF('Build Your Schedule'!I$9=$B$15,IF((COUNTIF('Build Your Schedule'!H$11,$B$15)+COUNTIF('Build Your Schedule'!I$5:I$8,$B$15))>0,1,0),0)","v":0},{"$f":"IF('Build Your Schedule'!J$9=$B$15,IF((COUNTIF('Build Your Schedule'!I$11,$B$15)+COUNTIF('Build Your Schedule'!J$5:J$8,$B$15))>0,1,0),0)","v":0},{"$f":"IF('Build Your Schedule'!K$9=$B$15,IF((COUNTIF('Build Your Schedule'!J$11,$B$15)+COUNTIF('Build Your Schedule'!K$5:K$8,$B$15))>0,1,0),0)","v":0},{"$f":"IF('Build Your Schedule'!L$9=$B$15,IF((COUNTIF('Build Your Schedule'!K$11,$B$15)+COUNTIF('Build Your Schedule'!L$5:L$8,$B$15))>0,1,0),0)","v":0},{"$f":"IF('Build Your Schedule'!M$9=$B$15,IF((COUNTIF('Build Your Schedule'!L$11,$B$15)+COUNTIF('Build Your Schedule'!M$5:M$8,$B$15))>0,1,0),0)","v":0},{"$f":"IF('Build Your Schedule'!N$9=$B$15,IF((COUNTIF('Build Your Schedule'!M$11,$B$15)+COUNTIF('Build Your Schedule'!N$5:N$8,$B$15))>0,1,0),0)","v":0},{"$f":"IF('Build Your Schedule'!O$9=$B$15,IF((COUNTIF('Build Your Schedule'!N$11,$B$15)+COUNTIF('Build Your Schedule'!O$5:O$8,$B$15))>0,1,0),0)","v":0},{"$f":"IF('Build Your Schedule'!P$9=$B$15,IF((COUNTIF('Build Your Schedule'!O$11,$B$15)+COUNTIF('Build Your Schedule'!P$5:P$8,$B$15))>0,1,0),0)","v":0},{"$f":"IF('Build Your Schedule'!Q$9=$B$15,IF((COUNTIF('Build Your Schedule'!P$11,$B$15)+COUNTIF('Build Your Schedule'!Q$5:Q$8,$B$15))>0,1,0),0)","v":0},{"$f":"IF('Build Your Schedule'!R$9=$B$15,IF((COUNTIF('Build Your Schedule'!Q$11,$B$15)+COUNTIF('Build Your Schedule'!R$5:R$8,$B$15))>0,1,0),0)","v":0},{"$f":"IF('Build Your Schedule'!S$9=$B$15,IF((COUNTIF('Build Your Schedule'!R$11,$B$15)+COUNTIF('Build Your Schedule'!S$5:S$8,$B$15))>0,1,0),0)","v":0},{"$f":"IF('Build Your Schedule'!T$9=$B$15,IF((COUNTIF('Build Your Schedule'!S$11,$B$15)+COUNTIF('Build Your Schedule'!T$5:T$8,$B$15))>0,1,0),0)","v":0},{"$f":"IF('Build Your Schedule'!U$9=$B$15,IF((COUNTIF('Build Your Schedule'!T$11,$B$15)+COUNTIF('Build Your Schedule'!U$5:U$8,$B$15))>0,1,0),0)","v":0},{"$f":"IF('Build Your Schedule'!V$9=$B$15,IF((COUNTIF('Build Your Schedule'!U$11,$B$15)+COUNTIF('Build Your Schedule'!V$5:V$8,$B$15))>0,1,0),0)","v":0},{"$f":"IF('Build Your Schedule'!W$9=$B$15,IF((COUNTIF('Build Your Schedule'!V$11,$B$15)+COUNTIF('Build Your Schedule'!W$5:W$8,$B$15))>0,1,0),0)","v":0},{"$f":"IF('Build Your Schedule'!X$9=$B$15,IF((COUNTIF('Build Your Schedule'!W$11,$B$15)+COUNTIF('Build Your Schedule'!X$5:X$8,$B$15))>0,1,0),0)","v":0},{"$f":"IF('Build Your Schedule'!Y$9=$B$15,IF((COUNTIF('Build Your Schedule'!X$11,$B$15)+COUNTIF('Build Your Schedule'!Y$5:Y$8,$B$15))>0,1,0),0)","v":0},{"$f":"IF('Build Your Schedule'!Z$9=$B$15,IF((COUNTIF('Build Your Schedule'!Y$11,$B$15)+COUNTIF('Build Your Schedule'!Z$5:Z$8,$B$15))>0,1,0),0)","v":0},{"$f":"IF('Build Your Schedule'!AA$9=$B$15,IF((COUNTIF('Build Your Schedule'!Z$11,$B$15)+COUNTIF('Build Your Schedule'!AA$5:AA$8,$B$15))>0,1,0),0)","v":0},{"$f":"IF('Build Your Schedule'!AB$9=$B$15,IF((COUNTIF('Build Your Schedule'!AA$11,$B$15)+COUNTIF('Build Your Schedule'!AB$5:AB$8,$B$15))>0,1,0),0)","v":0},{"$f":"IF('Build Your Schedule'!AC$9=$B$15,IF((COUNTIF('Build Your Schedule'!AB$11,$B$15)+COUNTIF('Build Your Schedule'!AC$5:AC$8,$B$15))>0,1,0),0)","v":0},{"$f":"IF('Build Your Schedule'!AD$9=$B$15,IF((COUNTIF('Build Your Schedule'!AC$11,$B$15)+COUNTIF('Build Your Schedule'!AD$5:AD$8,$B$15))>0,1,0),0)","v":0},{"$f":"IF('Build Your Schedule'!AE$9=$B$15,IF((COUNTIF('Build Your Schedule'!AD$11,$B$15)+COUNTIF('Build Your Schedule'!AE$5:AE$8,$B$15))>0,1,0),0)","v":0},{"$f":"IF('Build Your Schedule'!AF$9=$B$15,IF((COUNTIF('Build Your Schedule'!AE$11,$B$15)+COUNTIF('Build Your Schedule'!AF$5:AF$8,$B$15))>0,1,0),0)","v":0},{"$f":"IF('Build Your Schedule'!AG$9=$B$15,IF((COUNTIF('Build Your Schedule'!AF$11,$B$15)+COUNTIF('Build Your Schedule'!AG$5:AG$8,$B$15))>0,1,0),0)","v":0},{"$f":"IF('Build Your Schedule'!AH$9=$B$15,IF((COUNTIF('Build Your Schedule'!AG$11,$B$15)+COUNTIF('Build Your Schedule'!AH$5:AH$8,$B$15))>0,1,0),0)","v":0},{"$f":"IF('Build Your Schedule'!AI$9=$B$15,IF((COUNTIF('Build Your Schedule'!AH$11,$B$15)+COUNTIF('Build Your Schedule'!AI$5:AI$8,$B$15))>0,1,0),0)","v":0},{"$f":"IF('Build Your Schedule'!AJ$9=$B$15,IF((COUNTIF('Build Your Schedule'!AI$11,$B$15)+COUNTIF('Build Your Schedule'!AJ$5:AJ$8,$B$15))>0,1,0),0)","v":0},{"$f":"IF('Build Your Schedule'!AK$9=$B$15,IF((COUNTIF('Build Your Schedule'!AJ$11,$B$15)+COUNTIF('Build Your Schedule'!AK$5:AK$8,$B$15))>0,1,0),0)","v":0}]
[null,"8p-5a",{"$f":"IF('Build Your Schedule'!H$10=$B$15,IF(COUNTIF('Build Your Schedule'!H$5:H$9,$B$15)>0,1,0),0)","v":0},{"$f":"IF('Build Your Schedule'!I$10=$B$15,IF(COUNTIF('Build Your Schedule'!I$5:I$9,$B$15)>0,1,0),0)","v":0},{"$f":"IF('Build Your Schedule'!J$10=$B$15,IF(COUNTIF('Build Your Schedule'!J$5:J$9,$B$15)>0,1,0),0)","v":0},{"$f":"IF('Build Your Schedule'!K$10=$B$15,IF(COUNTIF('Build Your Schedule'!K$5:K$9,$B$15)>0,1,0),0)","v":0},{"$f":"IF('Build Your Schedule'!L$10=$B$15,IF(COUNTIF('Build Your Schedule'!L$5:L$9,$B$15)>0,1,0),0)","v":0},{"$f":"IF('Build Your Schedule'!M$10=$B$15,IF(COUNTIF('Build Your Schedule'!M$5:M$9,$B$15)>0,1,0),0)","v":0},{"$f":"IF('Build Your Schedule'!N$10=$B$15,IF(COUNTIF('Build Your Schedule'!N$5:N$9,$B$15)>0,1,0),0)","v":0},{"$f":"IF('Build Your Schedule'!O$10=$B$15,IF(COUNTIF('Build Your Schedule'!O$5:O$9,$B$15)>0,1,0),0)","v":0},{"$f":"IF('Build Your Schedule'!P$10=$B$15,IF(COUNTIF('Build Your Schedule'!P$5:P$9,$B$15)>0,1,0),0)","v":0},{"$f":"IF('Build Your Schedule'!Q$10=$B$15,IF(COUNTIF('Build Your Schedule'!Q$5:Q$9,$B$15)>0,1,0),0)","v":0},{"$f":"IF('Build Your Schedule'!R$10=$B$15,IF(COUNTIF('Build Your Schedule'!R$5:R$9,$B$15)>0,1,0),0)","v":0},{"$f":"IF('Build Your Schedule'!S$10=$B$15,IF(COUNTIF('Build Your Schedule'!S$5:S$9,$B$15)>0,1,0),0)","v":0},{"$f":"IF('Build Your Schedule'!T$10=$B$15,IF(COUNTIF('Build Your Schedule'!T$5:T$9,$B$15)>0,1,0),0)","v":0},{"$f":"IF('Build Your Schedule'!U$10=$B$15,IF(COUNTIF('Build Your Schedule'!U$5:U$9,$B$15)>0,1,0),0)","v":0},{"$f":"IF('Build Your Schedule'!V$10=$B$15,IF(COUNTIF('Build Your Schedule'!V$5:V$9,$B$15)>0,1,0),0)","v":0},{"$f":"IF('Build Your Schedule'!W$10=$B$15,IF(COUNTIF('Build Your Schedule'!W$5:W$9,$B$15)>0,1,0),0)","v":0},{"$f":"IF('Build Your Schedule'!X$10=$B$15,IF(COUNTIF('Build Your Schedule'!X$5:X$9,$B$15)>0,1,0),0)","v":0},{"$f":"IF('Build Your Schedule'!Y$10=$B$15,IF(COUNTIF('Build Your Schedule'!Y$5:Y$9,$B$15)>0,1,0),0)","v":0},{"$f":"IF('Build Your Schedule'!Z$10=$B$15,IF(COUNTIF('Build Your Schedule'!Z$5:Z$9,$B$15)>0,1,0),0)","v":0},{"$f":"IF('Build Your Schedule'!AA$10=$B$15,IF(COUNTIF('Build Your Schedule'!AA$5:AA$9,$B$15)>0,1,0),0)","v":0},{"$f":"IF('Build Your Schedule'!AB$10=$B$15,IF(COUNTIF('Build Your Schedule'!AB$5:AB$9,$B$15)>0,1,0),0)","v":0},{"$f":"IF('Build Your Schedule'!AC$10=$B$15,IF(COUNTIF('Build Your Schedule'!AC$5:AC$9,$B$15)>0,1,0),0)","v":0},{"$f":"IF('Build Your Schedule'!AD$10=$B$15,IF(COUNTIF('Build Your Schedule'!AD$5:AD$9,$B$15)>0,1,0),0)","v":0},{"$f":"IF('Build Your Schedule'!AE$10=$B$15,IF(COUNTIF('Build Your Schedule'!AE$5:AE$9,$B$15)>0,1,0),0)","v":0},{"$f":"IF('Build Your Schedule'!AF$10=$B$15,IF(COUNTIF('Build Your Schedule'!AF$5:AF$9,$B$15)>0,1,0),0)","v":0},{"$f":"IF('Build Your Schedule'!AG$10=$B$15,IF(COUNTIF('Build Your Schedule'!AG$5:AG$9,$B$15)>0,1,0),0)","v":0},{"$f":"IF('Build Your Schedule'!AH$10=$B$15,IF(COUNTIF('Build Your Schedule'!AH$5:AH$9,$B$15)>0,1,0),0)","v":0},{"$f":"IF('Build Your Schedule'!AI$10=$B$15,IF(COUNTIF('Build Your Schedule'!AI$5:AI$9,$B$15)>0,1,0),0)","v":0},{"$f":"IF('Build Your Schedule'!AJ$10=$B$15,IF(COUNTIF('Build Your Schedule'!AJ$5:AJ$9,$B$15)>0,1,0),0)","v":0},{"$f":"IF('Build Your Schedule'!AK$10=$B$15,IF(COUNTIF('Build Your Schedule'!AK$5:AK$9,$B$15)>0,1,0),0)","v":0}]
[null,"11p-8a",{"$f":"IF('Build Your Schedule'!H$11=$B$15,IF(COUNTIF('Build Your Schedule'!H$5:H$10,$B$15)>0,1,0),0)","v":0},{"$f":"IF('Build Your Schedule'!I$11=$B$15,IF(COUNTIF('Build Your Schedule'!I$5:I$10,$B$15)>0,1,0),0)","v":0},{"$f":"IF('Build Your Schedule'!J$11=$B$15,IF(COUNTIF('Build Your Schedule'!J$5:J$10,$B$15)>0,1,0),0)","v":0},{"$f":"IF('Build Your Schedule'!K$11=$B$15,IF(COUNTIF('Build Your Schedule'!K$5:K$10,$B$15)>0,1,0),0)","v":0},{"$f":"IF('Build Your Schedule'!L$11=$B$15,IF(COUNTIF('Build Your Schedule'!L$5:L$10,$B$15)>0,1,0),0)","v":0},{"$f":"IF('Build Your Schedule'!M$11=$B$15,IF(COUNTIF('Build Your Schedule'!M$5:M$10,$B$15)>0,1,0),0)","v":0},{"$f":"IF('Build Your Schedule'!N$11=$B$15,IF(COUNTIF('Build Your Schedule'!N$5:N$10,$B$15)>0,1,0),0)","v":0},{"$f":"IF('Build Your Schedule'!O$11=$B$15,IF(COUNTIF('Build Your Schedule'!O$5:O$10,$B$15)>0,1,0),0)","v":0},{"$f":"IF('Build Your Schedule'!P$11=$B$15,IF(COUNTIF('Build Your Schedule'!P$5:P$10,$B$15)>0,1,0),0)","v":0},{"$f":"IF('Build Your Schedule'!Q$11=$B$15,IF(COUNTIF('Build Your Schedule'!Q$5:Q$10,$B$15)>0,1,0),0)","v":0},{"$f":"IF('Build Your Schedule'!R$11=$B$15,IF(COUNTIF('Build Your Schedule'!R$5:R$10,$B$15)>0,1,0),0)","v":0},{"$f":"IF('Build Your Schedule'!S$11=$B$15,IF(COUNTIF('Build Your Schedule'!S$5:S$10,$B$15)>0,1,0),0)","v":0},{"$f":"IF('Build Your Schedule'!T$11=$B$15,IF(COUNTIF('Build Your Schedule'!T$5:T$10,$B$15)>0,1,0),0)","v":0},{"$f":"IF('Build Your Schedule'!U$11=$B$15,IF(COUNTIF('Build Your Schedule'!U$5:U$10,$B$15)>0,1,0),0)","v":0},{"$f":"IF('Build Your Schedule'!V$11=$B$15,IF(COUNTIF('Build Your Schedule'!V$5:V$10,$B$15)>0,1,0),0)","v":0},{"$f":"IF('Build Your Schedule'!W$11=$B$15,IF(COUNTIF('Build Your Schedule'!W$5:W$10,$B$15)>0,1,0),0)","v":0},{"$f":"IF('Build Your Schedule'!X$11=$B$15,IF(COUNTIF('Build Your Schedule'!X$5:X$10,$B$15)>0,1,0),0)","v":0},{"$f":"IF('Build Your Schedule'!Y$11=$B$15,IF(COUNTIF('Build Your Schedule'!Y$5:Y$10,$B$15)>0,1,0),0)","v":0},{"$f":"IF('Build Your Schedule'!Z$11=$B$15,IF(COUNTIF('Build Your Schedule'!Z$5:Z$10,$B$15)>0,1,0),0)","v":0},{"$f":"IF('Build Your Schedule'!AA$11=$B$15,IF(COUNTIF('Build Your Schedule'!AA$5:AA$10,$B$15)>0,1,0),0)","v":0},{"$f":"IF('Build Your Schedule'!AB$11=$B$15,IF(COUNTIF('Build Your Schedule'!AB$5:AB$10,$B$15)>0,1,0),0)","v":0},{"$f":"IF('Build Your Schedule'!AC$11=$B$15,IF(COUNTIF('Build Your Schedule'!AC$5:AC$10,$B$15)>0,1,0),0)","v":0},{"$f":"IF('Build Your Schedule'!AD$11=$B$15,IF(COUNTIF('Build Your Schedule'!AD$5:AD$10,$B$15)>0,1,0),0)","v":0},{"$f":"IF('Build Your Schedule'!AE$11=$B$15,IF(COUNTIF('Build Your Schedule'!AE$5:AE$10,$B$15)>0,1,0),0)","v":0},{"$f":"IF('Build Your Schedule'!AF$11=$B$15,IF(COUNTIF('Build Your Schedule'!AF$5:AF$10,$B$15)>0,1,0),0)","v":0},{"$f":"IF('Build Your Schedule'!AG$11=$B$15,IF(COUNTIF('Build Your Schedule'!AG$5:AG$10,$B$15)>0,1,0),0)","v":0},{"$f":"IF('Build Your Schedule'!AH$11=$B$15,IF(COUNTIF('Build Your Schedule'!AH$5:AH$10,$B$15)>0,1,0),0)","v":0},{"$f":"IF('Build Your Schedule'!AI$11=$B$15,IF(COUNTIF('Build Your Schedule'!AI$5:AI$10,$B$15)>0,1,0),0)","v":0},{"$f":"IF('Build Your Schedule'!AJ$11=$B$15,IF(COUNTIF('Build Your Schedule'!AJ$5:AJ$10,$B$15)>0,1,0),0)","v":0},{"$f":"IF('Build Your Schedule'!AK$11=$B$15,IF(COUNTIF('Build Your Schedule'!AK$5:AK$10,$B$15)>0,1,0),0)","v":0}]
[]
[null,{"$f":"B16","v":"Xiong"},"2015-06-01","2015-06-02","2015-06-03","2015-06-04","2015-06-05","2015-06-06","2015-06-07","2015-06-08","2015-06-09","2015-06-10","2015-06-11","2015-06-12","2015-06-13","2015-06-14","2015-06-15","2015-06-16","2015-06-17","2015-06-18","2015-06-19","2015-06-20","2015-06-21","2015-06-22","2015-06-23","2015-06-24","2015-06-25","2015-06-26","2015-06-27","2015-06-28","2015-06-29","2015-06-30"]
[null,"7a-4p",{"$f":"IF('Build Your Schedule'!H$5=$B$16,IF(COUNTIF('Build Your Schedule'!G$8:G$11,$B$16)>0,1,0),0)","v":0},{"$f":"IF('Build Your Schedule'!I$5=$B$16,IF(COUNTIF('Build Your Schedule'!H$8:H$11,$B$16)>0,1,0),0)","v":0},{"$f":"IF('Build Your Schedule'!J$5=$B$16,IF(COUNTIF('Build Your Schedule'!I$8:I$11,$B$16)>0,1,0),0)","v":0},{"$f":"IF('Build Your Schedule'!K$5=$B$16,IF(COUNTIF('Build Your Schedule'!J$8:J$11,$B$16)>0,1,0),0)","v":0},{"$f":"IF('Build Your Schedule'!L$5=$B$16,IF(COUNTIF('Build Your Schedule'!K$8:K$11,$B$16)>0,1,0),0)","v":0},{"$f":"IF('Build Your Schedule'!M$5=$B$16,IF(COUNTIF('Build Your Schedule'!L$8:L$11,$B$16)>0,1,0),0)","v":0},{"$f":"IF('Build Your Schedule'!N$5=$B$16,IF(COUNTIF('Build Your Schedule'!M$8:M$11,$B$16)>0,1,0),0)","v":0},{"$f":"IF('Build Your Schedule'!O$5=$B$16,IF(COUNTIF('Build Your Schedule'!N$8:N$11,$B$16)>0,1,0),0)","v":0},{"$f":"IF('Build Your Schedule'!P$5=$B$16,IF(COUNTIF('Build Your Schedule'!O$8:O$11,$B$16)>0,1,0),0)","v":0},{"$f":"IF('Build Your Schedule'!Q$5=$B$16,IF(COUNTIF('Build Your Schedule'!P$8:P$11,$B$16)>0,1,0),0)","v":0},{"$f":"IF('Build Your Schedule'!R$5=$B$16,IF(COUNTIF('Build Your Schedule'!Q$8:Q$11,$B$16)>0,1,0),0)","v":0},{"$f":"IF('Build Your Schedule'!S$5=$B$16,IF(COUNTIF('Build Your Schedule'!R$8:R$11,$B$16)>0,1,0),0)","v":0},{"$f":"IF('Build Your Schedule'!T$5=$B$16,IF(COUNTIF('Build Your Schedule'!S$8:S$11,$B$16)>0,1,0),0)","v":0},{"$f":"IF('Build Your Schedule'!U$5=$B$16,IF(COUNTIF('Build Your Schedule'!T$8:T$11,$B$16)>0,1,0),0)","v":0},{"$f":"IF('Build Your Schedule'!V$5=$B$16,IF(COUNTIF('Build Your Schedule'!U$8:U$11,$B$16)>0,1,0),0)","v":0},{"$f":"IF('Build Your Schedule'!W$5=$B$16,IF(COUNTIF('Build Your Schedule'!V$8:V$11,$B$16)>0,1,0),0)","v":0},{"$f":"IF('Build Your Schedule'!X$5=$B$16,IF(COUNTIF('Build Your Schedule'!W$8:W$11,$B$16)>0,1,0),0)","v":0},{"$f":"IF('Build Your Schedule'!Y$5=$B$16,IF(COUNTIF('Build Your Schedule'!X$8:X$11,$B$16)>0,1,0),0)","v":0},{"$f":"IF('Build Your Schedule'!Z$5=$B$16,IF(COUNTIF('Build Your Schedule'!Y$8:Y$11,$B$16)>0,1,0),0)","v":0},{"$f":"IF('Build Your Schedule'!AA$5=$B$16,IF(COUNTIF('Build Your Schedule'!Z$8:Z$11,$B$16)>0,1,0),0)","v":0},{"$f":"IF('Build Your Schedule'!AB$5=$B$16,IF(COUNTIF('Build Your Schedule'!AA$8:AA$11,$B$16)>0,1,0),0)","v":0},{"$f":"IF('Build Your Schedule'!AC$5=$B$16,IF(COUNTIF('Build Your Schedule'!AB$8:AB$11,$B$16)>0,1,0),0)","v":0},{"$f":"IF('Build Your Schedule'!AD$5=$B$16,IF(COUNTIF('Build Your Schedule'!AC$8:AC$11,$B$16)>0,1,0),0)","v":0},{"$f":"IF('Build Your Schedule'!AE$5=$B$16,IF(COUNTIF('Build Your Schedule'!AD$8:AD$11,$B$16)>0,1,0),0)","v":0},{"$f":"IF('Build Your Schedule'!AF$5=$B$16,IF(COUNTIF('Build Your Schedule'!AE$8:AE$11,$B$16)>0,1,0),0)","v":0},{"$f":"IF('Build Your Schedule'!AG$5=$B$16,IF(COUNTIF('Build Your Schedule'!AF$8:AF$11,$B$16)>0,1,0),0)","v":0},{"$f":"IF('Build Your Schedule'!AH$5=$B$16,IF(COUNTIF('Build Your Schedule'!AG$8:AG$11,$B$16)>0,1,0),0)","v":0},{"$f":"IF('Build Your Schedule'!AI$5=$B$16,IF(COUNTIF('Build Your Schedule'!AH$8:AH$11,$B$16)>0,1,0),0)","v":0},{"$f":"IF('Build Your Schedule'!AJ$5=$B$16,IF(COUNTIF('Build Your Schedule'!AI$8:AI$11,$B$16)>0,1,0),0)","v":0},{"$f":"IF('Build Your Schedule'!AK$5=$B$16,IF(COUNTIF('Build Your Schedule'!AJ$8:AJ$11,$B$16)>0,1,0),0)","v":0}]
[null,"9a-6p",{"$f":"IF('Build Your Schedule'!H$6=$B$16,IF((COUNTIF('Build Your Schedule'!G$8:G$11,$B$16)+COUNTIF('Build Your Schedule'!H$5,$B$16))>0,1,0),0)","v":0},{"$f":"IF('Build Your Schedule'!I$6=$B$16,IF((COUNTIF('Build Your Schedule'!H$8:H$11,$B$16)+COUNTIF('Build Your Schedule'!I$5,$B$16))>0,1,0),0)","v":0},{"$f":"IF('Build Your Schedule'!J$6=$B$16,IF((COUNTIF('Build Your Schedule'!I$8:I$11,$B$16)+COUNTIF('Build Your Schedule'!J$5,$B$16))>0,1,0),0)","v":0},{"$f":"IF('Build Your Schedule'!K$6=$B$16,IF((COUNTIF('Build Your Schedule'!J$8:J$11,$B$16)+COUNTIF('Build Your Schedule'!K$5,$B$16))>0,1,0),0)","v":0},{"$f":"IF('Build Your Schedule'!L$6=$B$16,IF((COUNTIF('Build Your Schedule'!K$8:K$11,$B$16)+COUNTIF('Build Your Schedule'!L$5,$B$16))>0,1,0),0)","v":0},{"$f":"IF('Build Your Schedule'!M$6=$B$16,IF((COUNTIF('Build Your Schedule'!L$8:L$11,$B$16)+COUNTIF('Build Your Schedule'!M$5,$B$16))>0,1,0),0)","v":0},{"$f":"IF('Build Your Schedule'!N$6=$B$16,IF((COUNTIF('Build Your Schedule'!M$8:M$11,$B$16)+COUNTIF('Build Your Schedule'!N$5,$B$16))>0,1,0),0)","v":0},{"$f":"IF('Build Your Schedule'!O$6=$B$16,IF((COUNTIF('Build Your Schedule'!N$8:N$11,$B$16)+COUNTIF('Build Your Schedule'!O$5,$B$16))>0,1,0),0)","v":0},{"$f":"IF('Build Your Schedule'!P$6=$B$16,IF((COUNTIF('Build Your Schedule'!O$8:O$11,$B$16)+COUNTIF('Build Your Schedule'!P$5,$B$16))>0,1,0),0)","v":0},{"$f":"IF('Build Your Schedule'!Q$6=$B$16,IF((COUNTIF('Build Your Schedule'!P$8:P$11,$B$16)+COUNTIF('Build Your Schedule'!Q$5,$B$16))>0,1,0),0)","v":0},{"$f":"IF('Build Your Schedule'!R$6=$B$16,IF((COUNTIF('Build Your Schedule'!Q$8:Q$11,$B$16)+COUNTIF('Build Your Schedule'!R$5,$B$16))>0,1,0),0)","v":0},{"$f":"IF('Build Your Schedule'!S$6=$B$16,IF((COUNTIF('Build Your Schedule'!R$8:R$11,$B$16)+COUNTIF('Build Your Schedule'!S$5,$B$16))>0,1,0),0)","v":0},{"$f":"IF('Build Your Schedule'!T$6=$B$16,IF((COUNTIF('Build Your Schedule'!S$8:S$11,$B$16)+COUNTIF('Build Your Schedule'!T$5,$B$16))>0,1,0),0)","v":0},{"$f":"IF('Build Your Schedule'!U$6=$B$16,IF((COUNTIF('Build Your Schedule'!T$8:T$11,$B$16)+COUNTIF('Build Your Schedule'!U$5,$B$16))>0,1,0),0)","v":0},{"$f":"IF('Build Your Schedule'!V$6=$B$16,IF((COUNTIF('Build Your Schedule'!U$8:U$11,$B$16)+COUNTIF('Build Your Schedule'!V$5,$B$16))>0,1,0),0)","v":0},{"$f":"IF('Build Your Schedule'!W$6=$B$16,IF((COUNTIF('Build Your Schedule'!V$8:V$11,$B$16)+COUNTIF('Build Your Schedule'!W$5,$B$16))>0,1,0),0)","v":0},{"$f":"IF('Build Your Schedule'!X$6=$B$16,IF((COUNTIF('Build Your Schedule'!W$8:W$11,$B$16)+COUNTIF('Build Your Schedule'!X$5,$B$16))>0,1,0),0)","v":0},{"$f":"IF('Build Your Schedule'!Y$6=$B$16,IF((COUNTIF('Build Your Schedule'!X$8:X$11,$B$16)+COUNTIF('Build Your Schedule'!Y$5,$B$16))>0,1,0),0)","v":0},{"$f":"IF('Build Your Schedule'!Z$6=$B$16,IF((COUNTIF('Build Your Schedule'!Y$8:Y$11,$B$16)+COUNTIF('Build Your Schedule'!Z$5,$B$16))>0,1,0),0)","v":0},{"$f":"IF('Build Your Schedule'!AA$6=$B$16,IF((COUNTIF('Build Your Schedule'!Z$8:Z$11,$B$16)+COUNTIF('Build Your Schedule'!AA$5,$B$16))>0,1,0),0)","v":0},{"$f":"IF('Build Your Schedule'!AB$6=$B$16,IF((COUNTIF('Build Your Schedule'!AA$8:AA$11,$B$16)+COUNTIF('Build Your Schedule'!AB$5,$B$16))>0,1,0),0)","v":0},{"$f":"IF('Build Your Schedule'!AC$6=$B$16,IF((COUNTIF('Build Your Schedule'!AB$8:AB$11,$B$16)+COUNTIF('Build Your Schedule'!AC$5,$B$16))>0,1,0),0)","v":0},{"$f":"IF('Build Your Schedule'!AD$6=$B$16,IF((COUNTIF('Build Your Schedule'!AC$8:AC$11,$B$16)+COUNTIF('Build Your Schedule'!AD$5,$B$16))>0,1,0),0)","v":0},{"$f":"IF('Build Your Schedule'!AE$6=$B$16,IF((COUNTIF('Build Your Schedule'!AD$8:AD$11,$B$16)+COUNTIF('Build Your Schedule'!AE$5,$B$16))>0,1,0),0)","v":0},{"$f":"IF('Build Your Schedule'!AF$6=$B$16,IF((COUNTIF('Build Your Schedule'!AE$8:AE$11,$B$16)+COUNTIF('Build Your Schedule'!AF$5,$B$16))>0,1,0),0)","v":0},{"$f":"IF('Build Your Schedule'!AG$6=$B$16,IF((COUNTIF('Build Your Schedule'!AF$8:AF$11,$B$16)+COUNTIF('Build Your Schedule'!AG$5,$B$16))>0,1,0),0)","v":0},{"$f":"IF('Build Your Schedule'!AH$6=$B$16,IF((COUNTIF('Build Your Schedule'!AG$8:AG$11,$B$16)+COUNTIF('Build Your Schedule'!AH$5,$B$16))>0,1,0),0)","v":0},{"$f":"IF('Build Your Schedule'!AI$6=$B$16,IF((COUNTIF('Build Your Schedule'!AH$8:AH$11,$B$16)+COUNTIF('Build Your Schedule'!AI$5,$B$16))>0,1,0),0)","v":0},{"$f":"IF('Build Your Schedule'!AJ$6=$B$16,IF((COUNTIF('Build Your Schedule'!AI$8:AI$11,$B$16)+COUNTIF('Build Your Schedule'!AJ$5,$B$16))>0,1,0),0)","v":0},{"$f":"IF('Build Your Schedule'!AK$6=$B$16,IF((COUNTIF('Build Your Schedule'!AJ$8:AJ$11,$B$16)+COUNTIF('Build Your Schedule'!AK$5,$B$16))>0,1,0),0)","v":0}]
[null,"12p-9p",{"$f":"IF('Build Your Schedule'!H$7=$B$16,IF((COUNTIF('Build Your Schedule'!G$10:G$11,$B$16)+COUNTIF('Build Your Schedule'!H$5:H$6,$B$16))>0,1,0),0)","v":0},{"$f":"IF('Build Your Schedule'!I$7=$B$16,IF((COUNTIF('Build Your Schedule'!H$10:H$11,$B$16)+COUNTIF('Build Your Schedule'!I$5:I$6,$B$16))>0,1,0),0)","v":0},{"$f":"IF('Build Your Schedule'!J$7=$B$16,IF((COUNTIF('Build Your Schedule'!I$10:I$11,$B$16)+COUNTIF('Build Your Schedule'!J$5:J$6,$B$16))>0,1,0),0)","v":0},{"$f":"IF('Build Your Schedule'!K$7=$B$16,IF((COUNTIF('Build Your Schedule'!J$10:J$11,$B$16)+COUNTIF('Build Your Schedule'!K$5:K$6,$B$16))>0,1,0),0)","v":0},{"$f":"IF('Build Your Schedule'!L$7=$B$16,IF((COUNTIF('Build Your Schedule'!K$10:K$11,$B$16)+COUNTIF('Build Your Schedule'!L$5:L$6,$B$16))>0,1,0),0)","v":0},{"$f":"IF('Build Your Schedule'!M$7=$B$16,IF((COUNTIF('Build Your Schedule'!L$10:L$11,$B$16)+COUNTIF('Build Your Schedule'!M$5:M$6,$B$16))>0,1,0),0)","v":0},{"$f":"IF('Build Your Schedule'!N$7=$B$16,IF((COUNTIF('Build Your Schedule'!M$10:M$11,$B$16)+COUNTIF('Build Your Schedule'!N$5:N$6,$B$16))>0,1,0),0)","v":0},{"$f":"IF('Build Your Schedule'!O$7=$B$16,IF((COUNTIF('Build Your Schedule'!N$10:N$11,$B$16)+COUNTIF('Build Your Schedule'!O$5:O$6,$B$16))>0,1,0),0)","v":0},{"$f":"IF('Build Your Schedule'!P$7=$B$16,IF((COUNTIF('Build Your Schedule'!O$10:O$11,$B$16)+COUNTIF('Build Your Schedule'!P$5:P$6,$B$16))>0,1,0),0)","v":0},{"$f":"IF('Build Your Schedule'!Q$7=$B$16,IF((COUNTIF('Build Your Schedule'!P$10:P$11,$B$16)+COUNTIF('Build Your Schedule'!Q$5:Q$6,$B$16))>0,1,0),0)","v":0},{"$f":"IF('Build Your Schedule'!R$7=$B$16,IF((COUNTIF('Build Your Schedule'!Q$10:Q$11,$B$16)+COUNTIF('Build Your Schedule'!R$5:R$6,$B$16))>0,1,0),0)","v":0},{"$f":"IF('Build Your Schedule'!S$7=$B$16,IF((COUNTIF('Build Your Schedule'!R$10:R$11,$B$16)+COUNTIF('Build Your Schedule'!S$5:S$6,$B$16))>0,1,0),0)","v":0},{"$f":"IF('Build Your Schedule'!T$7=$B$16,IF((COUNTIF('Build Your Schedule'!S$10:S$11,$B$16)+COUNTIF('Build Your Schedule'!T$5:T$6,$B$16))>0,1,0),0)","v":0},{"$f":"IF('Build Your Schedule'!U$7=$B$16,IF((COUNTIF('Build Your Schedule'!T$10:T$11,$B$16)+COUNTIF('Build Your Schedule'!U$5:U$6,$B$16))>0,1,0),0)","v":0},{"$f":"IF('Build Your Schedule'!V$7=$B$16,IF((COUNTIF('Build Your Schedule'!U$10:U$11,$B$16)+COUNTIF('Build Your Schedule'!V$5:V$6,$B$16))>0,1,0),0)","v":0},{"$f":"IF('Build Your Schedule'!W$7=$B$16,IF((COUNTIF('Build Your Schedule'!V$10:V$11,$B$16)+COUNTIF('Build Your Schedule'!W$5:W$6,$B$16))>0,1,0),0)","v":0},{"$f":"IF('Build Your Schedule'!X$7=$B$16,IF((COUNTIF('Build Your Schedule'!W$10:W$11,$B$16)+COUNTIF('Build Your Schedule'!X$5:X$6,$B$16))>0,1,0),0)","v":0},{"$f":"IF('Build Your Schedule'!Y$7=$B$16,IF((COUNTIF('Build Your Schedule'!X$10:X$11,$B$16)+COUNTIF('Build Your Schedule'!Y$5:Y$6,$B$16))>0,1,0),0)","v":0},{"$f":"IF('Build Your Schedule'!Z$7=$B$16,IF((COUNTIF('Build Your Schedule'!Y$10:Y$11,$B$16)+COUNTIF('Build Your Schedule'!Z$5:Z$6,$B$16))>0,1,0),0)","v":0},{"$f":"IF('Build Your Schedule'!AA$7=$B$16,IF((COUNTIF('Build Your Schedule'!Z$10:Z$11,$B$16)+COUNTIF('Build Your Schedule'!AA$5:AA$6,$B$16))>0,1,0),0)","v":0},{"$f":"IF('Build Your Schedule'!AB$7=$B$16,IF((COUNTIF('Build Your Schedule'!AA$10:AA$11,$B$16)+COUNTIF('Build Your Schedule'!AB$5:AB$6,$B$16))>0,1,0),0)","v":0},{"$f":"IF('Build Your Schedule'!AC$7=$B$16,IF((COUNTIF('Build Your Schedule'!AB$10:AB$11,$B$16)+COUNTIF('Build Your Schedule'!AC$5:AC$6,$B$16))>0,1,0),0)","v":0},{"$f":"IF('Build Your Schedule'!AD$7=$B$16,IF((COUNTIF('Build Your Schedule'!AC$10:AC$11,$B$16)+COUNTIF('Build Your Schedule'!AD$5:AD$6,$B$16))>0,1,0),0)","v":0},{"$f":"IF('Build Your Schedule'!AE$7=$B$16,IF((COUNTIF('Build Your Schedule'!AD$10:AD$11,$B$16)+COUNTIF('Build Your Schedule'!AE$5:AE$6,$B$16))>0,1,0),0)","v":0},{"$f":"IF('Build Your Schedule'!AF$7=$B$16,IF((COUNTIF('Build Your Schedule'!AE$10:AE$11,$B$16)+COUNTIF('Build Your Schedule'!AF$5:AF$6,$B$16))>0,1,0),0)","v":0},{"$f":"IF('Build Your Schedule'!AG$7=$B$16,IF((COUNTIF('Build Your Schedule'!AF$10:AF$11,$B$16)+COUNTIF('Build Your Schedule'!AG$5:AG$6,$B$16))>0,1,0),0)","v":0},{"$f":"IF('Build Your Schedule'!AH$7=$B$16,IF((COUNTIF('Build Your Schedule'!AG$10:AG$11,$B$16)+COUNTIF('Build Your Schedule'!AH$5:AH$6,$B$16))>0,1,0),0)","v":0},{"$f":"IF('Build Your Schedule'!AI$7=$B$16,IF((COUNTIF('Build Your Schedule'!AH$10:AH$11,$B$16)+COUNTIF('Build Your Schedule'!AI$5:AI$6,$B$16))>0,1,0),0)","v":0},{"$f":"IF('Build Your Schedule'!AJ$7=$B$16,IF((COUNTIF('Build Your Schedule'!AI$10:AI$11,$B$16)+COUNTIF('Build Your Schedule'!AJ$5:AJ$6,$B$16))>0,1,0),0)","v":0},{"$f":"IF('Build Your Schedule'!AK$7=$B$16,IF((COUNTIF('Build Your Schedule'!AJ$10:AJ$11,$B$16)+COUNTIF('Build Your Schedule'!AK$5:AK$6,$B$16))>0,1,0),0)","v":0}]
[null,"4p-1a",{"$f":"IF('Build Your Schedule'!H$8=$B$16,IF((COUNTIF('Build Your Schedule'!G$11,$B$16)+COUNTIF('Build Your Schedule'!H$5:H$7,$B$16))>0,1,0),0)","v":0},{"$f":"IF('Build Your Schedule'!I$8=$B$16,IF((COUNTIF('Build Your Schedule'!H$11,$B$16)+COUNTIF('Build Your Schedule'!I$5:I$7,$B$16))>0,1,0),0)","v":0},{"$f":"IF('Build Your Schedule'!J$8=$B$16,IF((COUNTIF('Build Your Schedule'!I$11,$B$16)+COUNTIF('Build Your Schedule'!J$5:J$7,$B$16))>0,1,0),0)","v":0},{"$f":"IF('Build Your Schedule'!K$8=$B$16,IF((COUNTIF('Build Your Schedule'!J$11,$B$16)+COUNTIF('Build Your Schedule'!K$5:K$7,$B$16))>0,1,0),0)","v":0},{"$f":"IF('Build Your Schedule'!L$8=$B$16,IF((COUNTIF('Build Your Schedule'!K$11,$B$16)+COUNTIF('Build Your Schedule'!L$5:L$7,$B$16))>0,1,0),0)","v":0},{"$f":"IF('Build Your Schedule'!M$8=$B$16,IF((COUNTIF('Build Your Schedule'!L$11,$B$16)+COUNTIF('Build Your Schedule'!M$5:M$7,$B$16))>0,1,0),0)","v":0},{"$f":"IF('Build Your Schedule'!N$8=$B$16,IF((COUNTIF('Build Your Schedule'!M$11,$B$16)+COUNTIF('Build Your Schedule'!N$5:N$7,$B$16))>0,1,0),0)","v":0},{"$f":"IF('Build Your Schedule'!O$8=$B$16,IF((COUNTIF('Build Your Schedule'!N$11,$B$16)+COUNTIF('Build Your Schedule'!O$5:O$7,$B$16))>0,1,0),0)","v":0},{"$f":"IF('Build Your Schedule'!P$8=$B$16,IF((COUNTIF('Build Your Schedule'!O$11,$B$16)+COUNTIF('Build Your Schedule'!P$5:P$7,$B$16))>0,1,0),0)","v":0},{"$f":"IF('Build Your Schedule'!Q$8=$B$16,IF((COUNTIF('Build Your Schedule'!P$11,$B$16)+COUNTIF('Build Your Schedule'!Q$5:Q$7,$B$16))>0,1,0),0)","v":0},{"$f":"IF('Build Your Schedule'!R$8=$B$16,IF((COUNTIF('Build Your Schedule'!Q$11,$B$16)+COUNTIF('Build Your Schedule'!R$5:R$7,$B$16))>0,1,0),0)","v":0},{"$f":"IF('Build Your Schedule'!S$8=$B$16,IF((COUNTIF('Build Your Schedule'!R$11,$B$16)+COUNTIF('Build Your Schedule'!S$5:S$7,$B$16))>0,1,0),0)","v":0},{"$f":"IF('Build Your Schedule'!T$8=$B$16,IF((COUNTIF('Build Your Schedule'!S$11,$B$16)+COUNTIF('Build Your Schedule'!T$5:T$7,$B$16))>0,1,0),0)","v":0},{"$f":"IF('Build Your Schedule'!U$8=$B$16,IF((COUNTIF('Build Your Schedule'!T$11,$B$16)+COUNTIF('Build Your Schedule'!U$5:U$7,$B$16))>0,1,0),0)","v":0},{"$f":"IF('Build Your Schedule'!V$8=$B$16,IF((COUNTIF('Build Your Schedule'!U$11,$B$16)+COUNTIF('Build Your Schedule'!V$5:V$7,$B$16))>0,1,0),0)","v":0},{"$f":"IF('Build Your Schedule'!W$8=$B$16,IF((COUNTIF('Build Your Schedule'!V$11,$B$16)+COUNTIF('Build Your Schedule'!W$5:W$7,$B$16))>0,1,0),0)","v":0},{"$f":"IF('Build Your Schedule'!X$8=$B$16,IF((COUNTIF('Build Your Schedule'!W$11,$B$16)+COUNTIF('Build Your Schedule'!X$5:X$7,$B$16))>0,1,0),0)","v":0},{"$f":"IF('Build Your Schedule'!Y$8=$B$16,IF((COUNTIF('Build Your Schedule'!X$11,$B$16)+COUNTIF('Build Your Schedule'!Y$5:Y$7,$B$16))>0,1,0),0)","v":0},{"$f":"IF('Build Your Schedule'!Z$8=$B$16,IF((COUNTIF('Build Your Schedule'!Y$11,$B$16)+COUNTIF('Build Your Schedule'!Z$5:Z$7,$B$16))>0,1,0),0)","v":0},{"$f":"IF('Build Your Schedule'!AA$8=$B$16,IF((COUNTIF('Build Your Schedule'!Z$11,$B$16)+COUNTIF('Build Your Schedule'!AA$5:AA$7,$B$16))>0,1,0),0)","v":0},{"$f":"IF('Build Your Schedule'!AB$8=$B$16,IF((COUNTIF('Build Your Schedule'!AA$11,$B$16)+COUNTIF('Build Your Schedule'!AB$5:AB$7,$B$16))>0,1,0),0)","v":0},{"$f":"IF('Build Your Schedule'!AC$8=$B$16,IF((COUNTIF('Build Your Schedule'!AB$11,$B$16)+COUNTIF('Build Your Schedule'!AC$5:AC$7,$B$16))>0,1,0),0)","v":0},{"$f":"IF('Build Your Schedule'!AD$8=$B$16,IF((COUNTIF('Build Your Schedule'!AC$11,$B$16)+COUNTIF('Build Your Schedule'!AD$5:AD$7,$B$16))>0,1,0),0)","v":0},{"$f":"IF('Build Your Schedule'!AE$8=$B$16,IF((COUNTIF('Build Your Schedule'!AD$11,$B$16)+COUNTIF('Build Your Schedule'!AE$5:AE$7,$B$16))>0,1,0),0)","v":0},{"$f":"IF('Build Your Schedule'!AF$8=$B$16,IF((COUNTIF('Build Your Schedule'!AE$11,$B$16)+COUNTIF('Build Your Schedule'!AF$5:AF$7,$B$16))>0,1,0),0)","v":0},{"$f":"IF('Build Your Schedule'!AG$8=$B$16,IF((COUNTIF('Build Your Schedule'!AF$11,$B$16)+COUNTIF('Build Your Schedule'!AG$5:AG$7,$B$16))>0,1,0),0)","v":0},{"$f":"IF('Build Your Schedule'!AH$8=$B$16,IF((COUNTIF('Build Your Schedule'!AG$11,$B$16)+COUNTIF('Build Your Schedule'!AH$5:AH$7,$B$16))>0,1,0),0)","v":0},{"$f":"IF('Build Your Schedule'!AI$8=$B$16,IF((COUNTIF('Build Your Schedule'!AH$11,$B$16)+COUNTIF('Build Your Schedule'!AI$5:AI$7,$B$16))>0,1,0),0)","v":0},{"$f":"IF('Build Your Schedule'!AJ$8=$B$16,IF((COUNTIF('Build Your Schedule'!AI$11,$B$16)+COUNTIF('Build Your Schedule'!AJ$5:AJ$7,$B$16))>0,1,0),0)","v":0},{"$f":"IF('Build Your Schedule'!AK$8=$B$16,IF((COUNTIF('Build Your Schedule'!AJ$11,$B$16)+COUNTIF('Build Your Schedule'!AK$5:AK$7,$B$16))>0,1,0),0)","v":0}]
[null,"5p-2a",{"$f":"IF('Build Your Schedule'!H$9=$B$16,IF((COUNTIF('Build Your Schedule'!G$11,$B$16)+COUNTIF('Build Your Schedule'!H$5:H$8,$B$16))>0,1,0),0)","v":0},{"$f":"IF('Build Your Schedule'!I$9=$B$16,IF((COUNTIF('Build Your Schedule'!H$11,$B$16)+COUNTIF('Build Your Schedule'!I$5:I$8,$B$16))>0,1,0),0)","v":0},{"$f":"IF('Build Your Schedule'!J$9=$B$16,IF((COUNTIF('Build Your Schedule'!I$11,$B$16)+COUNTIF('Build Your Schedule'!J$5:J$8,$B$16))>0,1,0),0)","v":0},{"$f":"IF('Build Your Schedule'!K$9=$B$16,IF((COUNTIF('Build Your Schedule'!J$11,$B$16)+COUNTIF('Build Your Schedule'!K$5:K$8,$B$16))>0,1,0),0)","v":0},{"$f":"IF('Build Your Schedule'!L$9=$B$16,IF((COUNTIF('Build Your Schedule'!K$11,$B$16)+COUNTIF('Build Your Schedule'!L$5:L$8,$B$16))>0,1,0),0)","v":0},{"$f":"IF('Build Your Schedule'!M$9=$B$16,IF((COUNTIF('Build Your Schedule'!L$11,$B$16)+COUNTIF('Build Your Schedule'!M$5:M$8,$B$16))>0,1,0),0)","v":0},{"$f":"IF('Build Your Schedule'!N$9=$B$16,IF((COUNTIF('Build Your Schedule'!M$11,$B$16)+COUNTIF('Build Your Schedule'!N$5:N$8,$B$16))>0,1,0),0)","v":0},{"$f":"IF('Build Your Schedule'!O$9=$B$16,IF((COUNTIF('Build Your Schedule'!N$11,$B$16)+COUNTIF('Build Your Schedule'!O$5:O$8,$B$16))>0,1,0),0)","v":0},{"$f":"IF('Build Your Schedule'!P$9=$B$16,IF((COUNTIF('Build Your Schedule'!O$11,$B$16)+COUNTIF('Build Your Schedule'!P$5:P$8,$B$16))>0,1,0),0)","v":0},{"$f":"IF('Build Your Schedule'!Q$9=$B$16,IF((COUNTIF('Build Your Schedule'!P$11,$B$16)+COUNTIF('Build Your Schedule'!Q$5:Q$8,$B$16))>0,1,0),0)","v":0},{"$f":"IF('Build Your Schedule'!R$9=$B$16,IF((COUNTIF('Build Your Schedule'!Q$11,$B$16)+COUNTIF('Build Your Schedule'!R$5:R$8,$B$16))>0,1,0),0)","v":0},{"$f":"IF('Build Your Schedule'!S$9=$B$16,IF((COUNTIF('Build Your Schedule'!R$11,$B$16)+COUNTIF('Build Your Schedule'!S$5:S$8,$B$16))>0,1,0),0)","v":0},{"$f":"IF('Build Your Schedule'!T$9=$B$16,IF((COUNTIF('Build Your Schedule'!S$11,$B$16)+COUNTIF('Build Your Schedule'!T$5:T$8,$B$16))>0,1,0),0)","v":0},{"$f":"IF('Build Your Schedule'!U$9=$B$16,IF((COUNTIF('Build Your Schedule'!T$11,$B$16)+COUNTIF('Build Your Schedule'!U$5:U$8,$B$16))>0,1,0),0)","v":0},{"$f":"IF('Build Your Schedule'!V$9=$B$16,IF((COUNTIF('Build Your Schedule'!U$11,$B$16)+COUNTIF('Build Your Schedule'!V$5:V$8,$B$16))>0,1,0),0)","v":0},{"$f":"IF('Build Your Schedule'!W$9=$B$16,IF((COUNTIF('Build Your Schedule'!V$11,$B$16)+COUNTIF('Build Your Schedule'!W$5:W$8,$B$16))>0,1,0),0)","v":0},{"$f":"IF('Build Your Schedule'!X$9=$B$16,IF((COUNTIF('Build Your Schedule'!W$11,$B$16)+COUNTIF('Build Your Schedule'!X$5:X$8,$B$16))>0,1,0),0)","v":0},{"$f":"IF('Build Your Schedule'!Y$9=$B$16,IF((COUNTIF('Build Your Schedule'!X$11,$B$16)+COUNTIF('Build Your Schedule'!Y$5:Y$8,$B$16))>0,1,0),0)","v":0},{"$f":"IF('Build Your Schedule'!Z$9=$B$16,IF((COUNTIF('Build Your Schedule'!Y$11,$B$16)+COUNTIF('Build Your Schedule'!Z$5:Z$8,$B$16))>0,1,0),0)","v":0},{"$f":"IF('Build Your Schedule'!AA$9=$B$16,IF((COUNTIF('Build Your Schedule'!Z$11,$B$16)+COUNTIF('Build Your Schedule'!AA$5:AA$8,$B$16))>0,1,0),0)","v":0},{"$f":"IF('Build Your Schedule'!AB$9=$B$16,IF((COUNTIF('Build Your Schedule'!AA$11,$B$16)+COUNTIF('Build Your Schedule'!AB$5:AB$8,$B$16))>0,1,0),0)","v":0},{"$f":"IF('Build Your Schedule'!AC$9=$B$16,IF((COUNTIF('Build Your Schedule'!AB$11,$B$16)+COUNTIF('Build Your Schedule'!AC$5:AC$8,$B$16))>0,1,0),0)","v":0},{"$f":"IF('Build Your Schedule'!AD$9=$B$16,IF((COUNTIF('Build Your Schedule'!AC$11,$B$16)+COUNTIF('Build Your Schedule'!AD$5:AD$8,$B$16))>0,1,0),0)","v":0},{"$f":"IF('Build Your Schedule'!AE$9=$B$16,IF((COUNTIF('Build Your Schedule'!AD$11,$B$16)+COUNTIF('Build Your Schedule'!AE$5:AE$8,$B$16))>0,1,0),0)","v":0},{"$f":"IF('Build Your Schedule'!AF$9=$B$16,IF((COUNTIF('Build Your Schedule'!AE$11,$B$16)+COUNTIF('Build Your Schedule'!AF$5:AF$8,$B$16))>0,1,0),0)","v":0},{"$f":"IF('Build Your Schedule'!AG$9=$B$16,IF((COUNTIF('Build Your Schedule'!AF$11,$B$16)+COUNTIF('Build Your Schedule'!AG$5:AG$8,$B$16))>0,1,0),0)","v":0},{"$f":"IF('Build Your Schedule'!AH$9=$B$16,IF((COUNTIF('Build Your Schedule'!AG$11,$B$16)+COUNTIF('Build Your Schedule'!AH$5:AH$8,$B$16))>0,1,0),0)","v":0},{"$f":"IF('Build Your Schedule'!AI$9=$B$16,IF((COUNTIF('Build Your Schedule'!AH$11,$B$16)+COUNTIF('Build Your Schedule'!AI$5:AI$8,$B$16))>0,1,0),0)","v":0},{"$f":"IF('Build Your Schedule'!AJ$9=$B$16,IF((COUNTIF('Build Your Schedule'!AI$11,$B$16)+COUNTIF('Build Your Schedule'!AJ$5:AJ$8,$B$16))>0,1,0),0)","v":0},{"$f":"IF('Build Your Schedule'!AK$9=$B$16,IF((COUNTIF('Build Your Schedule'!AJ$11,$B$16)+COUNTIF('Build Your Schedule'!AK$5:AK$8,$B$16))>0,1,0),0)","v":0}]
[null,"8p-5a",{"$f":"IF('Build Your Schedule'!H$10=$B$16,IF(COUNTIF('Build Your Schedule'!H$5:H$9,$B$16)>0,1,0),0)","v":0},{"$f":"IF('Build Your Schedule'!I$10=$B$16,IF(COUNTIF('Build Your Schedule'!I$5:I$9,$B$16)>0,1,0),0)","v":0},{"$f":"IF('Build Your Schedule'!J$10=$B$16,IF(COUNTIF('Build Your Schedule'!J$5:J$9,$B$16)>0,1,0),0)","v":0},{"$f":"IF('Build Your Schedule'!K$10=$B$16,IF(COUNTIF('Build Your Schedule'!K$5:K$9,$B$16)>0,1,0),0)","v":0},{"$f":"IF('Build Your Schedule'!L$10=$B$16,IF(COUNTIF('Build Your Schedule'!L$5:L$9,$B$16)>0,1,0),0)","v":0},{"$f":"IF('Build Your Schedule'!M$10=$B$16,IF(COUNTIF('Build Your Schedule'!M$5:M$9,$B$16)>0,1,0),0)","v":0},{"$f":"IF('Build Your Schedule'!N$10=$B$16,IF(COUNTIF('Build Your Schedule'!N$5:N$9,$B$16)>0,1,0),0)","v":0},{"$f":"IF('Build Your Schedule'!O$10=$B$16,IF(COUNTIF('Build Your Schedule'!O$5:O$9,$B$16)>0,1,0),0)","v":0},{"$f":"IF('Build Your Schedule'!P$10=$B$16,IF(COUNTIF('Build Your Schedule'!P$5:P$9,$B$16)>0,1,0),0)","v":0},{"$f":"IF('Build Your Schedule'!Q$10=$B$16,IF(COUNTIF('Build Your Schedule'!Q$5:Q$9,$B$16)>0,1,0),0)","v":0},{"$f":"IF('Build Your Schedule'!R$10=$B$16,IF(COUNTIF('Build Your Schedule'!R$5:R$9,$B$16)>0,1,0),0)","v":0},{"$f":"IF('Build Your Schedule'!S$10=$B$16,IF(COUNTIF('Build Your Schedule'!S$5:S$9,$B$16)>0,1,0),0)","v":0},{"$f":"IF('Build Your Schedule'!T$10=$B$16,IF(COUNTIF('Build Your Schedule'!T$5:T$9,$B$16)>0,1,0),0)","v":0},{"$f":"IF('Build Your Schedule'!U$10=$B$16,IF(COUNTIF('Build Your Schedule'!U$5:U$9,$B$16)>0,1,0),0)","v":0},{"$f":"IF('Build Your Schedule'!V$10=$B$16,IF(COUNTIF('Build Your Schedule'!V$5:V$9,$B$16)>0,1,0),0)","v":0},{"$f":"IF('Build Your Schedule'!W$10=$B$16,IF(COUNTIF('Build Your Schedule'!W$5:W$9,$B$16)>0,1,0),0)","v":0},{"$f":"IF('Build Your Schedule'!X$10=$B$16,IF(COUNTIF('Build Your Schedule'!X$5:X$9,$B$16)>0,1,0),0)","v":0},{"$f":"IF('Build Your Schedule'!Y$10=$B$16,IF(COUNTIF('Build Your Schedule'!Y$5:Y$9,$B$16)>0,1,0),0)","v":0},{"$f":"IF('Build Your Schedule'!Z$10=$B$16,IF(COUNTIF('Build Your Schedule'!Z$5:Z$9,$B$16)>0,1,0),0)","v":0},{"$f":"IF('Build Your Schedule'!AA$10=$B$16,IF(COUNTIF('Build Your Schedule'!AA$5:AA$9,$B$16)>0,1,0),0)","v":0},{"$f":"IF('Build Your Schedule'!AB$10=$B$16,IF(COUNTIF('Build Your Schedule'!AB$5:AB$9,$B$16)>0,1,0),0)","v":0},{"$f":"IF('Build Your Schedule'!AC$10=$B$16,IF(COUNTIF('Build Your Schedule'!AC$5:AC$9,$B$16)>0,1,0),0)","v":0},{"$f":"IF('Build Your Schedule'!AD$10=$B$16,IF(COUNTIF('Build Your Schedule'!AD$5:AD$9,$B$16)>0,1,0),0)","v":0},{"$f":"IF('Build Your Schedule'!AE$10=$B$16,IF(COUNTIF('Build Your Schedule'!AE$5:AE$9,$B$16)>0,1,0),0)","v":0},{"$f":"IF('Build Your Schedule'!AF$10=$B$16,IF(COUNTIF('Build Your Schedule'!AF$5:AF$9,$B$16)>0,1,0),0)","v":0},{"$f":"IF('Build Your Schedule'!AG$10=$B$16,IF(COUNTIF('Build Your Schedule'!AG$5:AG$9,$B$16)>0,1,0),0)","v":0},{"$f":"IF('Build Your Schedule'!AH$10=$B$16,IF(COUNTIF('Build Your Schedule'!AH$5:AH$9,$B$16)>0,1,0),0)","v":0},{"$f":"IF('Build Your Schedule'!AI$10=$B$16,IF(COUNTIF('Build Your Schedule'!AI$5:AI$9,$B$16)>0,1,0),0)","v":0},{"$f":"IF('Build Your Schedule'!AJ$10=$B$16,IF(COUNTIF('Build Your Schedule'!AJ$5:AJ$9,$B$16)>0,1,0),0)","v":0},{"$f":"IF('Build Your Schedule'!AK$10=$B$16,IF(COUNTIF('Build Your Schedule'!AK$5:AK$9,$B$16)>0,1,0),0)","v":0}]
[null,"11p-8a",{"$f":"IF('Build Your Schedule'!H$11=$B$16,IF(COUNTIF('Build Your Schedule'!H$5:H$10,$B$16)>0,1,0),0)","v":0},{"$f":"IF('Build Your Schedule'!I$11=$B$16,IF(COUNTIF('Build Your Schedule'!I$5:I$10,$B$16)>0,1,0),0)","v":0},{"$f":"IF('Build Your Schedule'!J$11=$B$16,IF(COUNTIF('Build Your Schedule'!J$5:J$10,$B$16)>0,1,0),0)","v":0},{"$f":"IF('Build Your Schedule'!K$11=$B$16,IF(COUNTIF('Build Your Schedule'!K$5:K$10,$B$16)>0,1,0),0)","v":0},{"$f":"IF('Build Your Schedule'!L$11=$B$16,IF(COUNTIF('Build Your Schedule'!L$5:L$10,$B$16)>0,1,0),0)","v":0},{"$f":"IF('Build Your Schedule'!M$11=$B$16,IF(COUNTIF('Build Your Schedule'!M$5:M$10,$B$16)>0,1,0),0)","v":0},{"$f":"IF('Build Your Schedule'!N$11=$B$16,IF(COUNTIF('Build Your Schedule'!N$5:N$10,$B$16)>0,1,0),0)","v":0},{"$f":"IF('Build Your Schedule'!O$11=$B$16,IF(COUNTIF('Build Your Schedule'!O$5:O$10,$B$16)>0,1,0),0)","v":0},{"$f":"IF('Build Your Schedule'!P$11=$B$16,IF(COUNTIF('Build Your Schedule'!P$5:P$10,$B$16)>0,1,0),0)","v":0},{"$f":"IF('Build Your Schedule'!Q$11=$B$16,IF(COUNTIF('Build Your Schedule'!Q$5:Q$10,$B$16)>0,1,0),0)","v":0},{"$f":"IF('Build Your Schedule'!R$11=$B$16,IF(COUNTIF('Build Your Schedule'!R$5:R$10,$B$16)>0,1,0),0)","v":0},{"$f":"IF('Build Your Schedule'!S$11=$B$16,IF(COUNTIF('Build Your Schedule'!S$5:S$10,$B$16)>0,1,0),0)","v":0},{"$f":"IF('Build Your Schedule'!T$11=$B$16,IF(COUNTIF('Build Your Schedule'!T$5:T$10,$B$16)>0,1,0),0)","v":0},{"$f":"IF('Build Your Schedule'!U$11=$B$16,IF(COUNTIF('Build Your Schedule'!U$5:U$10,$B$16)>0,1,0),0)","v":0},{"$f":"IF('Build Your Schedule'!V$11=$B$16,IF(COUNTIF('Build Your Schedule'!V$5:V$10,$B$16)>0,1,0),0)","v":0},{"$f":"IF('Build Your Schedule'!W$11=$B$16,IF(COUNTIF('Build Your Schedule'!W$5:W$10,$B$16)>0,1,0),0)","v":0},{"$f":"IF('Build Your Schedule'!X$11=$B$16,IF(COUNTIF('Build Your Schedule'!X$5:X$10,$B$16)>0,1,0),0)","v":0},{"$f":"IF('Build Your Schedule'!Y$11=$B$16,IF(COUNTIF('Build Your Schedule'!Y$5:Y$10,$B$16)>0,1,0),0)","v":0},{"$f":"IF('Build Your Schedule'!Z$11=$B$16,IF(COUNTIF('Build Your Schedule'!Z$5:Z$10,$B$16)>0,1,0),0)","v":0},{"$f":"IF('Build Your Schedule'!AA$11=$B$16,IF(COUNTIF('Build Your Schedule'!AA$5:AA$10,$B$16)>0,1,0),0)","v":0},{"$f":"IF('Build Your Schedule'!AB$11=$B$16,IF(COUNTIF('Build Your Schedule'!AB$5:AB$10,$B$16)>0,1,0),0)","v":0},{"$f":"IF('Build Your Schedule'!AC$11=$B$16,IF(COUNTIF('Build Your Schedule'!AC$5:AC$10,$B$16)>0,1,0),0)","v":0},{"$f":"IF('Build Your Schedule'!AD$11=$B$16,IF(COUNTIF('Build Your Schedule'!AD$5:AD$10,$B$16)>0,1,0),0)","v":0},{"$f":"IF('Build Your Schedule'!AE$11=$B$16,IF(COUNTIF('Build Your Schedule'!AE$5:AE$10,$B$16)>0,1,0),0)","v":0},{"$f":"IF('Build Your Schedule'!AF$11=$B$16,IF(COUNTIF('Build Your Schedule'!AF$5:AF$10,$B$16)>0,1,0),0)","v":0},{"$f":"IF('Build Your Schedule'!AG$11=$B$16,IF(COUNTIF('Build Your Schedule'!AG$5:AG$10,$B$16)>0,1,0),0)","v":0},{"$f":"IF('Build Your Schedule'!AH$11=$B$16,IF(COUNTIF('Build Your Schedule'!AH$5:AH$10,$B$16)>0,1,0),0)","v":0},{"$f":"IF('Build Your Schedule'!AI$11=$B$16,IF(COUNTIF('Build Your Schedule'!AI$5:AI$10,$B$16)>0,1,0),0)","v":0},{"$f":"IF('Build Your Schedule'!AJ$11=$B$16,IF(COUNTIF('Build Your Schedule'!AJ$5:AJ$10,$B$16)>0,1,0),0)","v":0},{"$f":"IF('Build Your Schedule'!AK$11=$B$16,IF(COUNTIF('Build Your Schedule'!AK$5:AK$10,$B$16)>0,1,0),0)","v":0}]
[]
[null,{"$f":"B17","v":"Yee"},"2015-06-01","2015-06-02","2015-06-03","2015-06-04","2015-06-05","2015-06-06","2015-06-07","2015-06-08","2015-06-09","2015-06-10","2015-06-11","2015-06-12","2015-06-13","2015-06-14","2015-06-15","2015-06-16","2015-06-17","2015-06-18","2015-06-19","2015-06-20","2015-06-21","2015-06-22","2015-06-23","2015-06-24","2015-06-25","2015-06-26","2015-06-27","2015-06-28","2015-06-29","2015-06-30"]
[null,"7a-4p",{"$f":"IF('Build Your Schedule'!H$5=$B$17,IF(COUNTIF('Build Your Schedule'!G$8:G$11,$B$17)>0,1,0),0)","v":0},{"$f":"IF('Build Your Schedule'!I$5=$B$17,IF(COUNTIF('Build Your Schedule'!H$8:H$11,$B$17)>0,1,0),0)","v":0},{"$f":"IF('Build Your Schedule'!J$5=$B$17,IF(COUNTIF('Build Your Schedule'!I$8:I$11,$B$17)>0,1,0),0)","v":0},{"$f":"IF('Build Your Schedule'!K$5=$B$17,IF(COUNTIF('Build Your Schedule'!J$8:J$11,$B$17)>0,1,0),0)","v":0},{"$f":"IF('Build Your Schedule'!L$5=$B$17,IF(COUNTIF('Build Your Schedule'!K$8:K$11,$B$17)>0,1,0),0)","v":0},{"$f":"IF('Build Your Schedule'!M$5=$B$17,IF(COUNTIF('Build Your Schedule'!L$8:L$11,$B$17)>0,1,0),0)","v":0},{"$f":"IF('Build Your Schedule'!N$5=$B$17,IF(COUNTIF('Build Your Schedule'!M$8:M$11,$B$17)>0,1,0),0)","v":0},{"$f":"IF('Build Your Schedule'!O$5=$B$17,IF(COUNTIF('Build Your Schedule'!N$8:N$11,$B$17)>0,1,0),0)","v":0},{"$f":"IF('Build Your Schedule'!P$5=$B$17,IF(COUNTIF('Build Your Schedule'!O$8:O$11,$B$17)>0,1,0),0)","v":0},{"$f":"IF('Build Your Schedule'!Q$5=$B$17,IF(COUNTIF('Build Your Schedule'!P$8:P$11,$B$17)>0,1,0),0)","v":0},{"$f":"IF('Build Your Schedule'!R$5=$B$17,IF(COUNTIF('Build Your Schedule'!Q$8:Q$11,$B$17)>0,1,0),0)","v":0},{"$f":"IF('Build Your Schedule'!S$5=$B$17,IF(COUNTIF('Build Your Schedule'!R$8:R$11,$B$17)>0,1,0),0)","v":0},{"$f":"IF('Build Your Schedule'!T$5=$B$17,IF(COUNTIF('Build Your Schedule'!S$8:S$11,$B$17)>0,1,0),0)","v":0},{"$f":"IF('Build Your Schedule'!U$5=$B$17,IF(COUNTIF('Build Your Schedule'!T$8:T$11,$B$17)>0,1,0),0)","v":0},{"$f":"IF('Build Your Schedule'!V$5=$B$17,IF(COUNTIF('Build Your Schedule'!U$8:U$11,$B$17)>0,1,0),0)","v":0},{"$f":"IF('Build Your Schedule'!W$5=$B$17,IF(COUNTIF('Build Your Schedule'!V$8:V$11,$B$17)>0,1,0),0)","v":0},{"$f":"IF('Build Your Schedule'!X$5=$B$17,IF(COUNTIF('Build Your Schedule'!W$8:W$11,$B$17)>0,1,0),0)","v":0},{"$f":"IF('Build Your Schedule'!Y$5=$B$17,IF(COUNTIF('Build Your Schedule'!X$8:X$11,$B$17)>0,1,0),0)","v":0},{"$f":"IF('Build Your Schedule'!Z$5=$B$17,IF(COUNTIF('Build Your Schedule'!Y$8:Y$11,$B$17)>0,1,0),0)","v":0},{"$f":"IF('Build Your Schedule'!AA$5=$B$17,IF(COUNTIF('Build Your Schedule'!Z$8:Z$11,$B$17)>0,1,0),0)","v":0},{"$f":"IF('Build Your Schedule'!AB$5=$B$17,IF(COUNTIF('Build Your Schedule'!AA$8:AA$11,$B$17)>0,1,0),0)","v":0},{"$f":"IF('Build Your Schedule'!AC$5=$B$17,IF(COUNTIF('Build Your Schedule'!AB$8:AB$11,$B$17)>0,1,0),0)","v":0},{"$f":"IF('Build Your Schedule'!AD$5=$B$17,IF(COUNTIF('Build Your Schedule'!AC$8:AC$11,$B$17)>0,1,0),0)","v":0},{"$f":"IF('Build Your Schedule'!AE$5=$B$17,IF(COUNTIF('Build Your Schedule'!AD$8:AD$11,$B$17)>0,1,0),0)","v":0},{"$f":"IF('Build Your Schedule'!AF$5=$B$17,IF(COUNTIF('Build Your Schedule'!AE$8:AE$11,$B$17)>0,1,0),0)","v":0},{"$f":"IF('Build Your Schedule'!AG$5=$B$17,IF(COUNTIF('Build Your Schedule'!AF$8:AF$11,$B$17)>0,1,0),0)","v":0},{"$f":"IF('Build Your Schedule'!AH$5=$B$17,IF(COUNTIF('Build Your Schedule'!AG$8:AG$11,$B$17)>0,1,0),0)","v":0},{"$f":"IF('Build Your Schedule'!AI$5=$B$17,IF(COUNTIF('Build Your Schedule'!AH$8:AH$11,$B$17)>0,1,0),0)","v":0},{"$f":"IF('Build Your Schedule'!AJ$5=$B$17,IF(COUNTIF('Build Your Schedule'!AI$8:AI$11,$B$17)>0,1,0),0)","v":0},{"$f":"IF('Build Your Schedule'!AK$5=$B$17,IF(COUNTIF('Build Your Schedule'!AJ$8:AJ$11,$B$17)>0,1,0),0)","v":0}]
[null,"9a-6p",{"$f":"IF('Build Your Schedule'!H$6=$B$17,IF((COUNTIF('Build Your Schedule'!G$8:G$11,$B$17)+COUNTIF('Build Your Schedule'!H$5,$B$17))>0,1,0),0)","v":0},{"$f":"IF('Build Your Schedule'!I$6=$B$17,IF((COUNTIF('Build Your Schedule'!H$8:H$11,$B$17)+COUNTIF('Build Your Schedule'!I$5,$B$17))>0,1,0),0)","v":0},{"$f":"IF('Build Your Schedule'!J$6=$B$17,IF((COUNTIF('Build Your Schedule'!I$8:I$11,$B$17)+COUNTIF('Build Your Schedule'!J$5,$B$17))>0,1,0),0)","v":0},{"$f":"IF('Build Your Schedule'!K$6=$B$17,IF((COUNTIF('Build Your Schedule'!J$8:J$11,$B$17)+COUNTIF('Build Your Schedule'!K$5,$B$17))>0,1,0),0)","v":0},{"$f":"IF('Build Your Schedule'!L$6=$B$17,IF((COUNTIF('Build Your Schedule'!K$8:K$11,$B$17)+COUNTIF('Build Your Schedule'!L$5,$B$17))>0,1,0),0)","v":0},{"$f":"IF('Build Your Schedule'!M$6=$B$17,IF((COUNTIF('Build Your Schedule'!L$8:L$11,$B$17)+COUNTIF('Build Your Schedule'!M$5,$B$17))>0,1,0),0)","v":0},{"$f":"IF('Build Your Schedule'!N$6=$B$17,IF((COUNTIF('Build Your Schedule'!M$8:M$11,$B$17)+COUNTIF('Build Your Schedule'!N$5,$B$17))>0,1,0),0)","v":0},{"$f":"IF('Build Your Schedule'!O$6=$B$17,IF((COUNTIF('Build Your Schedule'!N$8:N$11,$B$17)+COUNTIF('Build Your Schedule'!O$5,$B$17))>0,1,0),0)","v":0},{"$f":"IF('Build Your Schedule'!P$6=$B$17,IF((COUNTIF('Build Your Schedule'!O$8:O$11,$B$17)+COUNTIF('Build Your Schedule'!P$5,$B$17))>0,1,0),0)","v":0},{"$f":"IF('Build Your Schedule'!Q$6=$B$17,IF((COUNTIF('Build Your Schedule'!P$8:P$11,$B$17)+COUNTIF('Build Your Schedule'!Q$5,$B$17))>0,1,0),0)","v":0},{"$f":"IF('Build Your Schedule'!R$6=$B$17,IF((COUNTIF('Build Your Schedule'!Q$8:Q$11,$B$17)+COUNTIF('Build Your Schedule'!R$5,$B$17))>0,1,0),0)","v":0},{"$f":"IF('Build Your Schedule'!S$6=$B$17,IF((COUNTIF('Build Your Schedule'!R$8:R$11,$B$17)+COUNTIF('Build Your Schedule'!S$5,$B$17))>0,1,0),0)","v":0},{"$f":"IF('Build Your Schedule'!T$6=$B$17,IF((COUNTIF('Build Your Schedule'!S$8:S$11,$B$17)+COUNTIF('Build Your Schedule'!T$5,$B$17))>0,1,0),0)","v":0},{"$f":"IF('Build Your Schedule'!U$6=$B$17,IF((COUNTIF('Build Your Schedule'!T$8:T$11,$B$17)+COUNTIF('Build Your Schedule'!U$5,$B$17))>0,1,0),0)","v":0},{"$f":"IF('Build Your Schedule'!V$6=$B$17,IF((COUNTIF('Build Your Schedule'!U$8:U$11,$B$17)+COUNTIF('Build Your Schedule'!V$5,$B$17))>0,1,0),0)","v":0},{"$f":"IF('Build Your Schedule'!W$6=$B$17,IF((COUNTIF('Build Your Schedule'!V$8:V$11,$B$17)+COUNTIF('Build Your Schedule'!W$5,$B$17))>0,1,0),0)","v":0},{"$f":"IF('Build Your Schedule'!X$6=$B$17,IF((COUNTIF('Build Your Schedule'!W$8:W$11,$B$17)+COUNTIF('Build Your Schedule'!X$5,$B$17))>0,1,0),0)","v":0},{"$f":"IF('Build Your Schedule'!Y$6=$B$17,IF((COUNTIF('Build Your Schedule'!X$8:X$11,$B$17)+COUNTIF('Build Your Schedule'!Y$5,$B$17))>0,1,0),0)","v":0},{"$f":"IF('Build Your Schedule'!Z$6=$B$17,IF((COUNTIF('Build Your Schedule'!Y$8:Y$11,$B$17)+COUNTIF('Build Your Schedule'!Z$5,$B$17))>0,1,0),0)","v":0},{"$f":"IF('Build Your Schedule'!AA$6=$B$17,IF((COUNTIF('Build Your Schedule'!Z$8:Z$11,$B$17)+COUNTIF('Build Your Schedule'!AA$5,$B$17))>0,1,0),0)","v":0},{"$f":"IF('Build Your Schedule'!AB$6=$B$17,IF((COUNTIF('Build Your Schedule'!AA$8:AA$11,$B$17)+COUNTIF('Build Your Schedule'!AB$5,$B$17))>0,1,0),0)","v":0},{"$f":"IF('Build Your Schedule'!AC$6=$B$17,IF((COUNTIF('Build Your Schedule'!AB$8:AB$11,$B$17)+COUNTIF('Build Your Schedule'!AC$5,$B$17))>0,1,0),0)","v":0},{"$f":"IF('Build Your Schedule'!AD$6=$B$17,IF((COUNTIF('Build Your Schedule'!AC$8:AC$11,$B$17)+COUNTIF('Build Your Schedule'!AD$5,$B$17))>0,1,0),0)","v":0},{"$f":"IF('Build Your Schedule'!AE$6=$B$17,IF((COUNTIF('Build Your Schedule'!AD$8:AD$11,$B$17)+COUNTIF('Build Your Schedule'!AE$5,$B$17))>0,1,0),0)","v":0},{"$f":"IF('Build Your Schedule'!AF$6=$B$17,IF((COUNTIF('Build Your Schedule'!AE$8:AE$11,$B$17)+COUNTIF('Build Your Schedule'!AF$5,$B$17))>0,1,0),0)","v":0},{"$f":"IF('Build Your Schedule'!AG$6=$B$17,IF((COUNTIF('Build Your Schedule'!AF$8:AF$11,$B$17)+COUNTIF('Build Your Schedule'!AG$5,$B$17))>0,1,0),0)","v":0},{"$f":"IF('Build Your Schedule'!AH$6=$B$17,IF((COUNTIF('Build Your Schedule'!AG$8:AG$11,$B$17)+COUNTIF('Build Your Schedule'!AH$5,$B$17))>0,1,0),0)","v":0},{"$f":"IF('Build Your Schedule'!AI$6=$B$17,IF((COUNTIF('Build Your Schedule'!AH$8:AH$11,$B$17)+COUNTIF('Build Your Schedule'!AI$5,$B$17))>0,1,0),0)","v":0},{"$f":"IF('Build Your Schedule'!AJ$6=$B$17,IF((COUNTIF('Build Your Schedule'!AI$8:AI$11,$B$17)+COUNTIF('Build Your Schedule'!AJ$5,$B$17))>0,1,0),0)","v":0},{"$f":"IF('Build Your Schedule'!AK$6=$B$17,IF((COUNTIF('Build Your Schedule'!AJ$8:AJ$11,$B$17)+COUNTIF('Build Your Schedule'!AK$5,$B$17))>0,1,0),0)","v":0}]
[null,"12p-9p",{"$f":"IF('Build Your Schedule'!H$7=$B$17,IF((COUNTIF('Build Your Schedule'!G$10:G$11,$B$17)+COUNTIF('Build Your Schedule'!H$5:H$6,$B$17))>0,1,0),0)","v":0},{"$f":"IF('Build Your Schedule'!I$7=$B$17,IF((COUNTIF('Build Your Schedule'!H$10:H$11,$B$17)+COUNTIF('Build Your Schedule'!I$5:I$6,$B$17))>0,1,0),0)","v":0},{"$f":"IF('Build Your Schedule'!J$7=$B$17,IF((COUNTIF('Build Your Schedule'!I$10:I$11,$B$17)+COUNTIF('Build Your Schedule'!J$5:J$6,$B$17))>0,1,0),0)","v":0},{"$f":"IF('Build Your Schedule'!K$7=$B$17,IF((COUNTIF('Build Your Schedule'!J$10:J$11,$B$17)+COUNTIF('Build Your Schedule'!K$5:K$6,$B$17))>0,1,0),0)","v":0},{"$f":"IF('Build Your Schedule'!L$7=$B$17,IF((COUNTIF('Build Your Schedule'!K$10:K$11,$B$17)+COUNTIF('Build Your Schedule'!L$5:L$6,$B$17))>0,1,0),0)","v":0},{"$f":"IF('Build Your Schedule'!M$7=$B$17,IF((COUNTIF('Build Your Schedule'!L$10:L$11,$B$17)+COUNTIF('Build Your Schedule'!M$5:M$6,$B$17))>0,1,0),0)","v":0},{"$f":"IF('Build Your Schedule'!N$7=$B$17,IF((COUNTIF('Build Your Schedule'!M$10:M$11,$B$17)+COUNTIF('Build Your Schedule'!N$5:N$6,$B$17))>0,1,0),0)","v":0},{"$f":"IF('Build Your Schedule'!O$7=$B$17,IF((COUNTIF('Build Your Schedule'!N$10:N$11,$B$17)+COUNTIF('Build Your Schedule'!O$5:O$6,$B$17))>0,1,0),0)","v":0},{"$f":"IF('Build Your Schedule'!P$7=$B$17,IF((COUNTIF('Build Your Schedule'!O$10:O$11,$B$17)+COUNTIF('Build Your Schedule'!P$5:P$6,$B$17))>0,1,0),0)","v":0},{"$f":"IF('Build Your Schedule'!Q$7=$B$17,IF((COUNTIF('Build Your Schedule'!P$10:P$11,$B$17)+COUNTIF('Build Your Schedule'!Q$5:Q$6,$B$17))>0,1,0),0)","v":0},{"$f":"IF('Build Your Schedule'!R$7=$B$17,IF((COUNTIF('Build Your Schedule'!Q$10:Q$11,$B$17)+COUNTIF('Build Your Schedule'!R$5:R$6,$B$17))>0,1,0),0)","v":0},{"$f":"IF('Build Your Schedule'!S$7=$B$17,IF((COUNTIF('Build Your Schedule'!R$10:R$11,$B$17)+COUNTIF('Build Your Schedule'!S$5:S$6,$B$17))>0,1,0),0)","v":0},{"$f":"IF('Build Your Schedule'!T$7=$B$17,IF((COUNTIF('Build Your Schedule'!S$10:S$11,$B$17)+COUNTIF('Build Your Schedule'!T$5:T$6,$B$17))>0,1,0),0)","v":0},{"$f":"IF('Build Your Schedule'!U$7=$B$17,IF((COUNTIF('Build Your Schedule'!T$10:T$11,$B$17)+COUNTIF('Build Your Schedule'!U$5:U$6,$B$17))>0,1,0),0)","v":0},{"$f":"IF('Build Your Schedule'!V$7=$B$17,IF((COUNTIF('Build Your Schedule'!U$10:U$11,$B$17)+COUNTIF('Build Your Schedule'!V$5:V$6,$B$17))>0,1,0),0)","v":0},{"$f":"IF('Build Your Schedule'!W$7=$B$17,IF((COUNTIF('Build Your Schedule'!V$10:V$11,$B$17)+COUNTIF('Build Your Schedule'!W$5:W$6,$B$17))>0,1,0),0)","v":0},{"$f":"IF('Build Your Schedule'!X$7=$B$17,IF((COUNTIF('Build Your Schedule'!W$10:W$11,$B$17)+COUNTIF('Build Your Schedule'!X$5:X$6,$B$17))>0,1,0),0)","v":0},{"$f":"IF('Build Your Schedule'!Y$7=$B$17,IF((COUNTIF('Build Your Schedule'!X$10:X$11,$B$17)+COUNTIF('Build Your Schedule'!Y$5:Y$6,$B$17))>0,1,0),0)","v":0},{"$f":"IF('Build Your Schedule'!Z$7=$B$17,IF((COUNTIF('Build Your Schedule'!Y$10:Y$11,$B$17)+COUNTIF('Build Your Schedule'!Z$5:Z$6,$B$17))>0,1,0),0)","v":0},{"$f":"IF('Build Your Schedule'!AA$7=$B$17,IF((COUNTIF('Build Your Schedule'!Z$10:Z$11,$B$17)+COUNTIF('Build Your Schedule'!AA$5:AA$6,$B$17))>0,1,0),0)","v":0},{"$f":"IF('Build Your Schedule'!AB$7=$B$17,IF((COUNTIF('Build Your Schedule'!AA$10:AA$11,$B$17)+COUNTIF('Build Your Schedule'!AB$5:AB$6,$B$17))>0,1,0),0)","v":0},{"$f":"IF('Build Your Schedule'!AC$7=$B$17,IF((COUNTIF('Build Your Schedule'!AB$10:AB$11,$B$17)+COUNTIF('Build Your Schedule'!AC$5:AC$6,$B$17))>0,1,0),0)","v":0},{"$f":"IF('Build Your Schedule'!AD$7=$B$17,IF((COUNTIF('Build Your Schedule'!AC$10:AC$11,$B$17)+COUNTIF('Build Your Schedule'!AD$5:AD$6,$B$17))>0,1,0),0)","v":0},{"$f":"IF('Build Your Schedule'!AE$7=$B$17,IF((COUNTIF('Build Your Schedule'!AD$10:AD$11,$B$17)+COUNTIF('Build Your Schedule'!AE$5:AE$6,$B$17))>0,1,0),0)","v":0},{"$f":"IF('Build Your Schedule'!AF$7=$B$17,IF((COUNTIF('Build Your Schedule'!AE$10:AE$11,$B$17)+COUNTIF('Build Your Schedule'!AF$5:AF$6,$B$17))>0,1,0),0)","v":0},{"$f":"IF('Build Your Schedule'!AG$7=$B$17,IF((COUNTIF('Build Your Schedule'!AF$10:AF$11,$B$17)+COUNTIF('Build Your Schedule'!AG$5:AG$6,$B$17))>0,1,0),0)","v":0},{"$f":"IF('Build Your Schedule'!AH$7=$B$17,IF((COUNTIF('Build Your Schedule'!AG$10:AG$11,$B$17)+COUNTIF('Build Your Schedule'!AH$5:AH$6,$B$17))>0,1,0),0)","v":0},{"$f":"IF('Build Your Schedule'!AI$7=$B$17,IF((COUNTIF('Build Your Schedule'!AH$10:AH$11,$B$17)+COUNTIF('Build Your Schedule'!AI$5:AI$6,$B$17))>0,1,0),0)","v":0},{"$f":"IF('Build Your Schedule'!AJ$7=$B$17,IF((COUNTIF('Build Your Schedule'!AI$10:AI$11,$B$17)+COUNTIF('Build Your Schedule'!AJ$5:AJ$6,$B$17))>0,1,0),0)","v":0},{"$f":"IF('Build Your Schedule'!AK$7=$B$17,IF((COUNTIF('Build Your Schedule'!AJ$10:AJ$11,$B$17)+COUNTIF('Build Your Schedule'!AK$5:AK$6,$B$17))>0,1,0),0)","v":0}]
[null,"4p-1a",{"$f":"IF('Build Your Schedule'!H$8=$B$17,IF((COUNTIF('Build Your Schedule'!G$11,$B$17)+COUNTIF('Build Your Schedule'!H$5:H$7,$B$17))>0,1,0),0)","v":0},{"$f":"IF('Build Your Schedule'!I$8=$B$17,IF((COUNTIF('Build Your Schedule'!H$11,$B$17)+COUNTIF('Build Your Schedule'!I$5:I$7,$B$17))>0,1,0),0)","v":0},{"$f":"IF('Build Your Schedule'!J$8=$B$17,IF((COUNTIF('Build Your Schedule'!I$11,$B$17)+COUNTIF('Build Your Schedule'!J$5:J$7,$B$17))>0,1,0),0)","v":0},{"$f":"IF('Build Your Schedule'!K$8=$B$17,IF((COUNTIF('Build Your Schedule'!J$11,$B$17)+COUNTIF('Build Your Schedule'!K$5:K$7,$B$17))>0,1,0),0)","v":0},{"$f":"IF('Build Your Schedule'!L$8=$B$17,IF((COUNTIF('Build Your Schedule'!K$11,$B$17)+COUNTIF('Build Your Schedule'!L$5:L$7,$B$17))>0,1,0),0)","v":0},{"$f":"IF('Build Your Schedule'!M$8=$B$17,IF((COUNTIF('Build Your Schedule'!L$11,$B$17)+COUNTIF('Build Your Schedule'!M$5:M$7,$B$17))>0,1,0),0)","v":0},{"$f":"IF('Build Your Schedule'!N$8=$B$17,IF((COUNTIF('Build Your Schedule'!M$11,$B$17)+COUNTIF('Build Your Schedule'!N$5:N$7,$B$17))>0,1,0),0)","v":0},{"$f":"IF('Build Your Schedule'!O$8=$B$17,IF((COUNTIF('Build Your Schedule'!N$11,$B$17)+COUNTIF('Build Your Schedule'!O$5:O$7,$B$17))>0,1,0),0)","v":0},{"$f":"IF('Build Your Schedule'!P$8=$B$17,IF((COUNTIF('Build Your Schedule'!O$11,$B$17)+COUNTIF('Build Your Schedule'!P$5:P$7,$B$17))>0,1,0),0)","v":0},{"$f":"IF('Build Your Schedule'!Q$8=$B$17,IF((COUNTIF('Build Your Schedule'!P$11,$B$17)+COUNTIF('Build Your Schedule'!Q$5:Q$7,$B$17))>0,1,0),0)","v":0},{"$f":"IF('Build Your Schedule'!R$8=$B$17,IF((COUNTIF('Build Your Schedule'!Q$11,$B$17)+COUNTIF('Build Your Schedule'!R$5:R$7,$B$17))>0,1,0),0)","v":0},{"$f":"IF('Build Your Schedule'!S$8=$B$17,IF((COUNTIF('Build Your Schedule'!R$11,$B$17)+COUNTIF('Build Your Schedule'!S$5:S$7,$B$17))>0,1,0),0)","v":0},{"$f":"IF('Build Your Schedule'!T$8=$B$17,IF((COUNTIF('Build Your Schedule'!S$11,$B$17)+COUNTIF('Build Your Schedule'!T$5:T$7,$B$17))>0,1,0),0)","v":0},{"$f":"IF('Build Your Schedule'!U$8=$B$17,IF((COUNTIF('Build Your Schedule'!T$11,$B$17)+COUNTIF('Build Your Schedule'!U$5:U$7,$B$17))>0,1,0),0)","v":0},{"$f":"IF('Build Your Schedule'!V$8=$B$17,IF((COUNTIF('Build Your Schedule'!U$11,$B$17)+COUNTIF('Build Your Schedule'!V$5:V$7,$B$17))>0,1,0),0)","v":0},{"$f":"IF('Build Your Schedule'!W$8=$B$17,IF((COUNTIF('Build Your Schedule'!V$11,$B$17)+COUNTIF('Build Your Schedule'!W$5:W$7,$B$17))>0,1,0),0)","v":0},{"$f":"IF('Build Your Schedule'!X$8=$B$17,IF((COUNTIF('Build Your Schedule'!W$11,$B$17)+COUNTIF('Build Your Schedule'!X$5:X$7,$B$17))>0,1,0),0)","v":0},{"$f":"IF('Build Your Schedule'!Y$8=$B$17,IF((COUNTIF('Build Your Schedule'!X$11,$B$17)+COUNTIF('Build Your Schedule'!Y$5:Y$7,$B$17))>0,1,0),0)","v":0},{"$f":"IF('Build Your Schedule'!Z$8=$B$17,IF((COUNTIF('Build Your Schedule'!Y$11,$B$17)+COUNTIF('Build Your Schedule'!Z$5:Z$7,$B$17))>0,1,0),0)","v":0},{"$f":"IF('Build Your Schedule'!AA$8=$B$17,IF((COUNTIF('Build Your Schedule'!Z$11,$B$17)+COUNTIF('Build Your Schedule'!AA$5:AA$7,$B$17))>0,1,0),0)","v":0},{"$f":"IF('Build Your Schedule'!AB$8=$B$17,IF((COUNTIF('Build Your Schedule'!AA$11,$B$17)+COUNTIF('Build Your Schedule'!AB$5:AB$7,$B$17))>0,1,0),0)","v":0},{"$f":"IF('Build Your Schedule'!AC$8=$B$17,IF((COUNTIF('Build Your Schedule'!AB$11,$B$17)+COUNTIF('Build Your Schedule'!AC$5:AC$7,$B$17))>0,1,0),0)","v":0},{"$f":"IF('Build Your Schedule'!AD$8=$B$17,IF((COUNTIF('Build Your Schedule'!AC$11,$B$17)+COUNTIF('Build Your Schedule'!AD$5:AD$7,$B$17))>0,1,0),0)","v":0},{"$f":"IF('Build Your Schedule'!AE$8=$B$17,IF((COUNTIF('Build Your Schedule'!AD$11,$B$17)+COUNTIF('Build Your Schedule'!AE$5:AE$7,$B$17))>0,1,0),0)","v":0},{"$f":"IF('Build Your Schedule'!AF$8=$B$17,IF((COUNTIF('Build Your Schedule'!AE$11,$B$17)+COUNTIF('Build Your Schedule'!AF$5:AF$7,$B$17))>0,1,0),0)","v":0},{"$f":"IF('Build Your Schedule'!AG$8=$B$17,IF((COUNTIF('Build Your Schedule'!AF$11,$B$17)+COUNTIF('Build Your Schedule'!AG$5:AG$7,$B$17))>0,1,0),0)","v":0},{"$f":"IF('Build Your Schedule'!AH$8=$B$17,IF((COUNTIF('Build Your Schedule'!AG$11,$B$17)+COUNTIF('Build Your Schedule'!AH$5:AH$7,$B$17))>0,1,0),0)","v":0},{"$f":"IF('Build Your Schedule'!AI$8=$B$17,IF((COUNTIF('Build Your Schedule'!AH$11,$B$17)+COUNTIF('Build Your Schedule'!AI$5:AI$7,$B$17))>0,1,0),0)","v":0},{"$f":"IF('Build Your Schedule'!AJ$8=$B$17,IF((COUNTIF('Build Your Schedule'!AI$11,$B$17)+COUNTIF('Build Your Schedule'!AJ$5:AJ$7,$B$17))>0,1,0),0)","v":0},{"$f":"IF('Build Your Schedule'!AK$8=$B$17,IF((COUNTIF('Build Your Schedule'!AJ$11,$B$17)+COUNTIF('Build Your Schedule'!AK$5:AK$7,$B$17))>0,1,0),0)","v":0}]
[null,"5p-2a",{"$f":"IF('Build Your Schedule'!H$9=$B$17,IF((COUNTIF('Build Your Schedule'!G$11,$B$17)+COUNTIF('Build Your Schedule'!H$5:H$8,$B$17))>0,1,0),0)","v":0},{"$f":"IF('Build Your Schedule'!I$9=$B$17,IF((COUNTIF('Build Your Schedule'!H$11,$B$17)+COUNTIF('Build Your Schedule'!I$5:I$8,$B$17))>0,1,0),0)","v":0},{"$f":"IF('Build Your Schedule'!J$9=$B$17,IF((COUNTIF('Build Your Schedule'!I$11,$B$17)+COUNTIF('Build Your Schedule'!J$5:J$8,$B$17))>0,1,0),0)","v":0},{"$f":"IF('Build Your Schedule'!K$9=$B$17,IF((COUNTIF('Build Your Schedule'!J$11,$B$17)+COUNTIF('Build Your Schedule'!K$5:K$8,$B$17))>0,1,0),0)","v":0},{"$f":"IF('Build Your Schedule'!L$9=$B$17,IF((COUNTIF('Build Your Schedule'!K$11,$B$17)+COUNTIF('Build Your Schedule'!L$5:L$8,$B$17))>0,1,0),0)","v":0},{"$f":"IF('Build Your Schedule'!M$9=$B$17,IF((COUNTIF('Build Your Schedule'!L$11,$B$17)+COUNTIF('Build Your Schedule'!M$5:M$8,$B$17))>0,1,0),0)","v":0},{"$f":"IF('Build Your Schedule'!N$9=$B$17,IF((COUNTIF('Build Your Schedule'!M$11,$B$17)+COUNTIF('Build Your Schedule'!N$5:N$8,$B$17))>0,1,0),0)","v":0},{"$f":"IF('Build Your Schedule'!O$9=$B$17,IF((COUNTIF('Build Your Schedule'!N$11,$B$17)+COUNTIF('Build Your Schedule'!O$5:O$8,$B$17))>0,1,0),0)","v":0},{"$f":"IF('Build Your Schedule'!P$9=$B$17,IF((COUNTIF('Build Your Schedule'!O$11,$B$17)+COUNTIF('Build Your Schedule'!P$5:P$8,$B$17))>0,1,0),0)","v":0},{"$f":"IF('Build Your Schedule'!Q$9=$B$17,IF((COUNTIF('Build Your Schedule'!P$11,$B$17)+COUNTIF('Build Your Schedule'!Q$5:Q$8,$B$17))>0,1,0),0)","v":0},{"$f":"IF('Build Your Schedule'!R$9=$B$17,IF((COUNTIF('Build Your Schedule'!Q$11,$B$17)+COUNTIF('Build Your Schedule'!R$5:R$8,$B$17))>0,1,0),0)","v":0},{"$f":"IF('Build Your Schedule'!S$9=$B$17,IF((COUNTIF('Build Your Schedule'!R$11,$B$17)+COUNTIF('Build Your Schedule'!S$5:S$8,$B$17))>0,1,0),0)","v":0},{"$f":"IF('Build Your Schedule'!T$9=$B$17,IF((COUNTIF('Build Your Schedule'!S$11,$B$17)+COUNTIF('Build Your Schedule'!T$5:T$8,$B$17))>0,1,0),0)","v":0},{"$f":"IF('Build Your Schedule'!U$9=$B$17,IF((COUNTIF('Build Your Schedule'!T$11,$B$17)+COUNTIF('Build Your Schedule'!U$5:U$8,$B$17))>0,1,0),0)","v":0},{"$f":"IF('Build Your Schedule'!V$9=$B$17,IF((COUNTIF('Build Your Schedule'!U$11,$B$17)+COUNTIF('Build Your Schedule'!V$5:V$8,$B$17))>0,1,0),0)","v":0},{"$f":"IF('Build Your Schedule'!W$9=$B$17,IF((COUNTIF('Build Your Schedule'!V$11,$B$17)+COUNTIF('Build Your Schedule'!W$5:W$8,$B$17))>0,1,0),0)","v":0},{"$f":"IF('Build Your Schedule'!X$9=$B$17,IF((COUNTIF('Build Your Schedule'!W$11,$B$17)+COUNTIF('Build Your Schedule'!X$5:X$8,$B$17))>0,1,0),0)","v":0},{"$f":"IF('Build Your Schedule'!Y$9=$B$17,IF((COUNTIF('Build Your Schedule'!X$11,$B$17)+COUNTIF('Build Your Schedule'!Y$5:Y$8,$B$17))>0,1,0),0)","v":0},{"$f":"IF('Build Your Schedule'!Z$9=$B$17,IF((COUNTIF('Build Your Schedule'!Y$11,$B$17)+COUNTIF('Build Your Schedule'!Z$5:Z$8,$B$17))>0,1,0),0)","v":0},{"$f":"IF('Build Your Schedule'!AA$9=$B$17,IF((COUNTIF('Build Your Schedule'!Z$11,$B$17)+COUNTIF('Build Your Schedule'!AA$5:AA$8,$B$17))>0,1,0),0)","v":0},{"$f":"IF('Build Your Schedule'!AB$9=$B$17,IF((COUNTIF('Build Your Schedule'!AA$11,$B$17)+COUNTIF('Build Your Schedule'!AB$5:AB$8,$B$17))>0,1,0),0)","v":0},{"$f":"IF('Build Your Schedule'!AC$9=$B$17,IF((COUNTIF('Build Your Schedule'!AB$11,$B$17)+COUNTIF('Build Your Schedule'!AC$5:AC$8,$B$17))>0,1,0),0)","v":0},{"$f":"IF('Build Your Schedule'!AD$9=$B$17,IF((COUNTIF('Build Your Schedule'!AC$11,$B$17)+COUNTIF('Build Your Schedule'!AD$5:AD$8,$B$17))>0,1,0),0)","v":0},{"$f":"IF('Build Your Schedule'!AE$9=$B$17,IF((COUNTIF('Build Your Schedule'!AD$11,$B$17)+COUNTIF('Build Your Schedule'!AE$5:AE$8,$B$17))>0,1,0),0)","v":0},{"$f":"IF('Build Your Schedule'!AF$9=$B$17,IF((COUNTIF('Build Your Schedule'!AE$11,$B$17)+COUNTIF('Build Your Schedule'!AF$5:AF$8,$B$17))>0,1,0),0)","v":0},{"$f":"IF('Build Your Schedule'!AG$9=$B$17,IF((COUNTIF('Build Your Schedule'!AF$11,$B$17)+COUNTIF('Build Your Schedule'!AG$5:AG$8,$B$17))>0,1,0),0)","v":0},{"$f":"IF('Build Your Schedule'!AH$9=$B$17,IF((COUNTIF('Build Your Schedule'!AG$11,$B$17)+COUNTIF('Build Your Schedule'!AH$5:AH$8,$B$17))>0,1,0),0)","v":0},{"$f":"IF('Build Your Schedule'!AI$9=$B$17,IF((COUNTIF('Build Your Schedule'!AH$11,$B$17)+COUNTIF('Build Your Schedule'!AI$5:AI$8,$B$17))>0,1,0),0)","v":0},{"$f":"IF('Build Your Schedule'!AJ$9=$B$17,IF((COUNTIF('Build Your Schedule'!AI$11,$B$17)+COUNTIF('Build Your Schedule'!AJ$5:AJ$8,$B$17))>0,1,0),0)","v":0},{"$f":"IF('Build Your Schedule'!AK$9=$B$17,IF((COUNTIF('Build Your Schedule'!AJ$11,$B$17)+COUNTIF('Build Your Schedule'!AK$5:AK$8,$B$17))>0,1,0),0)","v":0}]
[null,"8p-5a",{"$f":"IF('Build Your Schedule'!H$10=$B$17,IF(COUNTIF('Build Your Schedule'!H$5:H$9,$B$17)>0,1,0),0)","v":0},{"$f":"IF('Build Your Schedule'!I$10=$B$17,IF(COUNTIF('Build Your Schedule'!I$5:I$9,$B$17)>0,1,0),0)","v":0},{"$f":"IF('Build Your Schedule'!J$10=$B$17,IF(COUNTIF('Build Your Schedule'!J$5:J$9,$B$17)>0,1,0),0)","v":0},{"$f":"IF('Build Your Schedule'!K$10=$B$17,IF(COUNTIF('Build Your Schedule'!K$5:K$9,$B$17)>0,1,0),0)","v":0},{"$f":"IF('Build Your Schedule'!L$10=$B$17,IF(COUNTIF('Build Your Schedule'!L$5:L$9,$B$17)>0,1,0),0)","v":0},{"$f":"IF('Build Your Schedule'!M$10=$B$17,IF(COUNTIF('Build Your Schedule'!M$5:M$9,$B$17)>0,1,0),0)","v":0},{"$f":"IF('Build Your Schedule'!N$10=$B$17,IF(COUNTIF('Build Your Schedule'!N$5:N$9,$B$17)>0,1,0),0)","v":0},{"$f":"IF('Build Your Schedule'!O$10=$B$17,IF(COUNTIF('Build Your Schedule'!O$5:O$9,$B$17)>0,1,0),0)","v":0},{"$f":"IF('Build Your Schedule'!P$10=$B$17,IF(COUNTIF('Build Your Schedule'!P$5:P$9,$B$17)>0,1,0),0)","v":0},{"$f":"IF('Build Your Schedule'!Q$10=$B$17,IF(COUNTIF('Build Your Schedule'!Q$5:Q$9,$B$17)>0,1,0),0)","v":0},{"$f":"IF('Build Your Schedule'!R$10=$B$17,IF(COUNTIF('Build Your Schedule'!R$5:R$9,$B$17)>0,1,0),0)","v":0},{"$f":"IF('Build Your Schedule'!S$10=$B$17,IF(COUNTIF('Build Your Schedule'!S$5:S$9,$B$17)>0,1,0),0)","v":0},{"$f":"IF('Build Your Schedule'!T$10=$B$17,IF(COUNTIF('Build Your Schedule'!T$5:T$9,$B$17)>0,1,0),0)","v":0},{"$f":"IF('Build Your Schedule'!U$10=$B$17,IF(COUNTIF('Build Your Schedule'!U$5:U$9,$B$17)>0,1,0),0)","v":0},{"$f":"IF('Build Your Schedule'!V$10=$B$17,IF(COUNTIF('Build Your Schedule'!V$5:V$9,$B$17)>0,1,0),0)","v":0},{"$f":"IF('Build Your Schedule'!W$10=$B$17,IF(COUNTIF('Build Your Schedule'!W$5:W$9,$B$17)>0,1,0),0)","v":0},{"$f":"IF('Build Your Schedule'!X$10=$B$17,IF(COUNTIF('Build Your Schedule'!X$5:X$9,$B$17)>0,1,0),0)","v":0},{"$f":"IF('Build Your Schedule'!Y$10=$B$17,IF(COUNTIF('Build Your Schedule'!Y$5:Y$9,$B$17)>0,1,0),0)","v":0},{"$f":"IF('Build Your Schedule'!Z$10=$B$17,IF(COUNTIF('Build Your Schedule'!Z$5:Z$9,$B$17)>0,1,0),0)","v":0},{"$f":"IF('Build Your Schedule'!AA$10=$B$17,IF(COUNTIF('Build Your Schedule'!AA$5:AA$9,$B$17)>0,1,0),0)","v":0},{"$f":"IF('Build Your Schedule'!AB$10=$B$17,IF(COUNTIF('Build Your Schedule'!AB$5:AB$9,$B$17)>0,1,0),0)","v":0},{"$f":"IF('Build Your Schedule'!AC$10=$B$17,IF(COUNTIF('Build Your Schedule'!AC$5:AC$9,$B$17)>0,1,0),0)","v":0},{"$f":"IF('Build Your Schedule'!AD$10=$B$17,IF(COUNTIF('Build Your Schedule'!AD$5:AD$9,$B$17)>0,1,0),0)","v":0},{"$f":"IF('Build Your Schedule'!AE$10=$B$17,IF(COUNTIF('Build Your Schedule'!AE$5:AE$9,$B$17)>0,1,0),0)","v":0},{"$f":"IF('Build Your Schedule'!AF$10=$B$17,IF(COUNTIF('Build Your Schedule'!AF$5:AF$9,$B$17)>0,1,0),0)","v":0},{"$f":"IF('Build Your Schedule'!AG$10=$B$17,IF(COUNTIF('Build Your Schedule'!AG$5:AG$9,$B$17)>0,1,0),0)","v":0},{"$f":"IF('Build Your Schedule'!AH$10=$B$17,IF(COUNTIF('Build Your Schedule'!AH$5:AH$9,$B$17)>0,1,0),0)","v":0},{"$f":"IF('Build Your Schedule'!AI$10=$B$17,IF(COUNTIF('Build Your Schedule'!AI$5:AI$9,$B$17)>0,1,0),0)","v":0},{"$f":"IF('Build Your Schedule'!AJ$10=$B$17,IF(COUNTIF('Build Your Schedule'!AJ$5:AJ$9,$B$17)>0,1,0),0)","v":0},{"$f":"IF('Build Your Schedule'!AK$10=$B$17,IF(COUNTIF('Build Your Schedule'!AK$5:AK$9,$B$17)>0,1,0),0)","v":0}]
[null,"11p-8a",{"$f":"IF('Build Your Schedule'!H$11=$B$17,IF(COUNTIF('Build Your Schedule'!H$5:H$10,$B$17)>0,1,0),0)","v":0},{"$f":"IF('Build Your Schedule'!I$11=$B$17,IF(COUNTIF('Build Your Schedule'!I$5:I$10,$B$17)>0,1,0),0)","v":0},{"$f":"IF('Build Your Schedule'!J$11=$B$17,IF(COUNTIF('Build Your Schedule'!J$5:J$10,$B$17)>0,1,0),0)","v":0},{"$f":"IF('Build Your Schedule'!K$11=$B$17,IF(COUNTIF('Build Your Schedule'!K$5:K$10,$B$17)>0,1,0),0)","v":0},{"$f":"IF('Build Your Schedule'!L$11=$B$17,IF(COUNTIF('Build Your Schedule'!L$5:L$10,$B$17)>0,1,0),0)","v":0},{"$f":"IF('Build Your Schedule'!M$11=$B$17,IF(COUNTIF('Build Your Schedule'!M$5:M$10,$B$17)>0,1,0),0)","v":0},{"$f":"IF('Build Your Schedule'!N$11=$B$17,IF(COUNTIF('Build Your Schedule'!N$5:N$10,$B$17)>0,1,0),0)","v":0},{"$f":"IF('Build Your Schedule'!O$11=$B$17,IF(COUNTIF('Build Your Schedule'!O$5:O$10,$B$17)>0,1,0),0)","v":0},{"$f":"IF('Build Your Schedule'!P$11=$B$17,IF(COUNTIF('Build Your Schedule'!P$5:P$10,$B$17)>0,1,0),0)","v":0},{"$f":"IF('Build Your Schedule'!Q$11=$B$17,IF(COUNTIF('Build Your Schedule'!Q$5:Q$10,$B$17)>0,1,0),0)","v":0},{"$f":"IF('Build Your Schedule'!R$11=$B$17,IF(COUNTIF('Build Your Schedule'!R$5:R$10,$B$17)>0,1,0),0)","v":0},{"$f":"IF('Build Your Schedule'!S$11=$B$17,IF(COUNTIF('Build Your Schedule'!S$5:S$10,$B$17)>0,1,0),0)","v":0},{"$f":"IF('Build Your Schedule'!T$11=$B$17,IF(COUNTIF('Build Your Schedule'!T$5:T$10,$B$17)>0,1,0),0)","v":0},{"$f":"IF('Build Your Schedule'!U$11=$B$17,IF(COUNTIF('Build Your Schedule'!U$5:U$10,$B$17)>0,1,0),0)","v":0},{"$f":"IF('Build Your Schedule'!V$11=$B$17,IF(COUNTIF('Build Your Schedule'!V$5:V$10,$B$17)>0,1,0),0)","v":0},{"$f":"IF('Build Your Schedule'!W$11=$B$17,IF(COUNTIF('Build Your Schedule'!W$5:W$10,$B$17)>0,1,0),0)","v":0},{"$f":"IF('Build Your Schedule'!X$11=$B$17,IF(COUNTIF('Build Your Schedule'!X$5:X$10,$B$17)>0,1,0),0)","v":0},{"$f":"IF('Build Your Schedule'!Y$11=$B$17,IF(COUNTIF('Build Your Schedule'!Y$5:Y$10,$B$17)>0,1,0),0)","v":0},{"$f":"IF('Build Your Schedule'!Z$11=$B$17,IF(COUNTIF('Build Your Schedule'!Z$5:Z$10,$B$17)>0,1,0),0)","v":0},{"$f":"IF('Build Your Schedule'!AA$11=$B$17,IF(COUNTIF('Build Your Schedule'!AA$5:AA$10,$B$17)>0,1,0),0)","v":0},{"$f":"IF('Build Your Schedule'!AB$11=$B$17,IF(COUNTIF('Build Your Schedule'!AB$5:AB$10,$B$17)>0,1,0),0)","v":0},{"$f":"IF('Build Your Schedule'!AC$11=$B$17,IF(COUNTIF('Build Your Schedule'!AC$5:AC$10,$B$17)>0,1,0),0)","v":0},{"$f":"IF('Build Your Schedule'!AD$11=$B$17,IF(COUNTIF('Build Your Schedule'!AD$5:AD$10,$B$17)>0,1,0),0)","v":0},{"$f":"IF('Build Your Schedule'!AE$11=$B$17,IF(COUNTIF('Build Your Schedule'!AE$5:AE$10,$B$17)>0,1,0),0)","v":0},{"$f":"IF('Build Your Schedule'!AF$11=$B$17,IF(COUNTIF('Build Your Schedule'!AF$5:AF$10,$B$17)>0,1,0),0)","v":0},{"$f":"IF('Build Your Schedule'!AG$11=$B$17,IF(COUNTIF('Build Your Schedule'!AG$5:AG$10,$B$17)>0,1,0),0)","v":0},{"$f":"IF('Build Your Schedule'!AH$11=$B$17,IF(COUNTIF('Build Your Schedule'!AH$5:AH$10,$B$17)>0,1,0),0)","v":0},{"$f":"IF('Build Your Schedule'!AI$11=$B$17,IF(COUNTIF('Build Your Schedule'!AI$5:AI$10,$B$17)>0,1,0),0)","v":0},{"$f":"IF('Build Your Schedule'!AJ$11=$B$17,IF(COUNTIF('Build Your Schedule'!AJ$5:AJ$10,$B$17)>0,1,0),0)","v":0},{"$f":"IF('Build Your Schedule'!AK$11=$B$17,IF(COUNTIF('Build Your Schedule'!AK$5:AK$10,$B$17)>0,1,0),0)","v":0}]
[]
[null,{"$f":"B18","v":"Zamora"},"2015-06-01","2015-06-02","2015-06-03","2015-06-04","2015-06-05","2015-06-06","2015-06-07","2015-06-08","2015-06-09","2015-06-10","2015-06-11","2015-06-12","2015-06-13","2015-06-14","2015-06-15","2015-06-16","2015-06-17","2015-06-18","2015-06-19","2015-06-20","2015-06-21","2015-06-22","2015-06-23","2015-06-24","2015-06-25","2015-06-26","2015-06-27","2015-06-28","2015-06-29","2015-06-30"]
[null,"7a-4p",{"$f":"IF('Build Your Schedule'!H$5=$B$18,IF(COUNTIF('Build Your Schedule'!G$8:G$11,$B$18)>0,1,0),0)","v":0},{"$f":"IF('Build Your Schedule'!I$5=$B$18,IF(COUNTIF('Build Your Schedule'!H$8:H$11,$B$18)>0,1,0),0)","v":0},{"$f":"IF('Build Your Schedule'!J$5=$B$18,IF(COUNTIF('Build Your Schedule'!I$8:I$11,$B$18)>0,1,0),0)","v":0},{"$f":"IF('Build Your Schedule'!K$5=$B$18,IF(COUNTIF('Build Your Schedule'!J$8:J$11,$B$18)>0,1,0),0)","v":0},{"$f":"IF('Build Your Schedule'!L$5=$B$18,IF(COUNTIF('Build Your Schedule'!K$8:K$11,$B$18)>0,1,0),0)","v":0},{"$f":"IF('Build Your Schedule'!M$5=$B$18,IF(COUNTIF('Build Your Schedule'!L$8:L$11,$B$18)>0,1,0),0)","v":0},{"$f":"IF('Build Your Schedule'!N$5=$B$18,IF(COUNTIF('Build Your Schedule'!M$8:M$11,$B$18)>0,1,0),0)","v":0},{"$f":"IF('Build Your Schedule'!O$5=$B$18,IF(COUNTIF('Build Your Schedule'!N$8:N$11,$B$18)>0,1,0),0)","v":0},{"$f":"IF('Build Your Schedule'!P$5=$B$18,IF(COUNTIF('Build Your Schedule'!O$8:O$11,$B$18)>0,1,0),0)","v":0},{"$f":"IF('Build Your Schedule'!Q$5=$B$18,IF(COUNTIF('Build Your Schedule'!P$8:P$11,$B$18)>0,1,0),0)","v":0},{"$f":"IF('Build Your Schedule'!R$5=$B$18,IF(COUNTIF('Build Your Schedule'!Q$8:Q$11,$B$18)>0,1,0),0)","v":0},{"$f":"IF('Build Your Schedule'!S$5=$B$18,IF(COUNTIF('Build Your Schedule'!R$8:R$11,$B$18)>0,1,0),0)","v":0},{"$f":"IF('Build Your Schedule'!T$5=$B$18,IF(COUNTIF('Build Your Schedule'!S$8:S$11,$B$18)>0,1,0),0)","v":0},{"$f":"IF('Build Your Schedule'!U$5=$B$18,IF(COUNTIF('Build Your Schedule'!T$8:T$11,$B$18)>0,1,0),0)","v":0},{"$f":"IF('Build Your Schedule'!V$5=$B$18,IF(COUNTIF('Build Your Schedule'!U$8:U$11,$B$18)>0,1,0),0)","v":0},{"$f":"IF('Build Your Schedule'!W$5=$B$18,IF(COUNTIF('Build Your Schedule'!V$8:V$11,$B$18)>0,1,0),0)","v":0},{"$f":"IF('Build Your Schedule'!X$5=$B$18,IF(COUNTIF('Build Your Schedule'!W$8:W$11,$B$18)>0,1,0),0)","v":0},{"$f":"IF('Build Your Schedule'!Y$5=$B$18,IF(COUNTIF('Build Your Schedule'!X$8:X$11,$B$18)>0,1,0),0)","v":0},{"$f":"IF('Build Your Schedule'!Z$5=$B$18,IF(COUNTIF('Build Your Schedule'!Y$8:Y$11,$B$18)>0,1,0),0)","v":0},{"$f":"IF('Build Your Schedule'!AA$5=$B$18,IF(COUNTIF('Build Your Schedule'!Z$8:Z$11,$B$18)>0,1,0),0)","v":0},{"$f":"IF('Build Your Schedule'!AB$5=$B$18,IF(COUNTIF('Build Your Schedule'!AA$8:AA$11,$B$18)>0,1,0),0)","v":0},{"$f":"IF('Build Your Schedule'!AC$5=$B$18,IF(COUNTIF('Build Your Schedule'!AB$8:AB$11,$B$18)>0,1,0),0)","v":0},{"$f":"IF('Build Your Schedule'!AD$5=$B$18,IF(COUNTIF('Build Your Schedule'!AC$8:AC$11,$B$18)>0,1,0),0)","v":0},{"$f":"IF('Build Your Schedule'!AE$5=$B$18,IF(COUNTIF('Build Your Schedule'!AD$8:AD$11,$B$18)>0,1,0),0)","v":0},{"$f":"IF('Build Your Schedule'!AF$5=$B$18,IF(COUNTIF('Build Your Schedule'!AE$8:AE$11,$B$18)>0,1,0),0)","v":0},{"$f":"IF('Build Your Schedule'!AG$5=$B$18,IF(COUNTIF('Build Your Schedule'!AF$8:AF$11,$B$18)>0,1,0),0)","v":0},{"$f":"IF('Build Your Schedule'!AH$5=$B$18,IF(COUNTIF('Build Your Schedule'!AG$8:AG$11,$B$18)>0,1,0),0)","v":0},{"$f":"IF('Build Your Schedule'!AI$5=$B$18,IF(COUNTIF('Build Your Schedule'!AH$8:AH$11,$B$18)>0,1,0),0)","v":0},{"$f":"IF('Build Your Schedule'!AJ$5=$B$18,IF(COUNTIF('Build Your Schedule'!AI$8:AI$11,$B$18)>0,1,0),0)","v":0},{"$f":"IF('Build Your Schedule'!AK$5=$B$18,IF(COUNTIF('Build Your Schedule'!AJ$8:AJ$11,$B$18)>0,1,0),0)","v":0}]
[null,"9a-6p",{"$f":"IF('Build Your Schedule'!H$6=$B$18,IF((COUNTIF('Build Your Schedule'!G$8:G$11,$B$18)+COUNTIF('Build Your Schedule'!H$5,$B$18))>0,1,0),0)","v":0},{"$f":"IF('Build Your Schedule'!I$6=$B$18,IF((COUNTIF('Build Your Schedule'!H$8:H$11,$B$18)+COUNTIF('Build Your Schedule'!I$5,$B$18))>0,1,0),0)","v":0},{"$f":"IF('Build Your Schedule'!J$6=$B$18,IF((COUNTIF('Build Your Schedule'!I$8:I$11,$B$18)+COUNTIF('Build Your Schedule'!J$5,$B$18))>0,1,0),0)","v":0},{"$f":"IF('Build Your Schedule'!K$6=$B$18,IF((COUNTIF('Build Your Schedule'!J$8:J$11,$B$18)+COUNTIF('Build Your Schedule'!K$5,$B$18))>0,1,0),0)","v":0},{"$f":"IF('Build Your Schedule'!L$6=$B$18,IF((COUNTIF('Build Your Schedule'!K$8:K$11,$B$18)+COUNTIF('Build Your Schedule'!L$5,$B$18))>0,1,0),0)","v":0},{"$f":"IF('Build Your Schedule'!M$6=$B$18,IF((COUNTIF('Build Your Schedule'!L$8:L$11,$B$18)+COUNTIF('Build Your Schedule'!M$5,$B$18))>0,1,0),0)","v":0},{"$f":"IF('Build Your Schedule'!N$6=$B$18,IF((COUNTIF('Build Your Schedule'!M$8:M$11,$B$18)+COUNTIF('Build Your Schedule'!N$5,$B$18))>0,1,0),0)","v":0},{"$f":"IF('Build Your Schedule'!O$6=$B$18,IF((COUNTIF('Build Your Schedule'!N$8:N$11,$B$18)+COUNTIF('Build Your Schedule'!O$5,$B$18))>0,1,0),0)","v":0},{"$f":"IF('Build Your Schedule'!P$6=$B$18,IF((COUNTIF('Build Your Schedule'!O$8:O$11,$B$18)+COUNTIF('Build Your Schedule'!P$5,$B$18))>0,1,0),0)","v":0},{"$f":"IF('Build Your Schedule'!Q$6=$B$18,IF((COUNTIF('Build Your Schedule'!P$8:P$11,$B$18)+COUNTIF('Build Your Schedule'!Q$5,$B$18))>0,1,0),0)","v":0},{"$f":"IF('Build Your Schedule'!R$6=$B$18,IF((COUNTIF('Build Your Schedule'!Q$8:Q$11,$B$18)+COUNTIF('Build Your Schedule'!R$5,$B$18))>0,1,0),0)","v":0},{"$f":"IF('Build Your Schedule'!S$6=$B$18,IF((COUNTIF('Build Your Schedule'!R$8:R$11,$B$18)+COUNTIF('Build Your Schedule'!S$5,$B$18))>0,1,0),0)","v":0},{"$f":"IF('Build Your Schedule'!T$6=$B$18,IF((COUNTIF('Build Your Schedule'!S$8:S$11,$B$18)+COUNTIF('Build Your Schedule'!T$5,$B$18))>0,1,0),0)","v":0},{"$f":"IF('Build Your Schedule'!U$6=$B$18,IF((COUNTIF('Build Your Schedule'!T$8:T$11,$B$18)+COUNTIF('Build Your Schedule'!U$5,$B$18))>0,1,0),0)","v":0},{"$f":"IF('Build Your Schedule'!V$6=$B$18,IF((COUNTIF('Build Your Schedule'!U$8:U$11,$B$18)+COUNTIF('Build Your Schedule'!V$5,$B$18))>0,1,0),0)","v":0},{"$f":"IF('Build Your Schedule'!W$6=$B$18,IF((COUNTIF('Build Your Schedule'!V$8:V$11,$B$18)+COUNTIF('Build Your Schedule'!W$5,$B$18))>0,1,0),0)","v":0},{"$f":"IF('Build Your Schedule'!X$6=$B$18,IF((COUNTIF('Build Your Schedule'!W$8:W$11,$B$18)+COUNTIF('Build Your Schedule'!X$5,$B$18))>0,1,0),0)","v":0},{"$f":"IF('Build Your Schedule'!Y$6=$B$18,IF((COUNTIF('Build Your Schedule'!X$8:X$11,$B$18)+COUNTIF('Build Your Schedule'!Y$5,$B$18))>0,1,0),0)","v":0},{"$f":"IF('Build Your Schedule'!Z$6=$B$18,IF((COUNTIF('Build Your Schedule'!Y$8:Y$11,$B$18)+COUNTIF('Build Your Schedule'!Z$5,$B$18))>0,1,0),0)","v":0},{"$f":"IF('Build Your Schedule'!AA$6=$B$18,IF((COUNTIF('Build Your Schedule'!Z$8:Z$11,$B$18)+COUNTIF('Build Your Schedule'!AA$5,$B$18))>0,1,0),0)","v":0},{"$f":"IF('Build Your Schedule'!AB$6=$B$18,IF((COUNTIF('Build Your Schedule'!AA$8:AA$11,$B$18)+COUNTIF('Build Your Schedule'!AB$5,$B$18))>0,1,0),0)","v":0},{"$f":"IF('Build Your Schedule'!AC$6=$B$18,IF((COUNTIF('Build Your Schedule'!AB$8:AB$11,$B$18)+COUNTIF('Build Your Schedule'!AC$5,$B$18))>0,1,0),0)","v":0},{"$f":"IF('Build Your Schedule'!AD$6=$B$18,IF((COUNTIF('Build Your Schedule'!AC$8:AC$11,$B$18)+COUNTIF('Build Your Schedule'!AD$5,$B$18))>0,1,0),0)","v":0},{"$f":"IF('Build Your Schedule'!AE$6=$B$18,IF((COUNTIF('Build Your Schedule'!AD$8:AD$11,$B$18)+COUNTIF('Build Your Schedule'!AE$5,$B$18))>0,1,0),0)","v":0},{"$f":"IF('Build Your Schedule'!AF$6=$B$18,IF((COUNTIF('Build Your Schedule'!AE$8:AE$11,$B$18)+COUNTIF('Build Your Schedule'!AF$5,$B$18))>0,1,0),0)","v":0},{"$f":"IF('Build Your Schedule'!AG$6=$B$18,IF((COUNTIF('Build Your Schedule'!AF$8:AF$11,$B$18)+COUNTIF('Build Your Schedule'!AG$5,$B$18))>0,1,0),0)","v":0},{"$f":"IF('Build Your Schedule'!AH$6=$B$18,IF((COUNTIF('Build Your Schedule'!AG$8:AG$11,$B$18)+COUNTIF('Build Your Schedule'!AH$5,$B$18))>0,1,0),0)","v":0},{"$f":"IF('Build Your Schedule'!AI$6=$B$18,IF((COUNTIF('Build Your Schedule'!AH$8:AH$11,$B$18)+COUNTIF('Build Your Schedule'!AI$5,$B$18))>0,1,0),0)","v":0},{"$f":"IF('Build Your Schedule'!AJ$6=$B$18,IF((COUNTIF('Build Your Schedule'!AI$8:AI$11,$B$18)+COUNTIF('Build Your Schedule'!AJ$5,$B$18))>0,1,0),0)","v":0},{"$f":"IF('Build Your Schedule'!AK$6=$B$18,IF((COUNTIF('Build Your Schedule'!AJ$8:AJ$11,$B$18)+COUNTIF('Build Your Schedule'!AK$5,$B$18))>0,1,0),0)","v":0}]
[null,"12p-9p",{"$f":"IF('Build Your Schedule'!H$7=$B$18,IF((COUNTIF('Build Your Schedule'!G$10:G$11,$B$18)+COUNTIF('Build Your Schedule'!H$5:H$6,$B$18))>0,1,0),0)","v":0},{"$f":"IF('Build Your Schedule'!I$7=$B$18,IF((COUNTIF('Build Your Schedule'!H$10:H$11,$B$18)+COUNTIF('Build Your Schedule'!I$5:I$6,$B$18))>0,1,0),0)","v":0},{"$f":"IF('Build Your Schedule'!J$7=$B$18,IF((COUNTIF('Build Your Schedule'!I$10:I$11,$B$18)+COUNTIF('Build Your Schedule'!J$5:J$6,$B$18))>0,1,0),0)","v":0},{"$f":"IF('Build Your Schedule'!K$7=$B$18,IF((COUNTIF('Build Your Schedule'!J$10:J$11,$B$18)+COUNTIF('Build Your Schedule'!K$5:K$6,$B$18))>0,1,0),0)","v":0},{"$f":"IF('Build Your Schedule'!L$7=$B$18,IF((COUNTIF('Build Your Schedule'!K$10:K$11,$B$18)+COUNTIF('Build Your Schedule'!L$5:L$6,$B$18))>0,1,0),0)","v":0},{"$f":"IF('Build Your Schedule'!M$7=$B$18,IF((COUNTIF('Build Your Schedule'!L$10:L$11,$B$18)+COUNTIF('Build Your Schedule'!M$5:M$6,$B$18))>0,1,0),0)","v":0},{"$f":"IF('Build Your Schedule'!N$7=$B$18,IF((COUNTIF('Build Your Schedule'!M$10:M$11,$B$18)+COUNTIF('Build Your Schedule'!N$5:N$6,$B$18))>0,1,0),0)","v":0},{"$f":"IF('Build Your Schedule'!O$7=$B$18,IF((COUNTIF('Build Your Schedule'!N$10:N$11,$B$18)+COUNTIF('Build Your Schedule'!O$5:O$6,$B$18))>0,1,0),0)","v":0},{"$f":"IF('Build Your Schedule'!P$7=$B$18,IF((COUNTIF('Build Your Schedule'!O$10:O$11,$B$18)+COUNTIF('Build Your Schedule'!P$5:P$6,$B$18))>0,1,0),0)","v":0},{"$f":"IF('Build Your Schedule'!Q$7=$B$18,IF((COUNTIF('Build Your Schedule'!P$10:P$11,$B$18)+COUNTIF('Build Your Schedule'!Q$5:Q$6,$B$18))>0,1,0),0)","v":0},{"$f":"IF('Build Your Schedule'!R$7=$B$18,IF((COUNTIF('Build Your Schedule'!Q$10:Q$11,$B$18)+COUNTIF('Build Your Schedule'!R$5:R$6,$B$18))>0,1,0),0)","v":0},{"$f":"IF('Build Your Schedule'!S$7=$B$18,IF((COUNTIF('Build Your Schedule'!R$10:R$11,$B$18)+COUNTIF('Build Your Schedule'!S$5:S$6,$B$18))>0,1,0),0)","v":0},{"$f":"IF('Build Your Schedule'!T$7=$B$18,IF((COUNTIF('Build Your Schedule'!S$10:S$11,$B$18)+COUNTIF('Build Your Schedule'!T$5:T$6,$B$18))>0,1,0),0)","v":0},{"$f":"IF('Build Your Schedule'!U$7=$B$18,IF((COUNTIF('Build Your Schedule'!T$10:T$11,$B$18)+COUNTIF('Build Your Schedule'!U$5:U$6,$B$18))>0,1,0),0)","v":0},{"$f":"IF('Build Your Schedule'!V$7=$B$18,IF((COUNTIF('Build Your Schedule'!U$10:U$11,$B$18)+COUNTIF('Build Your Schedule'!V$5:V$6,$B$18))>0,1,0),0)","v":0},{"$f":"IF('Build Your Schedule'!W$7=$B$18,IF((COUNTIF('Build Your Schedule'!V$10:V$11,$B$18)+COUNTIF('Build Your Schedule'!W$5:W$6,$B$18))>0,1,0),0)","v":0},{"$f":"IF('Build Your Schedule'!X$7=$B$18,IF((COUNTIF('Build Your Schedule'!W$10:W$11,$B$18)+COUNTIF('Build Your Schedule'!X$5:X$6,$B$18))>0,1,0),0)","v":0},{"$f":"IF('Build Your Schedule'!Y$7=$B$18,IF((COUNTIF('Build Your Schedule'!X$10:X$11,$B$18)+COUNTIF('Build Your Schedule'!Y$5:Y$6,$B$18))>0,1,0),0)","v":0},{"$f":"IF('Build Your Schedule'!Z$7=$B$18,IF((COUNTIF('Build Your Schedule'!Y$10:Y$11,$B$18)+COUNTIF('Build Your Schedule'!Z$5:Z$6,$B$18))>0,1,0),0)","v":0},{"$f":"IF('Build Your Schedule'!AA$7=$B$18,IF((COUNTIF('Build Your Schedule'!Z$10:Z$11,$B$18)+COUNTIF('Build Your Schedule'!AA$5:AA$6,$B$18))>0,1,0),0)","v":0},{"$f":"IF('Build Your Schedule'!AB$7=$B$18,IF((COUNTIF('Build Your Schedule'!AA$10:AA$11,$B$18)+COUNTIF('Build Your Schedule'!AB$5:AB$6,$B$18))>0,1,0),0)","v":0},{"$f":"IF('Build Your Schedule'!AC$7=$B$18,IF((COUNTIF('Build Your Schedule'!AB$10:AB$11,$B$18)+COUNTIF('Build Your Schedule'!AC$5:AC$6,$B$18))>0,1,0),0)","v":0},{"$f":"IF('Build Your Schedule'!AD$7=$B$18,IF((COUNTIF('Build Your Schedule'!AC$10:AC$11,$B$18)+COUNTIF('Build Your Schedule'!AD$5:AD$6,$B$18))>0,1,0),0)","v":0},{"$f":"IF('Build Your Schedule'!AE$7=$B$18,IF((COUNTIF('Build Your Schedule'!AD$10:AD$11,$B$18)+COUNTIF('Build Your Schedule'!AE$5:AE$6,$B$18))>0,1,0),0)","v":0},{"$f":"IF('Build Your Schedule'!AF$7=$B$18,IF((COUNTIF('Build Your Schedule'!AE$10:AE$11,$B$18)+COUNTIF('Build Your Schedule'!AF$5:AF$6,$B$18))>0,1,0),0)","v":0},{"$f":"IF('Build Your Schedule'!AG$7=$B$18,IF((COUNTIF('Build Your Schedule'!AF$10:AF$11,$B$18)+COUNTIF('Build Your Schedule'!AG$5:AG$6,$B$18))>0,1,0),0)","v":0},{"$f":"IF('Build Your Schedule'!AH$7=$B$18,IF((COUNTIF('Build Your Schedule'!AG$10:AG$11,$B$18)+COUNTIF('Build Your Schedule'!AH$5:AH$6,$B$18))>0,1,0),0)","v":0},{"$f":"IF('Build Your Schedule'!AI$7=$B$18,IF((COUNTIF('Build Your Schedule'!AH$10:AH$11,$B$18)+COUNTIF('Build Your Schedule'!AI$5:AI$6,$B$18))>0,1,0),0)","v":0},{"$f":"IF('Build Your Schedule'!AJ$7=$B$18,IF((COUNTIF('Build Your Schedule'!AI$10:AI$11,$B$18)+COUNTIF('Build Your Schedule'!AJ$5:AJ$6,$B$18))>0,1,0),0)","v":0},{"$f":"IF('Build Your Schedule'!AK$7=$B$18,IF((COUNTIF('Build Your Schedule'!AJ$10:AJ$11,$B$18)+COUNTIF('Build Your Schedule'!AK$5:AK$6,$B$18))>0,1,0),0)","v":0}]
[null,"4p-1a",{"$f":"IF('Build Your Schedule'!H$8=$B$18,IF((COUNTIF('Build Your Schedule'!G$11,$B$18)+COUNTIF('Build Your Schedule'!H$5:H$7,$B$18))>0,1,0),0)","v":0},{"$f":"IF('Build Your Schedule'!I$8=$B$18,IF((COUNTIF('Build Your Schedule'!H$11,$B$18)+COUNTIF('Build Your Schedule'!I$5:I$7,$B$18))>0,1,0),0)","v":0},{"$f":"IF('Build Your Schedule'!J$8=$B$18,IF((COUNTIF('Build Your Schedule'!I$11,$B$18)+COUNTIF('Build Your Schedule'!J$5:J$7,$B$18))>0,1,0),0)","v":0},{"$f":"IF('Build Your Schedule'!K$8=$B$18,IF((COUNTIF('Build Your Schedule'!J$11,$B$18)+COUNTIF('Build Your Schedule'!K$5:K$7,$B$18))>0,1,0),0)","v":0},{"$f":"IF('Build Your Schedule'!L$8=$B$18,IF((COUNTIF('Build Your Schedule'!K$11,$B$18)+COUNTIF('Build Your Schedule'!L$5:L$7,$B$18))>0,1,0),0)","v":0},{"$f":"IF('Build Your Schedule'!M$8=$B$18,IF((COUNTIF('Build Your Schedule'!L$11,$B$18)+COUNTIF('Build Your Schedule'!M$5:M$7,$B$18))>0,1,0),0)","v":0},{"$f":"IF('Build Your Schedule'!N$8=$B$18,IF((COUNTIF('Build Your Schedule'!M$11,$B$18)+COUNTIF('Build Your Schedule'!N$5:N$7,$B$18))>0,1,0),0)","v":0},{"$f":"IF('Build Your Schedule'!O$8=$B$18,IF((COUNTIF('Build Your Schedule'!N$11,$B$18)+COUNTIF('Build Your Schedule'!O$5:O$7,$B$18))>0,1,0),0)","v":0},{"$f":"IF('Build Your Schedule'!P$8=$B$18,IF((COUNTIF('Build Your Schedule'!O$11,$B$18)+COUNTIF('Build Your Schedule'!P$5:P$7,$B$18))>0,1,0),0)","v":0},{"$f":"IF('Build Your Schedule'!Q$8=$B$18,IF((COUNTIF('Build Your Schedule'!P$11,$B$18)+COUNTIF('Build Your Schedule'!Q$5:Q$7,$B$18))>0,1,0),0)","v":0},{"$f":"IF('Build Your Schedule'!R$8=$B$18,IF((COUNTIF('Build Your Schedule'!Q$11,$B$18)+COUNTIF('Build Your Schedule'!R$5:R$7,$B$18))>0,1,0),0)","v":0},{"$f":"IF('Build Your Schedule'!S$8=$B$18,IF((COUNTIF('Build Your Schedule'!R$11,$B$18)+COUNTIF('Build Your Schedule'!S$5:S$7,$B$18))>0,1,0),0)","v":0},{"$f":"IF('Build Your Schedule'!T$8=$B$18,IF((COUNTIF('Build Your Schedule'!S$11,$B$18)+COUNTIF('Build Your Schedule'!T$5:T$7,$B$18))>0,1,0),0)","v":0},{"$f":"IF('Build Your Schedule'!U$8=$B$18,IF((COUNTIF('Build Your Schedule'!T$11,$B$18)+COUNTIF('Build Your Schedule'!U$5:U$7,$B$18))>0,1,0),0)","v":0},{"$f":"IF('Build Your Schedule'!V$8=$B$18,IF((COUNTIF('Build Your Schedule'!U$11,$B$18)+COUNTIF('Build Your Schedule'!V$5:V$7,$B$18))>0,1,0),0)","v":0},{"$f":"IF('Build Your Schedule'!W$8=$B$18,IF((COUNTIF('Build Your Schedule'!V$11,$B$18)+COUNTIF('Build Your Schedule'!W$5:W$7,$B$18))>0,1,0),0)","v":0},{"$f":"IF('Build Your Schedule'!X$8=$B$18,IF((COUNTIF('Build Your Schedule'!W$11,$B$18)+COUNTIF('Build Your Schedule'!X$5:X$7,$B$18))>0,1,0),0)","v":0},{"$f":"IF('Build Your Schedule'!Y$8=$B$18,IF((COUNTIF('Build Your Schedule'!X$11,$B$18)+COUNTIF('Build Your Schedule'!Y$5:Y$7,$B$18))>0,1,0),0)","v":0},{"$f":"IF('Build Your Schedule'!Z$8=$B$18,IF((COUNTIF('Build Your Schedule'!Y$11,$B$18)+COUNTIF('Build Your Schedule'!Z$5:Z$7,$B$18))>0,1,0),0)","v":0},{"$f":"IF('Build Your Schedule'!AA$8=$B$18,IF((COUNTIF('Build Your Schedule'!Z$11,$B$18)+COUNTIF('Build Your Schedule'!AA$5:AA$7,$B$18))>0,1,0),0)","v":0},{"$f":"IF('Build Your Schedule'!AB$8=$B$18,IF((COUNTIF('Build Your Schedule'!AA$11,$B$18)+COUNTIF('Build Your Schedule'!AB$5:AB$7,$B$18))>0,1,0),0)","v":0},{"$f":"IF('Build Your Schedule'!AC$8=$B$18,IF((COUNTIF('Build Your Schedule'!AB$11,$B$18)+COUNTIF('Build Your Schedule'!AC$5:AC$7,$B$18))>0,1,0),0)","v":0},{"$f":"IF('Build Your Schedule'!AD$8=$B$18,IF((COUNTIF('Build Your Schedule'!AC$11,$B$18)+COUNTIF('Build Your Schedule'!AD$5:AD$7,$B$18))>0,1,0),0)","v":0},{"$f":"IF('Build Your Schedule'!AE$8=$B$18,IF((COUNTIF('Build Your Schedule'!AD$11,$B$18)+COUNTIF('Build Your Schedule'!AE$5:AE$7,$B$18))>0,1,0),0)","v":0},{"$f":"IF('Build Your Schedule'!AF$8=$B$18,IF((COUNTIF('Build Your Schedule'!AE$11,$B$18)+COUNTIF('Build Your Schedule'!AF$5:AF$7,$B$18))>0,1,0),0)","v":0},{"$f":"IF('Build Your Schedule'!AG$8=$B$18,IF((COUNTIF('Build Your Schedule'!AF$11,$B$18)+COUNTIF('Build Your Schedule'!AG$5:AG$7,$B$18))>0,1,0),0)","v":0},{"$f":"IF('Build Your Schedule'!AH$8=$B$18,IF((COUNTIF('Build Your Schedule'!AG$11,$B$18)+COUNTIF('Build Your Schedule'!AH$5:AH$7,$B$18))>0,1,0),0)","v":0},{"$f":"IF('Build Your Schedule'!AI$8=$B$18,IF((COUNTIF('Build Your Schedule'!AH$11,$B$18)+COUNTIF('Build Your Schedule'!AI$5:AI$7,$B$18))>0,1,0),0)","v":0},{"$f":"IF('Build Your Schedule'!AJ$8=$B$18,IF((COUNTIF('Build Your Schedule'!AI$11,$B$18)+COUNTIF('Build Your Schedule'!AJ$5:AJ$7,$B$18))>0,1,0),0)","v":0},{"$f":"IF('Build Your Schedule'!AK$8=$B$18,IF((COUNTIF('Build Your Schedule'!AJ$11,$B$18)+COUNTIF('Build Your Schedule'!AK$5:AK$7,$B$18))>0,1,0),0)","v":0}]
[null,"5p-2a",{"$f":"IF('Build Your Schedule'!H$9=$B$18,IF((COUNTIF('Build Your Schedule'!G$11,$B$18)+COUNTIF('Build Your Schedule'!H$5:H$8,$B$18))>0,1,0),0)","v":0},{"$f":"IF('Build Your Schedule'!I$9=$B$18,IF((COUNTIF('Build Your Schedule'!H$11,$B$18)+COUNTIF('Build Your Schedule'!I$5:I$8,$B$18))>0,1,0),0)","v":0},{"$f":"IF('Build Your Schedule'!J$9=$B$18,IF((COUNTIF('Build Your Schedule'!I$11,$B$18)+COUNTIF('Build Your Schedule'!J$5:J$8,$B$18))>0,1,0),0)","v":0},{"$f":"IF('Build Your Schedule'!K$9=$B$18,IF((COUNTIF('Build Your Schedule'!J$11,$B$18)+COUNTIF('Build Your Schedule'!K$5:K$8,$B$18))>0,1,0),0)","v":0},{"$f":"IF('Build Your Schedule'!L$9=$B$18,IF((COUNTIF('Build Your Schedule'!K$11,$B$18)+COUNTIF('Build Your Schedule'!L$5:L$8,$B$18))>0,1,0),0)","v":0},{"$f":"IF('Build Your Schedule'!M$9=$B$18,IF((COUNTIF('Build Your Schedule'!L$11,$B$18)+COUNTIF('Build Your Schedule'!M$5:M$8,$B$18))>0,1,0),0)","v":0},{"$f":"IF('Build Your Schedule'!N$9=$B$18,IF((COUNTIF('Build Your Schedule'!M$11,$B$18)+COUNTIF('Build Your Schedule'!N$5:N$8,$B$18))>0,1,0),0)","v":0},{"$f":"IF('Build Your Schedule'!O$9=$B$18,IF((COUNTIF('Build Your Schedule'!N$11,$B$18)+COUNTIF('Build Your Schedule'!O$5:O$8,$B$18))>0,1,0),0)","v":0},{"$f":"IF('Build Your Schedule'!P$9=$B$18,IF((COUNTIF('Build Your Schedule'!O$11,$B$18)+COUNTIF('Build Your Schedule'!P$5:P$8,$B$18))>0,1,0),0)","v":0},{"$f":"IF('Build Your Schedule'!Q$9=$B$18,IF((COUNTIF('Build Your Schedule'!P$11,$B$18)+COUNTIF('Build Your Schedule'!Q$5:Q$8,$B$18))>0,1,0),0)","v":0},{"$f":"IF('Build Your Schedule'!R$9=$B$18,IF((COUNTIF('Build Your Schedule'!Q$11,$B$18)+COUNTIF('Build Your Schedule'!R$5:R$8,$B$18))>0,1,0),0)","v":0},{"$f":"IF('Build Your Schedule'!S$9=$B$18,IF((COUNTIF('Build Your Schedule'!R$11,$B$18)+COUNTIF('Build Your Schedule'!S$5:S$8,$B$18))>0,1,0),0)","v":0},{"$f":"IF('Build Your Schedule'!T$9=$B$18,IF((COUNTIF('Build Your Schedule'!S$11,$B$18)+COUNTIF('Build Your Schedule'!T$5:T$8,$B$18))>0,1,0),0)","v":0},{"$f":"IF('Build Your Schedule'!U$9=$B$18,IF((COUNTIF('Build Your Schedule'!T$11,$B$18)+COUNTIF('Build Your Schedule'!U$5:U$8,$B$18))>0,1,0),0)","v":0},{"$f":"IF('Build Your Schedule'!V$9=$B$18,IF((COUNTIF('Build Your Schedule'!U$11,$B$18)+COUNTIF('Build Your Schedule'!V$5:V$8,$B$18))>0,1,0),0)","v":0},{"$f":"IF('Build Your Schedule'!W$9=$B$18,IF((COUNTIF('Build Your Schedule'!V$11,$B$18)+COUNTIF('Build Your Schedule'!W$5:W$8,$B$18))>0,1,0),0)","v":0},{"$f":"IF('Build Your Schedule'!X$9=$B$18,IF((COUNTIF('Build Your Schedule'!W$11,$B$18)+COUNTIF('Build Your Schedule'!X$5:X$8,$B$18))>0,1,0),0)","v":0},{"$f":"IF('Build Your Schedule'!Y$9=$B$18,IF((COUNTIF('Build Your Schedule'!X$11,$B$18)+COUNTIF('Build Your Schedule'!Y$5:Y$8,$B$18))>0,1,0),0)","v":0},{"$f":"IF('Build Your Schedule'!Z$9=$B$18,IF((COUNTIF('Build Your Schedule'!Y$11,$B$18)+COUNTIF('Build Your Schedule'!Z$5:Z$8,$B$18))>0,1,0),0)","v":0},{"$f":"IF('Build Your Schedule'!AA$9=$B$18,IF((COUNTIF('Build Your Schedule'!Z$11,$B$18)+COUNTIF('Build Your Schedule'!AA$5:AA$8,$B$18))>0,1,0),0)","v":0},{"$f":"IF('Build Your Schedule'!AB$9=$B$18,IF((COUNTIF('Build Your Schedule'!AA$11,$B$18)+COUNTIF('Build Your Schedule'!AB$5:AB$8,$B$18))>0,1,0),0)","v":0},{"$f":"IF('Build Your Schedule'!AC$9=$B$18,IF((COUNTIF('Build Your Schedule'!AB$11,$B$18)+COUNTIF('Build Your Schedule'!AC$5:AC$8,$B$18))>0,1,0),0)","v":0},{"$f":"IF('Build Your Schedule'!AD$9=$B$18,IF((COUNTIF('Build Your Schedule'!AC$11,$B$18)+COUNTIF('Build Your Schedule'!AD$5:AD$8,$B$18))>0,1,0),0)","v":0},{"$f":"IF('Build Your Schedule'!AE$9=$B$18,IF((COUNTIF('Build Your Schedule'!AD$11,$B$18)+COUNTIF('Build Your Schedule'!AE$5:AE$8,$B$18))>0,1,0),0)","v":0},{"$f":"IF('Build Your Schedule'!AF$9=$B$18,IF((COUNTIF('Build Your Schedule'!AE$11,$B$18)+COUNTIF('Build Your Schedule'!AF$5:AF$8,$B$18))>0,1,0),0)","v":0},{"$f":"IF('Build Your Schedule'!AG$9=$B$18,IF((COUNTIF('Build Your Schedule'!AF$11,$B$18)+COUNTIF('Build Your Schedule'!AG$5:AG$8,$B$18))>0,1,0),0)","v":0},{"$f":"IF('Build Your Schedule'!AH$9=$B$18,IF((COUNTIF('Build Your Schedule'!AG$11,$B$18)+COUNTIF('Build Your Schedule'!AH$5:AH$8,$B$18))>0,1,0),0)","v":0},{"$f":"IF('Build Your Schedule'!AI$9=$B$18,IF((COUNTIF('Build Your Schedule'!AH$11,$B$18)+COUNTIF('Build Your Schedule'!AI$5:AI$8,$B$18))>0,1,0),0)","v":0},{"$f":"IF('Build Your Schedule'!AJ$9=$B$18,IF((COUNTIF('Build Your Schedule'!AI$11,$B$18)+COUNTIF('Build Your Schedule'!AJ$5:AJ$8,$B$18))>0,1,0),0)","v":0},{"$f":"IF('Build Your Schedule'!AK$9=$B$18,IF((COUNTIF('Build Your Schedule'!AJ$11,$B$18)+COUNTIF('Build Your Schedule'!AK$5:AK$8,$B$18))>0,1,0),0)","v":0}]
[null,"8p-5a",{"$f":"IF('Build Your Schedule'!H$10=$B$18,IF(COUNTIF('Build Your Schedule'!H$5:H$9,$B$18)>0,1,0),0)","v":0},{"$f":"IF('Build Your Schedule'!I$10=$B$18,IF(COUNTIF('Build Your Schedule'!I$5:I$9,$B$18)>0,1,0),0)","v":0},{"$f":"IF('Build Your Schedule'!J$10=$B$18,IF(COUNTIF('Build Your Schedule'!J$5:J$9,$B$18)>0,1,0),0)","v":0},{"$f":"IF('Build Your Schedule'!K$10=$B$18,IF(COUNTIF('Build Your Schedule'!K$5:K$9,$B$18)>0,1,0),0)","v":0},{"$f":"IF('Build Your Schedule'!L$10=$B$18,IF(COUNTIF('Build Your Schedule'!L$5:L$9,$B$18)>0,1,0),0)","v":0},{"$f":"IF('Build Your Schedule'!M$10=$B$18,IF(COUNTIF('Build Your Schedule'!M$5:M$9,$B$18)>0,1,0),0)","v":0},{"$f":"IF('Build Your Schedule'!N$10=$B$18,IF(COUNTIF('Build Your Schedule'!N$5:N$9,$B$18)>0,1,0),0)","v":0},{"$f":"IF('Build Your Schedule'!O$10=$B$18,IF(COUNTIF('Build Your Schedule'!O$5:O$9,$B$18)>0,1,0),0)","v":0},{"$f":"IF('Build Your Schedule'!P$10=$B$18,IF(COUNTIF('Build Your Schedule'!P$5:P$9,$B$18)>0,1,0),0)","v":0},{"$f":"IF('Build Your Schedule'!Q$10=$B$18,IF(COUNTIF('Build Your Schedule'!Q$5:Q$9,$B$18)>0,1,0),0)","v":0},{"$f":"IF('Build Your Schedule'!R$10=$B$18,IF(COUNTIF('Build Your Schedule'!R$5:R$9,$B$18)>0,1,0),0)","v":0},{"$f":"IF('Build Your Schedule'!S$10=$B$18,IF(COUNTIF('Build Your Schedule'!S$5:S$9,$B$18)>0,1,0),0)","v":0},{"$f":"IF('Build Your Schedule'!T$10=$B$18,IF(COUNTIF('Build Your Schedule'!T$5:T$9,$B$18)>0,1,0),0)","v":0},{"$f":"IF('Build Your Schedule'!U$10=$B$18,IF(COUNTIF('Build Your Schedule'!U$5:U$9,$B$18)>0,1,0),0)","v":0},{"$f":"IF('Build Your Schedule'!V$10=$B$18,IF(COUNTIF('Build Your Schedule'!V$5:V$9,$B$18)>0,1,0),0)","v":0},{"$f":"IF('Build Your Schedule'!W$10=$B$18,IF(COUNTIF('Build Your Schedule'!W$5:W$9,$B$18)>0,1,0),0)","v":0},{"$f":"IF('Build Your Schedule'!X$10=$B$18,IF(COUNTIF('Build Your Schedule'!X$5:X$9,$B$18)>0,1,0),0)","v":0},{"$f":"IF('Build Your Schedule'!Y$10=$B$18,IF(COUNTIF('Build Your Schedule'!Y$5:Y$9,$B$18)>0,1,0),0)","v":0},{"$f":"IF('Build Your Schedule'!Z$10=$B$18,IF(COUNTIF('Build Your Schedule'!Z$5:Z$9,$B$18)>0,1,0),0)","v":0},{"$f":"IF('Build Your Schedule'!AA$10=$B$18,IF(COUNTIF('Build Your Schedule'!AA$5:AA$9,$B$18)>0,1,0),0)","v":0},{"$f":"IF('Build Your Schedule'!AB$10=$B$18,IF(COUNTIF('Build Your Schedule'!AB$5:AB$9,$B$18)>0,1,0),0)","v":0},{"$f":"IF('Build Your Schedule'!AC$10=$B$18,IF(COUNTIF('Build Your Schedule'!AC$5:AC$9,$B$18)>0,1,0),0)","v":0},{"$f":"IF('Build Your Schedule'!AD$10=$B$18,IF(COUNTIF('Build Your Schedule'!AD$5:AD$9,$B$18)>0,1,0),0)","v":0},{"$f":"IF('Build Your Schedule'!AE$10=$B$18,IF(COUNTIF('Build Your Schedule'!AE$5:AE$9,$B$18)>0,1,0),0)","v":0},{"$f":"IF('Build Your Schedule'!AF$10=$B$18,IF(COUNTIF('Build Your Schedule'!AF$5:AF$9,$B$18)>0,1,0),0)","v":0},{"$f":"IF('Build Your Schedule'!AG$10=$B$18,IF(COUNTIF('Build Your Schedule'!AG$5:AG$9,$B$18)>0,1,0),0)","v":0},{"$f":"IF('Build Your Schedule'!AH$10=$B$18,IF(COUNTIF('Build Your Schedule'!AH$5:AH$9,$B$18)>0,1,0),0)","v":0},{"$f":"IF('Build Your Schedule'!AI$10=$B$18,IF(COUNTIF('Build Your Schedule'!AI$5:AI$9,$B$18)>0,1,0),0)","v":0},{"$f":"IF('Build Your Schedule'!AJ$10=$B$18,IF(COUNTIF('Build Your Schedule'!AJ$5:AJ$9,$B$18)>0,1,0),0)","v":0},{"$f":"IF('Build Your Schedule'!AK$10=$B$18,IF(COUNTIF('Build Your Schedule'!AK$5:AK$9,$B$18)>0,1,0),0)","v":0}]
[null,"11p-8a",{"$f":"IF('Build Your Schedule'!H$11=$B$18,IF(COUNTIF('Build Your Schedule'!H$5:H$10,$B$18)>0,1,0),0)","v":0},{"$f":"IF('Build Your Schedule'!I$11=$B$18,IF(COUNTIF('Build Your Schedule'!I$5:I$10,$B$18)>0,1,0),0)","v":0},{"$f":"IF('Build Your Schedule'!J$11=$B$18,IF(COUNTIF('Build Your Schedule'!J$5:J$10,$B$18)>0,1,0),0)","v":0},{"$f":"IF('Build Your Schedule'!K$11=$B$18,IF(COUNTIF('Build Your Schedule'!K$5:K$10,$B$18)>0,1,0),0)","v":0},{"$f":"IF('Build Your Schedule'!L$11=$B$18,IF(COUNTIF('Build Your Schedule'!L$5:L$10,$B$18)>0,1,0),0)","v":0},{"$f":"IF('Build Your Schedule'!M$11=$B$18,IF(COUNTIF('Build Your Schedule'!M$5:M$10,$B$18)>0,1,0),0)","v":0},{"$f":"IF('Build Your Schedule'!N$11=$B$18,IF(COUNTIF('Build Your Schedule'!N$5:N$10,$B$18)>0,1,0),0)","v":0},{"$f":"IF('Build Your Schedule'!O$11=$B$18,IF(COUNTIF('Build Your Schedule'!O$5:O$10,$B$18)>0,1,0),0)","v":0},{"$f":"IF('Build Your Schedule'!P$11=$B$18,IF(COUNTIF('Build Your Schedule'!P$5:P$10,$B$18)>0,1,0),0)","v":0},{"$f":"IF('Build Your Schedule'!Q$11=$B$18,IF(COUNTIF('Build Your Schedule'!Q$5:Q$10,$B$18)>0,1,0),0)","v":0},{"$f":"IF('Build Your Schedule'!R$11=$B$18,IF(COUNTIF('Build Your Schedule'!R$5:R$10,$B$18)>0,1,0),0)","v":0},{"$f":"IF('Build Your Schedule'!S$11=$B$18,IF(COUNTIF('Build Your Schedule'!S$5:S$10,$B$18)>0,1,0),0)","v":0},{"$f":"IF('Build Your Schedule'!T$11=$B$18,IF(COUNTIF('Build Your Schedule'!T$5:T$10,$B$18)>0,1,0),0)","v":0},{"$f":"IF('Build Your Schedule'!U$11=$B$18,IF(COUNTIF('Build Your Schedule'!U$5:U$10,$B$18)>0,1,0),0)","v":0},{"$f":"IF('Build Your Schedule'!V$11=$B$18,IF(COUNTIF('Build Your Schedule'!V$5:V$10,$B$18)>0,1,0),0)","v":0},{"$f":"IF('Build Your Schedule'!W$11=$B$18,IF(COUNTIF('Build Your Schedule'!W$5:W$10,$B$18)>0,1,0),0)","v":0},{"$f":"IF('Build Your Schedule'!X$11=$B$18,IF(COUNTIF('Build Your Schedule'!X$5:X$10,$B$18)>0,1,0),0)","v":0},{"$f":"IF('Build Your Schedule'!Y$11=$B$18,IF(COUNTIF('Build Your Schedule'!Y$5:Y$10,$B$18)>0,1,0),0)","v":0},{"$f":"IF('Build Your Schedule'!Z$11=$B$18,IF(COUNTIF('Build Your Schedule'!Z$5:Z$10,$B$18)>0,1,0),0)","v":0},{"$f":"IF('Build Your Schedule'!AA$11=$B$18,IF(COUNTIF('Build Your Schedule'!AA$5:AA$10,$B$18)>0,1,0),0)","v":0},{"$f":"IF('Build Your Schedule'!AB$11=$B$18,IF(COUNTIF('Build Your Schedule'!AB$5:AB$10,$B$18)>0,1,0),0)","v":0},{"$f":"IF('Build Your Schedule'!AC$11=$B$18,IF(COUNTIF('Build Your Schedule'!AC$5:AC$10,$B$18)>0,1,0),0)","v":0},{"$f":"IF('Build Your Schedule'!AD$11=$B$18,IF(COUNTIF('Build Your Schedule'!AD$5:AD$10,$B$18)>0,1,0),0)","v":0},{"$f":"IF('Build Your Schedule'!AE$11=$B$18,IF(COUNTIF('Build Your Schedule'!AE$5:AE$10,$B$18)>0,1,0),0)","v":0},{"$f":"IF('Build Your Schedule'!AF$11=$B$18,IF(COUNTIF('Build Your Schedule'!AF$5:AF$10,$B$18)>0,1,0),0)","v":0},{"$f":"IF('Build Your Schedule'!AG$11=$B$18,IF(COUNTIF('Build Your Schedule'!AG$5:AG$10,$B$18)>0,1,0),0)","v":0},{"$f":"IF('Build Your Schedule'!AH$11=$B$18,IF(COUNTIF('Build Your Schedule'!AH$5:AH$10,$B$18)>0,1,0),0)","v":0},{"$f":"IF('Build Your Schedule'!AI$11=$B$18,IF(COUNTIF('Build Your Schedule'!AI$5:AI$10,$B$18)>0,1,0),0)","v":0},{"$f":"IF('Build Your Schedule'!AJ$11=$B$18,IF(COUNTIF('Build Your Schedule'!AJ$5:AJ$10,$B$18)>0,1,0),0)","v":0},{"$f":"IF('Build Your Schedule'!AK$11=$B$18,IF(COUNTIF('Build Your Schedule'!AK$5:AK$10,$B$18)>0,1,0),0)","v":0}]

{"sheet":"Optimization Approach","index":6,"n_rows":343,"n_cols":214,"rows_kept":343,"cut":false,"hidden":true,"merged":[[247,1,247,2],[15,151,15,157],[15,158,15,164],[15,165,15,171],[15,172,15,178],[15,179,15,185],[15,186,15,192],[15,116,15,122],[15,123,15,129],[15,130,15,136],[15,137,15,143],[15,144,15,150],[16,123,16,129],[16,130,16,136],[16,137,16,143],[16,144,16,150],[16,151,16,157],[16,116,16,122],[16,39,16,45],[16,46,16,52],[16,53,16,59],[16,60,16,66],[16,67,16,73],[16,74,16,80],[16,200,16,206],[16,207,16,213],[16,32,16,38],[15,11,15,17],[15,18,15,24],[15,25,15,31],[15,32,15,38],[15,39,15,45],[15,46,15,52],[15,53,15,59],[15,60,15,66],[15,67,15,73],[15,74,15,80],[15,81,15,87],[15,88,15,94],[16,158,16,164],[15,193,15,199],[15,200,15,206],[15,207,15,213],[16,193,16,199],[16,165,16,171],[16,172,16,178],[16,179,16,185],[16,186,16,192],[16,109,16,115],[15,95,15,101],[15,102,15,108],[15,109,15,115],[249,4,249,6],[249,7,249,9],[249,10,249,12],[249,13,249,15],[16,4,16,10],[15,4,15,10],[16,11,16,17],[16,18,16,24],[16,25,16,31],[307,53,307,59],[307,60,307,66],[307,67,307,73],[307,74,307,80],[307,81,307,87],[16,81,16,87],[16,88,16,94],[16,95,16,101],[16,102,16,108],[307,88,307,94],[307,95,307,101],[307,102,307,108],[268,2,268,3],[307,39,307,45],[307,46,307,52],[326,4,326,10],[326,11,326,17],[326,18,326,24],[326,25,326,31],[326,32,326,38],[326,39,326,45],[326,46,326,52],[307,4,307,10],[307,32,307,38],[307,11,307,17],[307,18,307,24],[307,25,307,31],[307,109,307,115],[307,179,307,185],[307,186,307,192],[307,193,307,199],[307,200,307,206],[307,207,307,213],[307,144,307,150],[307,151,307,157],[307,158,307,164],[307,165,307,171],[307,172,307,178],[307,116,307,122],[307,123,307,129],[307,130,307,136],[307,137,307,143],[326,88,326,94],[326,95,326,101],[326,102,326,108],[326,109,326,115],[326,116,326,122],[326,53,326,59],[326,60,326,66],[326,67,326,73],[326,74,326,80],[326,81,326,87],[326,193,326,199],[326,200,326,206],[326,207,326,213],[326,158,326,164],[326,165,326,171],[326,172,326,178],[326,179,326,185],[326,186,326,192],[326,123,326,129],[326,130,326,136],[326,137,326,143],[326,144,326,150],[326,151,326,157]]}
[]
[null,null,"Schedule"]
[null,null,"Mon","Tue","Wed","Thu","Fri","Sat","Sun","Mon","Tue","Wed","Thu","Fri","Sat","Sun","Mon","Tue","Wed","Thu","Fri","Sat","Sun","Mon","Tue","Wed","Thu","Fri","Sat","Sun","Mon","Tue"]
[null,null,"2015-06-01","2015-06-02","2015-06-03","2015-06-04","2015-06-05","2015-06-06","2015-06-07","2015-06-08","2015-06-09","2015-06-10","2015-06-11","2015-06-12","2015-06-13","2015-06-14","2015-06-15","2015-06-16","2015-06-17","2015-06-18","2015-06-19","2015-06-20","2015-06-21","2015-06-22","2015-06-23","2015-06-24","2015-06-25","2015-06-26","2015-06-27","2015-06-28","2015-06-29","2015-06-30"]
[null,"7a-4p",{"$f":"OFFSET($E36,C$12,0)","v":{"$error":"#N/A"}},{"$f":"OFFSET($E36,D$12,0)","v":{"$error":"#N/A"}},{"$f":"OFFSET($E36,E$12,0)","v":{"$error":"#N/A"}},{"$error":"#N/A"},{"$f":"OFFSET($E36,G$12,0)","v":{"$error":"#N/A"}},{"$error":"#N/A"},{"$error":"#N/A"},{"$error":"#N/A"},{"$error":"#N/A"},{"$error":"#N/A"},{"$error":"#N/A"},{"$error":"#N/A"},{"$error":"#N/A"},{"$error":"#N/A"},{"$error":"#N/A"},{"$error":"#N/A"},{"$error":"#N/A"},{"$error":"#N/A"},{"$error":"#N/A"},{"$error":"#N/A"},{"$error":"#N/A"},{"$error":"#N/A"},{"$error":"#N/A"},{"$error":"#N/A"},{"$error":"#N/A"},{"$error":"#N/A"},{"$error":"#N/A"},{"$error":"#N/A"},{"$error":"#N/A"},{"$error":"#N/A"}]
[null,"9a-6p",{"$f":"OFFSET($E37,C$12,0)","v":{"$error":"#N/A"}},{"$error":"#N/A"},{"$error":"#N/A"},{"$error":"#N/A"},{"$error":"#N/A"},{"$error":"#N/A"},{"$error":"#N/A"},{"$error":"#N/A"},{"$error":"#N/A"},{"$error":"#N/A"},{"$error":"#N/A"},{"$error":"#N/A"},{"$error":"#N/A"},{"$error":"#N/A"},{"$error":"#N/A"},{"$error":"#N/A"},{"$error":"#N/A"},{"$error":"#N/A"},{"$error":"#N/A"},{"$error":"#N/A"},{"$error":"#N/A"},{"$error":"#N/A"},{"$error":"#N/A"},{"$error":"#N/A"},{"$error":"#N/A"},{"$error":"#N/A"},{"$error":"#N/A"},{"$error":"#N/A"},{"$error":"#N/A"},{"$error":"#N/A"}]
[null,"12p-9p",{"$f":"OFFSET($E38,C$12,0)","v":{"$error":"#N/A"}},{"$f":"OFFSET($E38,D$12,0)","v":{"$error":"#N/A"}},{"$error":"#N/A"},{"$error":"#N/A"},{"$error":"#N/A"},{"$error":"#N/A"},{"$error":"#N/A"},{"$error":"#N/A"},{"$error":"#N/A"},{"$error":"#N/A"},{"$error":"#N/A"},{"$error":"#N/A"},{"$error":"#N/A"},{"$error":"#N/A"},{"$error":"#N/A"},{"$error":"#N/A"},{"$error":"#N/A"},{"$error":"#N/A"},{"$error":"#N/A"},{"$error":"#N/A"},{"$error":"#N/A"},{"$error":"#N/A"},{"$error":"#N/A"},{"$error":"#N/A"},{"$error":"#N/A"},{"$error":"#N/A"},{"$error":"#N/A"},{"$error":"#N/A"},{"$error":"#N/A"},{"$error":"#N/A"}]
[null,"4p-1a",{"$f":"OFFSET($E39,C$12,0)","v":{"$error":"#N/A"}},{"$f":"OFFSET($E39,D$12,0)","v":{"$error":"#N/A"}},{"$f":"OFFSET($E39,E$12,0)","v":{"$error":"#N/A"}},{"$error":"#N/A"},{"$error":"#N/A"},{"$error":"#N/A"},{"$error":"#N/A"},{"$error":"#N/A"},{"$error":"#N/A"},{"$error":"#N/A"},{"$error":"#N/A"},{"$error":"#N/A"},{"$error":"#N/A"},{"$error":"#N/A"},{"$error":"#N/A"},{"$error":"#N/A"},{"$error":"#N/A"},{"$error":"#N/A"},{"$error":"#N/A"},{"$error":"#N/A"},{"$error":"#N/A"},{"$error":"#N/A"},{"$error":"#N/A"},{"$error":"#N/A"},{"$error":"#N/A"},{"$error":"#N/A"},{"$error":"#N/A"},{"$error":"#N/A"},{"$error":"#N/A"},{"$error":"#N/A"}]
[null,"5p-2a",{"$f":"OFFSET($E40,C$12,0)","v":{"$error":"#N/A"}},{"$error":"#N/A"},{"$error":"#N/A"},{"$error":"#N/A"},{"$error":"#N/A"},{"$error":"#N/A"},{"$error":"#N/A"},{"$error":"#N/A"},{"$error":"#N/A"},{"$error":"#N/A"},{"$error":"#N/A"},{"$error":"#N/A"},{"$error":"#N/A"},{"$error":"#N/A"},{"$error":"#N/A"},{"$error":"#N/A"},{"$error":"#N/A"},{"$error":"#N/A"},{"$error":"#N/A"},{"$error":"#N/A"},{"$error":"#N/A"},{"$error":"#N/A"},{"$error":"#N/A"},{"$error":"#N/A"},{"$error":"#N/A"},{"$error":"#N/A"},{"$error":"#N/A"},{"$error":"#N/A"},{"$error":"#N/A"},{"$error":"#N/A"}]
[null,"8p-5a",{"$f":"OFFSET($E41,C$12,0)","v":{"$error":"#N/A"}},{"$error":"#N/A"},{"$error":"#N/A"},{"$error":"#N/A"},{"$error":"#N/A"},{"$error":"#N/A"},{"$error":"#N/A"},{"$error":"#N/A"},{"$error":"#N/A"},{"$error":"#N/A"},{"$error":"#N/A"},{"$error":"#N/A"},{"$error":"#N/A"},{"$error":"#N/A"},{"$error":"#N/A"},{"$error":"#N/A"},{"$error":"#N/A"},{"$error":"#N/A"},{"$error":"#N/A"},{"$error":"#N/A"},{"$error":"#N/A"},{"$error":"#N/A"},{"$error":"#N/A"},{"$error":"#N/A"},{"$error":"#N/A"},{"$error":"#N/A"},{"$error":"#N/A"},{"$error":"#N/A"},{"$error":"#N/A"},{"$error":"#N/A"}]
[null,"11p-8a",{"$f":"OFFSET($E42,C$12,0)","v":{"$error":"#N/A"}},{"$error":"#N/A"},{"$error":"#N/A"},{"$error":"#N/A"},{"$error":"#N/A"},{"$error":"#N/A"},{"$error":"#N/A"},{"$error":"#N/A"},{"$error":"#N/A"},{"$error":"#N/A"},{"$error":"#N/A"},{"$error":"#N/A"},{"$error":"#N/A"},{"$error":"#N/A"},{"$error":"#N/A"},{"$error":"#N/A"},{"$error":"#N/A"},{"$error":"#N/A"},{"$error":"#N/A"},{"$error":"#N/A"},{"$error":"#N/A"},{"$error":"#N/A"},{"$error":"#N/A"},{"$error":"#N/A"},{"$error":"#N/A"},{"$error":"#N/A"},{"$error":"#N/A"},{"$error":"#N/A"},{"$error":"#N/A"},{"$f":"OFFSET($E42,AF$12,0)","v":{"$error":"#N/A"}}]
[null,null,0,7,14,21,28,35,42,49,56,63,70,77,84,91,98,105,112,119,126,133,140,147,154,161,168,175,182,189,196,203]
[]
[]
[]
[null,"Decision Variables:",null,null,"Mon",null,null,null,null,null,null,"Tue",null,null,null,null,null,null,"Wed",null,null,null,null,null,null,"Thu",null,null,null,null,null,null,"Fri",null,null,null,null,null,null,"Sat",null,null,null,null,null,null,"Sun",null,null,null,null,null,null,"Mon",null,null,null,null,null,null,"Tue",null,null,null,null,null,null,"Wed",null,null,null,null,null,null,"Thu",null,null,null,null,null,null,"Fri",null,null,null,null,null,null,"Sat",null,null,null,null,null,null,"Sun",null,null,null,null,null,null,"Mon",null,null,null,null,null,null,"Tue",null,null,null,null,null,null,"Wed",null,null,null,null,null,null,"Thu",null,null,null,null,null,null,"Fri",null,null,null,null,null,null,"Sat",null,null,null,null,null,null,"Sun",null,null,null,null,null,null,"Mon",null,null,null,null,null,null,"Tue",null,null,null,null,null,null,"Wed",null,null,null,null,null,null,"Thu",null,null,null,null,null,null,"Fri",null,null,null,null,null,null,"Sat",null,null,null,null,null,null,"Sun",null,null,null,null,null,null,"Mon",null,null,null,null,null,null,"Tue"]
[null,null,null,null,"2015-06-01",null,null,null,null,null,null,"2015-06-02",null,null,null,null,null,null,"2015-06-03",null,null,null,null,null,null,"2015-06-04",null,null,null,null,null,null,"2015-06-05",null,null,null,null,null,null,"2015-06-06",null,null,null,null,null,null,"2015-06-07",null,null,null,null,null,null,"2015-06-08",null,null,null,null,null,null,"2015-06-09",null,null,null,null,null,null,"2015-06-10",null,null,null,null,null,null,"2015-06-11",null,null,null,null,null,null,"2015-06-12",null,null,null,null,null,null,"2015-06-13",null,null,null,null,null,null,"2015-06-14",null,null,null,null,null,null,"2015-06-15",null,null,null,null,null,null,"2015-06-16",null,null,null,null,null,null,"2015-06-17",null,null,null,null,null,null,"2015-06-18",null,null,null,null,null,null,"2015-06-19",null,null,null,null,null,null,"2015-06-20",null,null,null,null,null,null,"2015-06-21",null,null,null,null,null,null,"2015-06-22",null,null,null,null,null,null,"2015-06-23",null,null,null,null,null,null,"2015-06-24",null,null,null,null,null,null,"2015-06-25",null,null,null,null,null,null,"2015-06-26",null,null,null,null,null,null,"2015-06-27",null,null,null,null,null,null,"2015-06-28",null,null,null,null,null,null,"2015-06-29",null,null,null,null,null,null,"2015-06-30"]
[null,null,null,null,"S1: 7a-4p","S2: 9a-6p","S3: 12p-9p","S4: 4p-1a","S5: 5p-2a","S6: 8p-5a","S7: 11p-8p","S1: 7a-4p","S2: 9a-6p","S3: 12p-9p","S4: 4p-1a","S5: 5p-2a","S6: 8p-5a","S7: 11p-8p","S1: 7a-4p","S2: 9a-6p","S3: 12p-9p","S4: 4p-1a","S5: 5p-2a","S6: 8p-5a","S7: 11p-8p","S1: 7a-4p","S2: 9a-6p","S3: 12p-9p","S4: 4p-1a","S5: 5p-2a","S6: 8p-5a","S7: 11p-8p","S1: 7a-4p","S2: 9a-6p","S3: 12p-9p","S4: 4p-1a","S5: 5p-2a","S6: 8p-5a","S7: 11p-8p","S1: 7a-4p","S2: 9a-6p","S3: 12p-9p","S4: 4p-1a","S5: 5p-2a","S6: 8p-5a","S7: 11p-8p","S1: 7a-4p","S2: 9a-6p","S3: 12p-9p","S4: 4p-1a","S5: 5p-2a","S6: 8p-5a","S7: 11p-8p","S1: 7a-4p","S2: 9a-6p","S3: 12p-9p","S4: 4p-1a","S5: 5p-2a","S6: 8p-5a","S7: 11p-8p","S1: 7a-4p","S2: 9a-6p","S3: 12p-9p","S4: 4p-1a","S5: 5p-2a","S6: 8p-5a","S7: 11p-8p","S1: 7a-4p","S2: 9a-6p","S3: 12p-9p","S4: 4p-1a","S5: 5p-2a","S6: 8p-5a","S7: 11p-8p","S1: 7a-4p","S2: 9a-6p","S3: 12p-9p","S4: 4p-1a","S5: 5p-2a","S6: 8p-5a","S7: 11p-8p","S1: 7a-4p","S2: 9a-6p","S3: 12p-9p","S4: 4p-1a","S5: 5p-2a","S6: 8p-5a","S7: 11p-8p","S1: 7a-4p","S2: 9a-6p","S3: 12p-9p","S4: 4p-1a","S5: 5p-2a","S6: 8p-5a","S7: 11p-8p","S1: 7a-4p","S2: 9a-6p","S3: 12p-9p","S4: 4p-1a","S5: 5p-2a","S6: 8p-5a","S7: 11p-8p","S1: 7a-4p","S2: 9a-6p","S3: 12p-9p","S4: 4p-1a","S5: 5p-2a","S6: 8p-5a","S7: 11p-8p","S1: 7a-4p","S2: 9a-6p","S3: 12p-9p","S4: 4p-1a","S5: 5p-2a","S6: 8p-5a","S7: 11p-8p","S1: 7a-4p","S2: 9a-6p","S3: 12p-9p","S4: 4p-1a","S5: 5p-2a","S6: 8p-5a","S7: 11p-8p","S1: 7a-4p","S2: 9a-6p","S3: 12p-9p","S4: 4p-1a","S5: 5p-2a","S6: 8p-5a","S7: 11p-8p","S1: 7a-4p","S2: 9a-6p","S3: 12p-9p","S4: 4p-1a","S5: 5p-2a","S6: 8p-5a","S7: 11p-8p","S1: 7a-4p","S2: 9a-6p","S3: 12p-9p","S4: 4p-1a","S5: 5p-2a","S6: 8p-5a","S7: 11p-8p","S1: 7a-4p","S2: 9a-6p","S3: 12p-9p","S4: 4p-1a","S5: 5p-2a","S6: 8p-5a","S7: 11p-8p","S1: 7a-4p","S2: 9a-6p","S3: 12p-9p","S4: 4p-1a","S5: 5p-2a","S6: 8p-5a","S7: 11p-8p","S1: 7a-4p","S2: 9a-6p","S3: 12p-9p","S4: 4p-1a","S5: 5p-2a","S6: 8p-5a","S7: 11p-8p","S1: 7a-4p","S2: 9a-6p","S3: 12p-9p","S4: 4p-1a","S5: 5p-2a","S6: 8p-5a","S7: 11p-8p","S1: 7a-4p","S2: 9a-6p","S3: 12p-9p","S4: 4p-1a","S5: 5p-2a","S6: 8p-5a","S7: 11p-8p","S1: 7a-4p","S2: 9a-6p","S3: 12p-9p","S4: 4p-1a","S5: 5p-2a","S6: 8p-5a","S7: 11p-8p","S1: 7a-4p","S2: 9a-6p","S3: 12p-9p","S4: 4p-1a","S5: 5p-2a","S6: 8p-5a","S7: 11p-8p","S1: 7a-4p","S2: 9a-6p","S3: 12p-9p","S4: 4p-1a","S5: 5p-2a","S6: 8p-5a","S7: 11p-8p","S1: 7a-4p","S2: 9a-6p","S3: 12p-9p","S4: 4p-1a","S5: 5p-2a","S6: 8p-5a","S7: 11p-8p","S1: 7a-4p","S2: 9a-6p","S3: 12p-9p","S4: 4p-1a","S5: 5p-2a","S6: 8p-5a","S7: 11p-8p"]
[null,"Intern","FP",{"$f":"'Build Your Schedule'!B6","v":"Adamson"}]
[null,"Senior","FP",{"$f":"'Build Your Schedule'!B7","v":"Almanza"}]
[null,"Intern","EM",{"$f":"'Build Your Schedule'!B8","v":"Chase"}]
[null,"Intern","EM",{"$f":"'Build Your Schedule'!B9","v":"Dunn"}]
[null,"Senior","EM",{"$f":"'Build Your Schedule'!B10","v":"Elder"}]
[null,"Senior","EM",{"$f":"'Build Your Schedule'!B11","v":"Ellington"}]
[null,"Intern","PED",{"$f":"'Build Your Schedule'!B12","v":"Haynes"}]
[null,"Intern","PED",{"$f":"'Build Your Schedule'!B13","v":"Kahn"}]
[null,"Intern","PED",{"$f":"'Build Your Schedule'!B14","v":"Mollison"}]
[null,"Intern","PED",{"$f":"'Build Your Schedule'!B15","v":"Quick"}]
[null,"Intern","PED",{"$f":"'Build Your Schedule'!B16","v":"Stumpos"}]
[null,"Senior","PED",{"$f":"'Build Your Schedule'!B17","v":"Vidal"}]
[null,"Senior","PED",{"$f":"'Build Your Schedule'!B18","v":"West"}]
[null,"Senior","PED",{"$f":"'Build Your Schedule'!B19","v":"Xiong"}]
[null,"Senior","PED",{"$f":"'Build Your Schedule'!B20","v":"Yee"}]
[null,"Senior","PED",{"$f":"'Build Your Schedule'!B21","v":"Zamora"}]
[null,null,null,null,{"$f":"INDEX($D$19:$D$34,MATCH(1,E19:E34,0))","v":{"$error":"#N/A"}},{"$f":"INDEX($D$19:$D$34,MATCH(1,F19:F34,0))","v":{"$error":"#N/A"}},{"$error":"#N/A"},{"$error":"#N/A"},{"$error":"#N/A"},{"$error":"#N/A"},{"$error":"#N/A"},{"$error":"#N/A"},{"$error":"#N/A"},{"$error":"#N/A"},{"$error":"#N/A"},{"$error":"#N/A"},{"$error":"#N/A"},{"$error":"#N/A"},{"$error":"#N/A"},{"$error":"#N/A"},{"$error":"#N/A"},{"$error":"#N/A"},{"$error":"#N/A"},{"$error":"#N/A"},{"$error":"#N/A"},{"$error":"#N/A"},{"$error":"#N/A"},{"$error":"#N/A"},{"$error":"#N/A"},{"$error":"#N/A"},{"$error":"#N/A"},{"$error":"#N/A"},{"$error":"#N/A"},{"$error":"#N/A"},{"$error":"#N/A"},{"$error":"#N/A"},{"$error":"#N/A"},{"$error":"#N/A"},{"$error":"#N/A"},{"$error":"#N/A"},{"$error":"#N/A"},{"$error":"#N/A"},{"$error":"#N/A"},{"$error":"#N/A"},{"$error":"#N/A"},{"$error":"#N/A"},{"$error":"#N/A"},{"$error":"#N/A"},{"$error":"#N/A"},{"$error":"#N/A"},{"$error":"#N/A"},{"$error":"#N/A"},{"$error":"#N/A"},{"$error":"#N/A"},{"$error":"#N/A"},{"$error":"#N/A"},{"$error":"#N/A"},{"$error":"#N/A"},{"$error":"#N/A"},{"$error":"#N/A"},{"$error":"#N/A"},{"$error":"#N/A"},{"$error":"#N/A"},{"$error":"#N/A"},{"$error":"#N/A"},{"$error":"#N/A"},{"$error":"#N/A"},{"$error":"#N/A"},{"$f":"INDEX($D$19:$D$34,MATCH(1,BQ19:BQ34,0))","v":{"$error":"#N/A"}},{"$error":"#N/A"},{"$error":"#N/A"},{"$error":"#N/A"},{"$error":"#N/A"},{"$error":"#N/A"},{"$error":"#N/A"},{"$error":"#N/A"},{"$error":"#N/A"},{"$error":"#N/A"},{"$error":"#N/A"},{"$error":"#N/A"},{"$error":"#N/A"},{"$error":"#N/A"},{"$error":"#N/A"},{"$error":"#N/A"},{"$error":"#N/A"},{"$error":"#N/A"},{"$error":"#N/A"},{"$error":"#N/A"},{"$error":"#N/A"},{"$error":"#N/A"},{"$error":"#N/A"},{"$error":"#N/A"},{"$error":"#N/A"},{"$error":"#N/A"},{"$error":"#N/A"},{"$error":"#N/A"},{"$error":"#N/A"},{"$error":"#N/A"},{"$error":"#N/A"},{"$error":"#N/A"},{"$error":"#N/A"},{"$error":"#N/A"},{"$error":"#N/A"},{"$error":"#N/A"},{"$error":"#N/A"},{"$error":"#N/A"},{"$error":"#N/A"},{"$error":"#N/A"},{"$error":"#N/A"},{"$error":"#N/A"},{"$error":"#N/A"},{"$error":"#N/A"},{"$error":"#N/A"},{"$error":"#N/A"},{"$error":"#N/A"},{"$error":"#N/A"},{"$error":"#N/A"},{"$error":"#N/A"},{"$error":"#N/A"},{"$error":"#N/A"},{"$error":"#N/A"},{"$error":"#N/A"},{"$error":"#N/A"},{"$error":"#N/A"},{"$error":"#N/A"},{"$error":"#N/A"},{"$error":"#N/A"},{"$error":"#N/A"},{"$error":"#N/A"},{"$error":"#N/A"},{"$error":"#N/A"},{"$error":"#N/A"},{"$f":"INDEX($D$19:$D$34,MATCH(1,EC19:EC34,0))","v":{"$error":"#N/A"}},{"$error":"#N/A"},{"$error":"#N/A"},{"$error":"#N/A"},{"$error":"#N/A"},{"$error":"#N/A"},{"$error":"#N/A"},{"$error":"#N/A"},{"$error":"#N/A"},{"$error":"#N/A"},{"$error":"#N/A"},{"$error":"#N/A"},{"$error":"#N/A"},{"$error":"#N/A"},{"$error":"#N/A"},{"$error":"#N/A"},{"$error":"#N/A"},{"$error":"#N/A"},{"$error":"#N/A"},{"$error":"#N/A"},{"$error":"#N/A"},{"$error":"#N/A"},{"$error":"#N/A"},{"$error":"#N/A"},{"$error":"#N/A"},{"$error":"#N/A"},{"$error":"#N/A"},{"$error":"#N/A"},{"$error":"#N/A"},{"$error":"#N/A"},{"$error":"#N/A"},{"$error":"#N/A"},{"$error":"#N/A"},{"$error":"#N/A"},{"$error":"#N/A"},{"$error":"#N/A"},{"$error":"#N/A"},{"$error":"#N/A"},{"$error":"#N/A"},{"$error":"#N/A"},{"$error":"#N/A"},{"$error":"#N/A"},{"$error":"#N/A"},{"$error":"#N/A"},{"$error":"#N/A"},{"$error":"#N/A"},{"$error":"#N/A"},{"$error":"#N/A"},{"$error":"#N/A"},{"$error":"#N/A"},{"$error":"#N/A"},{"$error":"#N/A"},{"$error":"#N/A"},{"$error":"#N/A"},{"$error":"#N/A"},{"$error":"#N/A"},{"$error":"#N/A"},{"$error":"#N/A"},{"$error":"#N/A"},{"$error":"#N/A"},{"$error":"#N/A"},{"$error":"#N/A"},{"$error":"#N/A"},{"$error":"#N/A"},{"$f":"INDEX($D$19:$D$34,MATCH(1,GO19:GO34,0))","v":{"$error":"#N/A"}},{"$error":"#N/A"},{"$error":"#N/A"},{"$error":"#N/A"},{"$error":"#N/A"},{"$error":"#N/A"},{"$error":"#N/A"},{"$error":"#N/A"},{"$error":"#N/A"},{"$error":"#N/A"},{"$error":"#N/A"},{"$error":"#N/A"},{"$error":"#N/A"},{"$error":"#N/A"},{"$error":"#N/A"},{"$error":"#N/A"},{"$error":"#N/A"},{"$error":"#N/A"}]
[null,null,null,null,{"$f":"TRANSPOSE($E$35:$HF$35)","v":{"$error":"#N/A"}}]
[null,null,null,null,{"$error":"#N/A"}]
[null,null,null,null,{"$error":"#N/A"}]
[null,null,null,null,{"$error":"#N/A"}]
[null,null,null,null,{"$error":"#N/A"}]
[null,null,null,null,{"$error":"#N/A"}]
[null,null,null,null,{"$error":"#N/A"}]
[null,null,null,null,{"$error":"#N/A"}]
[null,null,null,null,{"$error":"#N/A"}]
[null,null,null,null,{"$error":"#N/A"}]
[null,null,null,null,{"$error":"#N/A"}]
[null,null,null,null,{"$error":"#N/A"}]
[null,null,null,null,{"$error":"#N/A"}]
[null,null,null,null,{"$error":"#N/A"}]
[null,null,null,null,{"$error":"#N/A"}]
[null,null,null,null,{"$error":"#N/A"}]
[null,null,null,null,{"$error":"#N/A"}]
[null,null,null,null,{"$error":"#N/A"}]
[null,null,null,null,{"$error":"#N/A"}]
[null,null,null,null,{"$error":"#N/A"}]
[null,null,null,null,{"$error":"#N/A"}]
[null,null,null,null,{"$error":"#N/A"}]
[null,null,null,null,{"$error":"#N/A"}]
[null,null,null,null,{"$error":"#N/A"}]
[null,null,null,null,{"$error":"#N/A"}]
[null,null,null,null,{"$error":"#N/A"}]
[null,null,null,null,{"$error":"#N/A"}]
[null,null,null,null,{"$error":"#N/A"}]
[null,null,null,null,{"$error":"#N/A"}]
[null,null,null,null,{"$error":"#N/A"}]
[null,null,null,null,{"$error":"#N/A"}]
[null,null,null,null,{"$error":"#N/A"}]
[null,null,null,null,{"$error":"#N/A"}]
[null,null,null,null,{"$error":"#N/A"}]
[null,null,null,null,{"$error":"#N/A"}]
[null,null,null,null,{"$error":"#N/A"}]
[null,null,null,null,{"$error":"#N/A"}]
[null,null,null,null,{"$error":"#N/A"}]
[null,null,null,null,{"$error":"#N/A"}]
[null,null,null,null,{"$error":"#N/A"}]
[null,null,null,null,{"$error":"#N/A"}]
[null,null,null,null,{"$error":"#N/A"}]
[null,null,null,null,{"$error":"#N/A"}]
[null,null,null,null,{"$error":"#N/A"}]
[null,null,null,null,{"$error":"#N/A"}]
[null,null,null,null,{"$error":"#N/A"}]
[null,null,null,null,{"$error":"#N/A"}]
[null,null,null,null,{"$error":"#N/A"}]
[null,null,null,null,{"$error":"#N/A"}]
[null,null,null,null,{"$error":"#N/A"}]
[null,null,null,null,{"$error":"#N/A"}]
[null,null,null,null,{"$error":"#N/A"}]
[null,null,null,null,{"$error":"#N/A"}]
[null,null,null,null,{"$error":"#N/A"}]
[null,null,null,null,{"$error":"#N/A"}]
[null,null,null,null,{"$error":"#N/A"}]
[null,null,null,null,{"$error":"#N/A"}]
[null,null,null,null,{"$error":"#N/A"}]
[null,null,null,null,{"$error":"#N/A"}]
[null,null,null,null,{"$error":"#N/A"}]
[null,null,null,null,{"$error":"#N/A"}]
[null,null,null,null,{"$error":"#N/A"}]
[null,null,null,null,{"$error":"#N/A"}]
[null,null,null,null,{"$error":"#N/A"}]
[null,null,null,null,{"$error":"#N/A"}]
[null,null,null,null,{"$error":"#N/A"}]
[null,null,null,null,{"$error":"#N/A"}]
[null,null,null,null,{"$error":"#N/A"}]
[null,null,null,null,{"$error":"#N/A"}]
[null,null,null,null,{"$error":"#N/A"}]
[null,null,null,null,{"$error":"#N/A"}]
[null,null,null,null,{"$error":"#N/A"}]
[null,null,null,null,{"$error":"#N/A"}]
[null,null,null,null,{"$error":"#N/A"}]
[null,null,null,null,{"$error":"#N/A"}]
[null,null,null,null,{"$error":"#N/A"}]
[null,null,null,null,{"$error":"#N/A"}]
[null,null,null,null,{"$error":"#N/A"}]
[null,null,null,null,{"$error":"#N/A"}]
[null,null,null,null,{"$error":"#N/A"}]
[null,null,null,null,{"$error":"#N/A"}]
[null,null,null,null,{"$error":"#N/A"}]
[null,null,null,null,{"$error":"#N/A"}]
[null,null,null,null,{"$error":"#N/A"}]
[null,null,null,null,{"$error":"#N/A"}]
[null,null,null,null,{"$error":"#N/A"}]
[null,null,null,null,{"$error":"#N/A"}]
[null,null,null,null,{"$error":"#N/A"}]
[null,null,null,null,{"$error":"#N/A"}]
[null,null,null,null,{"$error":"#N/A"}]
[null,null,null,null,{"$error":"#N/A"}]
[null,null,null,null,{"$error":"#N/A"}]
[null,null,null,null,{"$error":"#N/A"}]
[null,null,null,null,{"$error":"#N/A"}]
[null,null,null,null,{"$error":"#N/A"}]
[null,null,null,null,{"$error":"#N/A"}]
[null,null,null,null,{"$error":"#N/A"}]
[null,null,null,null,{"$error":"#N/A"}]
[null,null,null,null,{"$error":"#N/A"}]
[null,null,null,null,{"$error":"#N/A"}]
[null,null,null,null,{"$error":"#N/A"}]
[null,null,null,null,{"$error":"#N/A"}]
[null,null,null,null,{"$error":"#N/A"}]
[null,null,null,null,{"$error":"#N/A"}]
[null,null,null,null,{"$error":"#N/A"}]
[null,null,null,null,{"$error":"#N/A"}]
[null,null,null,null,{"$error":"#N/A"}]
[null,null,null,null,{"$error":"#N/A"}]
[null,null,null,null,{"$error":"#N/A"}]
[null,null,null,null,{"$error":"#N/A"}]
[null,null,null,null,{"$error":"#N/A"}]
[null,null,null,null,{"$error":"#N/A"}]
[null,null,null,null,{"$error":"#N/A"}]
[null,null,null,null,{"$error":"#N/A"}]
[null,null,null,null,{"$error":"#N/A"}]
[null,null,null,null,{"$error":"#N/A"}]
[null,null,null,null,{"$error":"#N/A"}]
[null,null,null,null,{"$error":"#N/A"}]
[null,null,null,null,{"$error":"#N/A"}]
[null,null,null,null,{"$error":"#N/A"}]
[null,null,null,null,{"$error":"#N/A"}]
[null,null,null,null,{"$error":"#N/A"}]
[null,null,null,null,{"$error":"#N/A"}]
[null,null,null,null,{"$error":"#N/A"}]
[null,null,null,null,{"$error":"#N/A"}]
[null,null,null,null,{"$error":"#N/A"}]
[null,null,null,null,{"$error":"#N/A"}]
[null,null,null,null,{"$error":"#N/A"}]
[null,null,null,null,{"$error":"#N/A"}]
[null,null,null,null,{"$error":"#N/A"}]
[null,null,null,null,{"$error":"#N/A"}]
[null,null,null,null,{"$error":"#N/A"}]
[null,null,null,null,{"$error":"#N/A"}]
[null,null,null,null,{"$error":"#N/A"}]
[null,null,null,null,{"$error":"#N/A"}]
[null,null,null,null,{"$error":"#N/A"}]
[null,null,null,null,{"$error":"#N/A"}]
[null,null,null,null,{"$error":"#N/A"}]
[null,null,null,null,{"$error":"#N/A"}]
[null,null,null,null,{"$error":"#N/A"}]
[null,null,null,null,{"$error":"#N/A"}]
[null,null,null,null,{"$error":"#N/A"}]
[null,null,null,null,{"$error":"#N/A"}]
[null,null,null,null,{"$error":"#N/A"}]
[null,null,null,null,{"$error":"#N/A"}]
[null,null,null,null,{"$error":"#N/A"}]
[null,null,null,null,{"$error":"#N/A"}]
[null,null,null,null,{"$error":"#N/A"}]
[null,null,null,null,{"$error":"#N/A"}]
[null,null,null,null,{"$error":"#N/A"}]
[null,null,null,null,{"$error":"#N/A"}]
[null,null,null,null,{"$error":"#N/A"}]
[null,null,null,null,{"$error":"#N/A"}]
[null,null,null,null,{"$error":"#N/A"}]
[null,null,null,null,{"$error":"#N/A"}]
[null,null,null,null,{"$error":"#N/A"}]
[null,null,null,null,{"$error":"#N/A"}]
[null,null,null,null,{"$error":"#N/A"}]
[null,null,null,null,{"$error":"#N/A"}]
[null,null,null,null,{"$error":"#N/A"}]
[null,null,null,null,{"$error":"#N/A"}]
[null,null,null,null,{"$error":"#N/A"}]
[null,null,null,null,{"$error":"#N/A"}]
[null,null,null,null,{"$error":"#N/A"}]
[null,null,null,null,{"$error":"#N/A"}]
[null,null,null,null,{"$error":"#N/A"}]
[null,null,null,null,{"$error":"#N/A"}]
[null,null,null,null,{"$error":"#N/A"}]
[null,null,null,null,{"$error":"#N/A"}]
[null,null,null,null,{"$error":"#N/A"}]
[null,null,null,null,{"$error":"#N/A"}]
[null,null,null,null,{"$error":"#N/A"}]
[null,null,null,null,{"$error":"#N/A"}]
[null,null,null,null,{"$error":"#N/A"}]
[null,null,null,null,{"$error":"#N/A"}]
[null,null,null,null,{"$error":"#N/A"}]
[null,null,null,null,{"$error":"#N/A"}]
[null,null,null,null,{"$error":"#N/A"}]
[null,null,null,null,{"$error":"#N/A"}]
[null,null,null,null,{"$error":"#N/A"}]
[null,null,null,null,{"$error":"#N/A"}]
[null,null,null,null,{"$error":"#N/A"}]
[null,null,null,null,{"$error":"#N/A"}]
[null,null,null,null,{"$error":"#N/A"}]
[null,null,null,null,{"$error":"#N/A"}]
[null,null,null,null,{"$error":"#N/A"}]
[null,null,null,null,{"$error":"#N/A"}]
[null,null,null,null,{"$error":"#N/A"}]
[null,null,null,null,{"$error":"#N/A"}]
[null,null,null,null,{"$error":"#N/A"}]
[null,null,null,null,{"$error":"#N/A"}]
[null,null,null,null,{"$error":"#N/A"}]
[null,null,null,null,{"$error":"#N/A"}]
[null,null,null,null,{"$error":"#N/A"}]
[null,null,null,null,{"$error":"#N/A"}]
[null,null,null,null,{"$error":"#N/A"}]
[null,null,null,null,{"$error":"#N/A"}]
[null,null,null,null,{"$error":"#N/A"}]
[null,null,null,null,{"$error":"#N/A"}]
[null,null,null,null,{"$error":"#N/A"}]
[null,null,null,null,{"$error":"#N/A"}]
[null,null,null,null,{"$error":"#N/A"}]
[null,null,null,null,{"$error":"#N/A"}]
[null,null,null,null,{"$error":"#N/A"}]
[null,null,null,null,{"$error":"#N/A"}]
[null,null,null,null,{"$error":"#N/A"}]
[null,null,null,null,{"$error":"#N/A"}]
[null,null,null,null,{"$error":"#N/A"}]
[null,null,null,null,{"$error":"#N/A"}]
[null,null,null,null,{"$error":"#N/A"}]
[null,"Constraints:"]
[null,null,null,null,{"$f":"SUM(E19:E34)","v":0},0,0,0,0,0,0,0,0,0,0,0,0,0,0,0,0,0,0,0,0,0,0,0,0,0,0,0,0,0,0,0,0,0,0,0,0,0,0,0,0,0,0,0,0,0,0,0,0,0,0,0,0,0,0,0,0,0,0,0,0,0,0,0,{"$f":"SUM(BQ19:BQ34)","v":0},0,0,0,0,0,0,0,0,0,0,0,0,0,0,0,0,0,0,0,0,0,0,0,0,0,0,0,0,0,0,0,0,0,0,0,0,0,0,0,0,0,0,0,0,0,0,0,0,0,0,0,0,0,0,0,0,0,0,0,0,0,0,0,{"$f":"SUM(EC19:EC34)","v":0},0,0,0,0,0,0,0,0,0,0,0,0,0,0,0,0,0,0,0,0,0,0,0,0,0,0,0,0,0,0,0,0,0,0,0,0,0,0,0,0,0,0,0,0,0,0,0,0,0,0,0,0,0,0,0,0,0,0,0,0,0,0,0,{"$f":"SUM(GO19:GO34)","v":0},0,0,0,0,0,0,0,0,0,0,0,0,0,0,0,0,0]
[null,"Every Shift Needs a Resident",null,"==",{"$f":"1","v":1},1,1,1,{"$f":"1","v":1},1,1,1,{"$f":"1","v":1},1,1,1,{"$f":"1","v":1},1,1,1,{"$f":"1","v":1},1,1,1,{"$f":"1","v":1},1,1,1,{"$f":"1","v":1},1,1,1,{"$f":"1","v":1},1,1,1,{"$f":"1","v":1},1,1,1,{"$f":"1","v":1},1,1,1,{"$f":"1","v":1},1,1,1,{"$f":"1","v":1},1,1,1,{"$f":"1","v":1},1,1,1,{"$f":"1","v":1},1,1,1,{"$f":"1","v":1},1,1,1,{"$f":"1","v":1},1,1,1,{"$f":"1","v":1},1,1,1,{"$f":"1","v":1},1,1,1,{"$f":"1","v":1},1,1,1,{"$f":"1","v":1},1,1,1,{"$f":"1","v":1},1,1,1,{"$f":"1","v":1},1,1,1,{"$f":"1","v":1},1,1,1,{"$f":"1","v":1},1,1,1,{"$f":"1","v":1},1,1,1,{"$f":"1","v":1},1,1,1,{"$f":"1","v":1},1,1,1,{"$f":"1","v":1},1,1,1,{"$f":"1","v":1},1,1,1,{"$f":"1","v":1},1,1,1,{"$f":"1","v":1},1,1,1,{"$f":"1","v":1},1,1,1,{"$f":"1","v":1},1,1,1,{"$f":"1","v":1},1,1,1,{"$f":"1","v":1},1,1,1,{"$f":"1","v":1},1,1,1,{"$f":"1","v":1},1,1,1,{"$f":"1","v":1},1,1,1,{"$f":"1","v":1},1,1,1,{"$f":"1","v":1},1,1,1,{"$f":"1","v":1},1,1,1,{"$f":"1","v":1},1,1,1,{"$f":"1","v":1},1,1,1,{"$f":"1","v":1},1,1,1,{"$f":"1","v":1},1,1,1,{"$f":"1","v":1},1,1,1,{"$f":"1","v":1},1,1,1,{"$f":"1","v":1},1,1,1,{"$f":"1","v":1},1,1,1,{"$f":"1","v":1},1,1,1,{"$f":"1","v":1},1,1,1,{"$f":"1","v":1},1,1,1,{"$f":"1","v":1},1]
[]
[null,null,null,null,"Min Number of Shifts",null,null,"Max Number of Shifts",null,null,"Min Num Night Shifts",null,null,"Max Number Night Shifts"]
[null,"Intern","FP",{"$f":"'Build Your Schedule'!B6","v":"Adamson"},{"$f":"SUM(E19:HF19)","v":0},">=",12,{"$f":"SUM(E19:HF19)","v":0},"<=",16,{"$f":"SUMPRODUCT(--(MOD(COLUMN($E19:$HF19) - COLUMN($D19),7)=0), $E19:$HF19) + SUMPRODUCT(--(MOD(COLUMN($E19:$HF19) - COLUMN($D19),7)=6), $E19:$HF19)","v":0},">=",2,{"$f":"SUMPRODUCT(--(MOD(COLUMN($E19:$HF19) - COLUMN($D19),7)=0), $E19:$HF19) + SUMPRODUCT(--(MOD(COLUMN($E19:$HF19) - COLUMN($D19),7)=6), $E19:$HF19)","v":0},"<=",5]
[null,"Senior","FP",{"$f":"'Build Your Schedule'!B7","v":"Almanza"},0,">=",12,0,"<=",16,0,">=",2,0,"<=",5]
[null,"Intern","EM",{"$f":"'Build Your Schedule'!B8","v":"Chase"},0,">=",12,0,"<=",16,0,">=",2,0,"<=",5]
[null,"Intern","EM",{"$f":"'Build Your Schedule'!B9","v":"Dunn"},0,">=",12,0,"<=",16,0,">=",2,0,"<=",5]
[null,"Senior","EM",{"$f":"'Build Your Schedule'!B10","v":"Elder"},0,">=",12,0,"<=",16,0,">=",2,0,"<=",5]
[null,"Senior","EM",{"$f":"'Build Your Schedule'!B11","v":"Ellington"},0,">=",12,0,"<=",16,0,">=",2,0,"<=",5]
[null,"Intern","PED",{"$f":"'Build Your Schedule'!B12","v":"Haynes"},0,">=",12,0,"<=",16,0,">=",2,0,"<=",5]
[null,"Intern","PED",{"$f":"'Build Your Schedule'!B13","v":"Kahn"},0,">=",12,0,"<=",16,0,">=",2,0,"<=",5]
[null,"Intern","PED",{"$f":"'Build Your Schedule'!B14","v":"Mollison"},0,">=",12,0,"<=",16,0,">=",2,0,"<=",5]
[null,"Intern","PED",{"$f":"'Build Your Schedule'!B15","v":"Quick"},0,">=",12,0,"<=",16,0,">=",2,0,"<=",5]
[null,"Intern","PED",{"$f":"'Build Your Schedule'!B16","v":"Stumpos"},0,">=",12,0,"<=",16,0,">=",2,0,"<=",5]
[null,"Senior","PED",{"$f":"'Build Your Schedule'!B17","v":"Vidal"},0,">=",12,0,"<=",16,0,">=",2,0,"<=",5]
[null,"Senior","PED",{"$f":"'Build Your Schedule'!B18","v":"West"},0,">=",12,0,"<=",16,0,">=",2,0,"<=",5]
[null,"Senior","PED",{"$f":"'Build Your Schedule'!B19","v":"Xiong"},0,">=",12,0,"<=",16,0,">=",2,0,"<=",5]
[null,"Senior","PED",{"$f":"'Build Your Schedule'!B20","v":"Yee"},0,">=",12,0,"<=",16,0,">=",2,0,"<=",5]
[null,"Senior","PED",{"$f":"'Build Your Schedule'!B21","v":"Zamora"},0,">=",12,0,"<=",16,0,">=",2,0,"<=",5]
[]
[]
[null,null,"Ten Hour Rule",null,"<= ",1]
[null,null,"S1: 7a-4p","S2: 9a-6p","S3: 12p-9p","S4: 4p-1a","S5: 5p-2a","S6: 8p-5a","S7: 11p-8p"]
[null,{"$f":"'Build Your Schedule'!B6","v":"Adamson"},{"$f":"SUM(E19:K19)","v":0},{"$f":"SUM(F19:K19)","v":0},{"$f":"SUM(G19:K19)","v":0},{"$f":"SUM(H19:M19)","v":0},{"$f":"SUM(I19:M19)","v":0},{"$f":"SUM(J19:N19)","v":0},{"$f":"SUM(K19:Q19)","v":0},{"$f":"SUM(L19:R19)","v":0},{"$f":"SUM(M19:R19)","v":0},{"$f":"SUM(N19:R19)","v":0},{"$f":"SUM(O19:T19)","v":0},{"$f":"SUM(P19:T19)","v":0},{"$f":"SUM(Q19:U19)","v":0},{"$f":"SUM(R19:X19)","v":0},{"$f":"SUM(S19:Y19)","v":0},{"$f":"SUM(T19:Y19)","v":0},{"$f":"SUM(U19:Y19)","v":0},{"$f":"SUM(V19:AA19)","v":0},{"$f":"SUM(W19:AA19)","v":0},{"$f":"SUM(X19:AB19)","v":0},{"$f":"SUM(Y19:AE19)","v":0},{"$f":"SUM(Z19:AF19)","v":0},{"$f":"SUM(AA19:AF19)","v":0},{"$f":"SUM(AB19:AF19)","v":0},{"$f":"SUM(AC19:AH19)","v":0},{"$f":"SUM(AD19:AH19)","v":0},{"$f":"SUM(AE19:AI19)","v":0},{"$f":"SUM(AF19:AL19)","v":0},{"$f":"SUM(AG19:AM19)","v":0},{"$f":"SUM(AH19:AM19)","v":0},{"$f":"SUM(AI19:AM19)","v":0},{"$f":"SUM(AJ19:AO19)","v":0},{"$f":"SUM(AK19:AO19)","v":0},{"$f":"SUM(AL19:AP19)","v":0},{"$f":"SUM(AM19:AS19)","v":0},{"$f":"SUM(AN19:AT19)","v":0},{"$f":"SUM(AO19:AT19)","v":0},{"$f":"SUM(AP19:AT19)","v":0},{"$f":"SUM(AQ19:AV19)","v":0},{"$f":"SUM(AR19:AV19)","v":0},{"$f":"SUM(AS19:AW19)","v":0},{"$f":"SUM(AT19:AZ19)","v":0},{"$f":"SUM(AU19:BA19)","v":0},{"$f":"SUM(AV19:BA19)","v":0},{"$f":"SUM(AW19:BA19)","v":0},{"$f":"SUM(AX19:BC19)","v":0},{"$f":"SUM(AY19:BC19)","v":0},{"$f":"SUM(AZ19:BD19)","v":0},{"$f":"SUM(BA19:BG19)","v":0},{"$f":"SUM(BB19:BH19)","v":0},{"$f":"SUM(BC19:BH19)","v":0},{"$f":"SUM(BD19:BH19)","v":0},{"$f":"SUM(BE19:BJ19)","v":0},{"$f":"SUM(BF19:BJ19)","v":0},{"$f":"SUM(BG19:BK19)","v":0},{"$f":"SUM(BH19:BN19)","v":0},{"$f":"SUM(BI19:BO19)","v":0},{"$f":"SUM(BJ19:BO19)","v":0},{"$f":"SUM(BK19:BO19)","v":0},{"$f":"SUM(BL19:BQ19)","v":0},{"$f":"SUM(BM19:BQ19)","v":0},{"$f":"SUM(BN19:BR19)","v":0},{"$f":"SUM(BO19:BU19)","v":0},{"$f":"SUM(BP19:BV19)","v":0},{"$f":"SUM(BQ19:BV19)","v":0},{"$f":"SUM(BR19:BV19)","v":0},{"$f":"SUM(BS19:BX19)","v":0},{"$f":"SUM(BT19:BX19)","v":0},{"$f":"SUM(BU19:BY19)","v":0},{"$f":"SUM(BV19:CB19)","v":0},{"$f":"SUM(BW19:CC19)","v":0},{"$f":"SUM(BX19:CC19)","v":0},{"$f":"SUM(BY19:CC19)","v":0},{"$f":"SUM(BZ19:CE19)","v":0},{"$f":"SUM(CA19:CE19)","v":0},{"$f":"SUM(CB19:CF19)","v":0},{"$f":"SUM(CC19:CI19)","v":0},{"$f":"SUM(CD19:CJ19)","v":0},{"$f":"SUM(CE19:CJ19)","v":0},{"$f":"SUM(CF19:CJ19)","v":0},{"$f":"SUM(CG19:CL19)","v":0},{"$f":"SUM(CH19:CL19)","v":0},{"$f":"SUM(CI19:CM19)","v":0},{"$f":"SUM(CJ19:CP19)","v":0},{"$f":"SUM(CK19:CQ19)","v":0},{"$f":"SUM(CL19:CQ19)","v":0},{"$f":"SUM(CM19:CQ19)","v":0},{"$f":"SUM(CN19:CS19)","v":0},{"$f":"SUM(CO19:CS19)","v":0},{"$f":"SUM(CP19:CT19)","v":0},{"$f":"SUM(CQ19:CW19)","v":0},{"$f":"SUM(CR19:CX19)","v":0},{"$f":"SUM(CS19:CX19)","v":0},{"$f":"SUM(CT19:CX19)","v":0},{"$f":"SUM(CU19:CZ19)","v":0},{"$f":"SUM(CV19:CZ19)","v":0},{"$f":"SUM(CW19:DA19)","v":0},{"$f":"SUM(CX19:DD19)","v":0},{"$f":"SUM(CY19:DE19)","v":0},{"$f":"SUM(CZ19:DE19)","v":0},{"$f":"SUM(DA19:DE19)","v":0},{"$f":"SUM(DB19:DG19)","v":0},{"$f":"SUM(DC19:DG19)","v":0},{"$f":"SUM(DD19:DH19)","v":0},{"$f":"SUM(DE19:DK19)","v":0},{"$f":"SUM(DF19:DL19)","v":0},{"$f":"SUM(DG19:DL19)","v":0},{"$f":"SUM(DH19:DL19)","v":0},{"$f":"SUM(DI19:DN19)","v":0},{"$f":"SUM(DJ19:DN19)","v":0},{"$f":"SUM(DK19:DO19)","v":0},{"$f":"SUM(DL19:DR19)","v":0},{"$f":"SUM(DM19:DS19)","v":0},{"$f":"SUM(DN19:DS19)","v":0},{"$f":"SUM(DO19:DS19)","v":0},{"$f":"SUM(DP19:DU19)","v":0},{"$f":"SUM(DQ19:DU19)","v":0},{"$f":"SUM(DR19:DV19)","v":0},{"$f":"SUM(DS19:DY19)","v":0},{"$f":"SUM(DT19:DZ19)","v":0},{"$f":"SUM(DU19:DZ19)","v":0},{"$f":"SUM(DV19:DZ19)","v":0},{"$f":"SUM(DW19:EB19)","v":0},{"$f":"SUM(DX19:EB19)","v":0},{"$f":"SUM(DY19:EC19)","v":0},{"$f":"SUM(DZ19:EF19)","v":0},{"$f":"SUM(EA19:EG19)","v":0},{"$f":"SUM(EB19:EG19)","v":0},{"$f":"SUM(EC19:EG19)","v":0},{"$f":"SUM(ED19:EI19)","v":0},{"$f":"SUM(EE19:EI19)","v":0},{"$f":"SUM(EF19:EJ19)","v":0},{"$f":"SUM(EG19:EM19)","v":0},{"$f":"SUM(EH19:EN19)","v":0},{"$f":"SUM(EI19:EN19)","v":0},{"$f":"SUM(EJ19:EN19)","v":0},{"$f":"SUM(EK19:EP19)","v":0},{"$f":"SUM(EL19:EP19)","v":0},{"$f":"SUM(EM19:EQ19)","v":0},{"$f":"SUM(EN19:ET19)","v":0},{"$f":"SUM(EO19:EU19)","v":0},{"$f":"SUM(EP19:EU19)","v":0},{"$f":"SUM(EQ19:EU19)","v":0},{"$f":"SUM(ER19:EW19)","v":0},{"$f":"SUM(ES19:EW19)","v":0},{"$f":"SUM(ET19:EX19)","v":0},{"$f":"SUM(EU19:FA19)","v":0},{"$f":"SUM(EV19:FB19)","v":0},{"$f":"SUM(EW19:FB19)","v":0},{"$f":"SUM(EX19:FB19)","v":0},{"$f":"SUM(EY19:FD19)","v":0},{"$f":"SUM(EZ19:FD19)","v":0},{"$f":"SUM(FA19:FE19)","v":0},{"$f":"SUM(FB19:FH19)","v":0},{"$f":"SUM(FC19:FI19)","v":0},{"$f":"SUM(FD19:FI19)","v":0},{"$f":"SUM(FE19:FI19)","v":0},{"$f":"SUM(FF19:FK19)","v":0},{"$f":"SUM(FG19:FK19)","v":0},{"$f":"SUM(FH19:FL19)","v":0},{"$f":"SUM(FI19:FO19)","v":0},{"$f":"SUM(FJ19:FP19)","v":0},{"$f":"SUM(FK19:FP19)","v":0},{"$f":"SUM(FL19:FP19)","v":0},{"$f":"SUM(FM19:FR19)","v":0},{"$f":"SUM(FN19:FR19)","v":0},{"$f":"SUM(FO19:FS19)","v":0},{"$f":"SUM(FP19:FV19)","v":0},{"$f":"SUM(FQ19:FW19)","v":0},{"$f":"SUM(FR19:FW19)","v":0},{"$f":"SUM(FS19:FW19)","v":0},{"$f":"SUM(FT19:FY19)","v":0},{"$f":"SUM(FU19:FY19)","v":0},{"$f":"SUM(FV19:FZ19)","v":0},{"$f":"SUM(FW19:GC19)","v":0},{"$f":"SUM(FX19:GD19)","v":0},{"$f":"SUM(FY19:GD19)","v":0},{"$f":"SUM(FZ19:GD19)","v":0},{"$f":"SUM(GA19:GF19)","v":0},{"$f":"SUM(GB19:GF19)","v":0},{"$f":"SUM(GC19:GG19)","v":0},{"$f":"SUM(GD19:GJ19)","v":0},{"$f":"SUM(GE19:GK19)","v":0},{"$f":"SUM(GF19:GK19)","v":0},{"$f":"SUM(GG19:GK19)","v":0},{"$f":"SUM(GH19:GM19)","v":0},{"$f":"SUM(GI19:GM19)","v":0},{"$f":"SUM(GJ19:GN19)","v":0},{"$f":"SUM(GK19:GQ19)","v":0},{"$f":"SUM(GL19:GR19)","v":0},{"$f":"SUM(GM19:GR19)","v":0},{"$f":"SUM(GN19:GR19)","v":0},{"$f":"SUM(GO19:GT19)","v":0},{"$f":"SUM(GP19:GT19)","v":0},{"$f":"SUM(GQ19:GU19)","v":0},{"$f":"SUM(GR19:GX19)","v":0},{"$f":"SUM(GS19:GY19)","v":0},{"$f":"SUM(GT19:GY19)","v":0},{"$f":"SUM(GU19:GY19)","v":0},{"$f":"SUM(GV19:HA19)","v":0},{"$f":"SUM(GW19:HA19)","v":0},{"$f":"SUM(GX19:HB19)","v":0},{"$f":"SUM(GY19:HE19)","v":0},{"$f":"SUM(GZ19:HF19)","v":0},{"$f":"SUM(HA19:HF19)","v":0},{"$f":"SUM(HB19:HF19)","v":0},{"$f":"SUM(HC19:HH19)","v":0},{"$f":"SUM(HD19:HH19)","v":0},{"$f":"SUM(HE19:HI19)","v":0},{"$f":"SUM(HF19:HL19)","v":0}]
[null,{"$f":"'Build Your Schedule'!B7","v":"Almanza"},0,0,0,0,0,0,0,0,0,0,0,0,0,0,0,0,0,0,0,0,0,0,0,0,0,0,0,0,0,0,0,0,0,0,0,0,0,0,0,0,0,0,0,0,0,0,0,0,0,0,0,0,0,0,0,0,0,0,0,0,0,0,0,0,0,0,0,0,0,0,0,0,0,0,0,0,0,0,0,0,0,0,0,0,0,0,0,0,0,0,0,0,0,0,0,0,0,0,0,0,0,0,0,0,0,0,0,0,0,0,0,0,0,0,0,0,0,0,0,0,0,0,0,0,0,0,0,0,0,0,0,0,0,0,0,0,0,0,0,0,0,0,0,0,0,0,0,0,0,0,0,0,0,0,0,0,0,0,0,0,0,0,0,0,0,0,0,0,0,0,0,0,0,0,0,0,0,0,0,0,0,0,0,0,0,0,0,0,0,0,0,0,0,0,0,0,0,0,0,0,0,0,0,0,0,0,0,0,0,0]
[null,{"$f":"'Build Your Schedule'!B8","v":"Chase"},0,0,0,0,0,0,0,0,0,0,0,0,0,0,0,0,0,0,0,0,0,0,0,0,0,0,0,0,0,0,0,0,0,0,0,0,0,0,0,0,0,0,0,0,0,0,0,0,0,0,0,0,0,0,0,0,0,0,0,0,0,0,0,0,0,0,0,0,0,0,0,0,0,0,0,0,0,0,0,0,0,0,0,0,0,0,0,0,0,0,0,0,0,0,0,0,0,0,0,0,0,0,0,0,0,0,0,0,0,0,0,0,0,0,0,0,0,0,0,0,0,0,0,0,0,0,0,0,0,0,0,0,0,0,0,0,0,0,0,0,0,0,0,0,0,0,0,0,0,0,0,0,0,0,0,0,0,0,0,0,0,0,0,0,0,0,0,0,0,0,0,0,0,0,0,0,0,0,0,0,0,0,0,0,0,0,0,0,0,0,0,0,0,0,0,0,0,0,0,0,0,0,0,0,0,0,0,0,0,0]
[null,{"$f":"'Build Your Schedule'!B9","v":"Dunn"},0,0,0,0,0,0,0,0,0,0,0,0,0,0,0,0,0,0,0,0,0,0,0,0,0,0,0,0,0,0,0,0,0,0,0,0,0,0,0,0,0,0,0,0,0,0,0,0,0,0,0,0,0,0,0,0,0,0,0,0,0,0,0,0,0,0,0,0,0,0,0,0,0,0,0,0,0,0,0,0,0,0,0,0,0,0,0,0,0,0,0,0,0,0,0,0,0,0,0,0,0,0,0,0,0,0,0,0,0,0,0,0,0,0,0,0,0,0,0,0,0,0,0,0,0,0,0,0,0,0,0,0,0,0,0,0,0,0,0,0,0,0,0,0,0,0,0,0,0,0,0,0,0,0,0,0,0,0,0,0,0,0,0,0,0,0,0,0,0,0,0,0,0,0,0,0,0,0,0,0,0,0,0,0,0,0,0,0,0,0,0,0,0,0,0,0,0,0,0,0,0,0,0,0,0,0,0,0,0,0]
[null,{"$f":"'Build Your Schedule'!B10","v":"Elder"},0,0,0,0,0,0,0,0,0,0,0,0,0,0,0,0,0,0,0,0,0,0,0,0,0,0,0,0,0,0,0,0,0,0,0,0,0,0,0,0,0,0,0,0,0,0,0,0,0,0,0,0,0,0,0,0,0,0,0,0,0,0,0,0,0,0,0,0,0,0,0,0,0,0,0,0,0,0,0,0,0,0,0,0,0,0,0,0,0,0,0,0,0,0,0,0,0,0,0,0,0,0,0,0,0,0,0,0,0,0,0,0,0,0,0,0,0,0,0,0,0,0,0,0,0,0,0,0,0,0,0,0,0,0,0,0,0,0,0,0,0,0,0,0,0,0,0,0,0,0,0,0,0,0,0,0,0,0,0,0,0,0,0,0,0,0,0,0,0,0,0,0,0,0,0,0,0,0,0,0,0,0,0,0,0,0,0,0,0,0,0,0,0,0,0,0,0,0,0,0,0,0,0,0,0,0,0,0,0,0]
[null,{"$f":"'Build Your Schedule'!B11","v":"Ellington"},0,0,0,0,0,0,0,0,0,0,0,0,0,0,0,0,0,0,0,0,0,0,0,0,0,0,0,0,0,0,0,0,0,0,0,0,0,0,0,0,0,0,0,0,0,0,0,0,0,0,0,0,0,0,0,0,0,0,0,0,0,0,0,0,0,0,0,0,0,0,0,0,0,0,0,0,0,0,0,0,0,0,0,0,0,0,0,0,0,0,0,0,0,0,0,0,0,0,0,0,0,0,0,0,0,0,0,0,0,0,0,0,0,0,0,0,0,0,0,0,0,0,0,0,0,0,0,0,0,0,0,0,0,0,0,0,0,0,0,0,0,0,0,0,0,0,0,0,0,0,0,0,0,0,0,0,0,0,0,0,0,0,0,0,0,0,0,0,0,0,0,0,0,0,0,0,0,0,0,0,0,0,0,0,0,0,0,0,0,0,0,0,0,0,0,0,0,0,0,0,0,0,0,0,0,0,0,0,0,0]
[null,{"$f":"'Build Your Schedule'!B12","v":"Haynes"},0,0,0,0,0,0,0,0,0,0,0,0,0,0,0,0,0,0,0,0,0,0,0,0,0,0,0,0,0,0,0,0,0,0,0,0,0,0,0,0,0,0,0,0,0,0,0,0,0,0,0,0,0,0,0,0,0,0,0,0,0,0,0,0,0,0,0,0,0,0,0,0,0,0,0,0,0,0,0,0,0,0,0,0,0,0,0,0,0,0,0,0,0,0,0,0,0,0,0,0,0,0,0,0,0,0,0,0,0,0,0,0,0,0,0,0,0,0,0,0,0,0,0,0,0,0,0,0,0,0,0,0,0,0,0,0,0,0,0,0,0,0,0,0,0,0,0,0,0,0,0,0,0,0,0,0,0,0,0,0,0,0,0,0,0,0,0,0,0,0,0,0,0,0,0,0,0,0,0,0,0,0,0,0,0,0,0,0,0,0,0,0,0,0,0,0,0,0,0,0,0,0,0,0,0,0,0,0,0,0]
[null,{"$f":"'Build Your Schedule'!B13","v":"Kahn"},0,0,0,0,0,0,0,0,0,0,0,0,0,0,0,0,0,0,0,0,0,0,0,0,0,0,0,0,0,0,0,0,0,0,0,0,0,0,0,0,0,0,0,0,0,0,0,0,0,0,0,0,0,0,0,0,0,0,0,0,0,0,0,0,0,0,0,0,0,0,0,0,0,0,0,0,0,0,0,0,0,0,0,0,0,0,0,0,0,0,0,0,0,0,0,0,0,0,0,0,0,0,0,0,0,0,0,0,0,0,0,0,0,0,0,0,0,0,0,0,0,0,0,0,0,0,0,0,0,0,0,0,0,0,0,0,0,0,0,0,0,0,0,0,0,0,0,0,0,0,0,0,0,0,0,0,0,0,0,0,0,0,0,0,0,0,0,0,0,0,0,0,0,0,0,0,0,0,0,0,0,0,0,0,0,0,0,0,0,0,0,0,0,0,0,0,0,0,0,0,0,0,0,0,0,0,0,0,0,0]
[null,{"$f":"'Build Your Schedule'!B14","v":"Mollison"},0,0,0,0,0,0,0,0,0,0,0,0,0,0,0,0,0,0,0,0,0,0,0,0,0,0,0,0,0,0,0,0,0,0,0,0,0,0,0,0,0,0,0,0,0,0,0,0,0,0,0,0,0,0,0,0,0,0,0,0,0,0,0,0,0,0,0,0,0,0,0,0,0,0,0,0,0,0,0,0,0,0,0,0,0,0,0,0,0,0,0,0,0,0,0,0,0,0,0,0,0,0,0,0,0,0,0,0,0,0,0,0,0,0,0,0,0,0,0,0,0,0,0,0,0,0,0,0,0,0,0,0,0,0,0,0,0,0,0,0,0,0,0,0,0,0,0,0,0,0,0,0,0,0,0,0,0,0,0,0,0,0,0,0,0,0,0,0,0,0,0,0,0,0,0,0,0,0,0,0,0,0,0,0,0,0,0,0,0,0,0,0,0,0,0,0,0,0,0,0,0,0,0,0,0,0,0,0,0,0]
[null,{"$f":"'Build Your Schedule'!B15","v":"Quick"},0,0,0,0,0,0,0,0,0,0,0,0,0,0,0,0,0,0,0,0,0,0,0,0,0,0,0,0,0,0,0,0,0,0,0,0,0,0,0,0,0,0,0,0,0,0,0,0,0,0,0,0,0,0,0,0,0,0,0,0,0,0,0,0,0,0,0,0,0,0,0,0,0,0,0,0,0,0,0,0,0,0,0,0,0,0,0,0,0,0,0,0,0,0,0,0,0,0,0,0,0,0,0,0,0,0,0,0,0,0,0,0,0,0,0,0,0,0,0,0,0,0,0,0,0,0,0,0,0,0,0,0,0,0,0,0,0,0,0,0,0,0,0,0,0,0,0,0,0,0,0,0,0,0,0,0,0,0,0,0,0,0,0,0,0,0,0,0,0,0,0,0,0,0,0,0,0,0,0,0,0,0,0,0,0,0,0,0,0,0,0,0,0,0,0,0,0,0,0,0,0,0,0,0,0,0,0,0,0,0]
[null,{"$f":"'Build Your Schedule'!B16","v":"Stumpos"},0,0,0,0,0,0,0,0,0,0,0,0,0,0,0,0,0,0,0,0,0,0,0,0,0,0,0,0,0,0,0,0,0,0,0,0,0,0,0,0,0,0,0,0,0,0,0,0,0,0,0,0,0,0,0,0,0,0,0,0,0,0,0,0,0,0,0,0,0,0,0,0,0,0,0,0,0,0,0,0,0,0,0,0,0,0,0,0,0,0,0,0,0,0,0,0,0,0,0,0,0,0,0,0,0,0,0,0,0,0,0,0,0,0,0,0,0,0,0,0,0,0,0,0,0,0,0,0,0,0,0,0,0,0,0,0,0,0,0,0,0,0,0,0,0,0,0,0,0,0,0,0,0,0,0,0,0,0,0,0,0,0,0,0,0,0,0,0,0,0,0,0,0,0,0,0,0,0,0,0,0,0,0,0,0,0,0,0,0,0,0,0,0,0,0,0,0,0,0,0,0,0,0,0,0,0,0,0,0,0]
[null,{"$f":"'Build Your Schedule'!B17","v":"Vidal"},0,0,0,0,0,0,0,0,0,0,0,0,0,0,0,0,0,0,0,0,0,0,0,0,0,0,0,0,0,0,0,0,0,0,0,0,0,0,0,0,0,0,0,0,0,0,0,0,0,0,0,0,0,0,0,0,0,0,0,0,0,0,0,0,0,0,0,0,0,0,0,0,0,0,0,0,0,0,0,0,0,0,0,0,0,0,0,0,0,0,0,0,0,0,0,0,0,0,0,0,0,0,0,0,0,0,0,0,0,0,0,0,0,0,0,0,0,0,0,0,0,0,0,0,0,0,0,0,0,0,0,0,0,0,0,0,0,0,0,0,0,0,0,0,0,0,0,0,0,0,0,0,0,0,0,0,0,0,0,0,0,0,0,0,0,0,0,0,0,0,0,0,0,0,0,0,0,0,0,0,0,0,0,0,0,0,0,0,0,0,0,0,0,0,0,0,0,0,0,0,0,0,0,0,0,0,0,0,0,0]
[null,{"$f":"'Build Your Schedule'!B18","v":"West"},0,0,0,0,0,0,0,0,0,0,0,0,0,0,0,0,0,0,0,0,0,0,0,0,0,0,0,0,0,0,0,0,0,0,0,0,0,0,0,0,0,0,0,0,0,0,0,0,0,0,0,0,0,0,0,0,0,0,0,0,0,0,0,0,0,0,0,0,0,0,0,0,0,0,0,0,0,0,0,0,0,0,0,0,0,0,0,0,0,0,0,0,0,0,0,0,0,0,0,0,0,0,0,0,0,0,0,0,0,0,0,0,0,0,0,0,0,0,0,0,0,0,0,0,0,0,0,0,0,0,0,0,0,0,0,0,0,0,0,0,0,0,0,0,0,0,0,0,0,0,0,0,0,0,0,0,0,0,0,0,0,0,0,0,0,0,0,0,0,0,0,0,0,0,0,0,0,0,0,0,0,0,0,0,0,0,0,0,0,0,0,0,0,0,0,0,0,0,0,0,0,0,0,0,0,0,0,0,0,0]
[null,{"$f":"'Build Your Schedule'!B19","v":"Xiong"},0,0,0,0,0,0,0,0,0,0,0,0,0,0,0,0,0,0,0,0,0,0,0,0,0,0,0,0,0,0,0,0,0,0,0,0,0,0,0,0,0,0,0,0,0,0,0,0,0,0,0,0,0,0,0,0,0,0,0,0,0,0,0,0,0,0,0,0,0,0,0,0,0,0,0,0,0,0,0,0,0,0,0,0,0,0,0,0,0,0,0,0,0,0,0,0,0,0,0,0,0,0,0,0,0,0,0,0,0,0,0,0,0,0,0,0,0,0,0,0,0,0,0,0,0,0,0,0,0,0,0,0,0,0,0,0,0,0,0,0,0,0,0,0,0,0,0,0,0,0,0,0,0,0,0,0,0,0,0,0,0,0,0,0,0,0,0,0,0,0,0,0,0,0,0,0,0,0,0,0,0,0,0,0,0,0,0,0,0,0,0,0,0,0,0,0,0,0,0,0,0,0,0,0,0,0,0,0,0,0]
[null,{"$f":"'Build Your Schedule'!B20","v":"Yee"},0,0,0,0,0,0,0,0,0,0,0,0,0,0,0,0,0,0,0,0,0,0,0,0,0,0,0,0,0,0,0,0,0,0,0,0,0,0,0,0,0,0,0,0,0,0,0,0,0,0,0,0,0,0,0,0,0,0,0,0,0,0,0,0,0,0,0,0,0,0,0,0,0,0,0,0,0,0,0,0,0,0,0,0,0,0,0,0,0,0,0,0,0,0,0,0,0,0,0,0,0,0,0,0,0,0,0,0,0,0,0,0,0,0,0,0,0,0,0,0,0,0,0,0,0,0,0,0,0,0,0,0,0,0,0,0,0,0,0,0,0,0,0,0,0,0,0,0,0,0,0,0,0,0,0,0,0,0,0,0,0,0,0,0,0,0,0,0,0,0,0,0,0,0,0,0,0,0,0,0,0,0,0,0,0,0,0,0,0,0,0,0,0,0,0,0,0,0,0,0,0,0,0,0,0,0,0,0,0,0]
[null,{"$f":"'Build Your Schedule'!B21","v":"Zamora"},0,0,0,0,0,0,0,0,0,0,0,0,0,0,0,0,0,0,0,0,0,0,0,0,0,0,0,0,0,0,0,0,0,0,0,0,0,0,0,0,0,0,0,0,0,0,0,0,0,0,0,0,0,0,0,0,0,0,0,0,0,0,0,0,0,0,0,0,0,0,0,0,0,0,0,0,0,0,0,0,0,0,0,0,0,0,0,0,0,0,0,0,0,0,0,0,0,0,0,0,0,0,0,0,0,0,0,0,0,0,0,0,0,0,0,0,0,0,0,0,0,0,0,0,0,0,0,0,0,0,0,0,0,0,0,0,0,0,0,0,0,0,0,0,0,0,0,0,0,0,0,0,0,0,0,0,0,0,0,0,0,0,0,0,0,0,0,0,0,0,0,0,0,0,0,0,0,0,0,0,0,0,0,0,0,0,0,0,0,0,0,0,0,0,0,0,0,0,0,0,0,0,0,0,0,0,0,0,0,0]
[]
[null,null,null,null,"Interns Can't Work First or Last Shift",null,null,"==",0]
[null,null,null,null,"S1: 7a-4p","S2: 9a-6p","S3: 12p-9p","S4: 4p-1a","S5: 5p-2a","S6: 8p-5a","S7: 11p-8p"]
[null,null,"Intern",{"$f":"'Build Your Schedule'!B6","v":"Adamson"},{"$f":"SUM(E19,L19,S19,Z19,AG19,AN19,AU19,BB19,BI19,BP19,BW19,CD19,CK19,CR19,CY19,DF19,DM19,DT19,EA19,EH19,EO19,EV19,FC19,FJ19,FQ19,FX19,GE19,GL19,GS19,GZ19)","v":0},null,null,null,null,null,{"$f":"SUM(K19,R19,Y19,AF19,AM19,AT19,BA19,BH19,BO19,BV19,CC19,CJ19,CQ19,CX19,DE19,DL19,DS19,DZ19,EG19,EN19,EU19,FB19,FI19,FP19,FW19,GD19,GK19,GR19,GY19,HF19)","v":0}]
[null,null,"Senior",{"$f":"'Build Your Schedule'!B7","v":"Almanza"}]
[null,null,"Intern",{"$f":"'Build Your Schedule'!B8","v":"Chase"},{"$f":"SUM(E21,L21,S21,Z21,AG21,AN21,AU21,BB21,BI21,BP21,BW21,CD21,CK21,CR21,CY21,DF21,DM21,DT21,EA21,EH21,EO21,EV21,FC21,FJ21,FQ21,FX21,GE21,GL21,GS21,GZ21)","v":0},null,null,null,null,null,{"$f":"SUM(K21,R21,Y21,AF21,AM21,AT21,BA21,BH21,BO21,BV21,CC21,CJ21,CQ21,CX21,DE21,DL21,DS21,DZ21,EG21,EN21,EU21,FB21,FI21,FP21,FW21,GD21,GK21,GR21,GY21,HF21)","v":0}]
[null,null,"Intern",{"$f":"'Build Your Schedule'!B9","v":"Dunn"},0,null,null,null,null,null,0]
[null,null,"Senior",{"$f":"'Build Your Schedule'!B10","v":"Elder"}]
[null,null,"Senior",{"$f":"'Build Your Schedule'!B11","v":"Ellington"}]
[null,null,"Intern",{"$f":"'Build Your Schedule'!B12","v":"Haynes"},0,null,null,null,null,null,0]
[null,null,"Intern",{"$f":"'Build Your Schedule'!B13","v":"Kahn"},0,null,null,null,null,null,0]
[null,null,"Intern",{"$f":"'Build Your Schedule'!B14","v":"Mollison"},0,null,null,null,null,null,0]
[null,null,"Intern",{"$f":"'Build Your Schedule'!B15","v":"Quick"},0,null,null,null,null,null,0]
[null,null,"Intern",{"$f":"'Build Your Schedule'!B16","v":"Stumpos"},0,null,null,null,null,null,0]
[null,null,"Senior",{"$f":"'Build Your Schedule'!B17","v":"Vidal"}]
[null,null,"Senior",{"$f":"'Build Your Schedule'!B18","v":"West"}]
[null,null,"Senior",{"$f":"'Build Your Schedule'!B19","v":"Xiong"}]
[null,null,"Senior",{"$f":"'Build Your Schedule'!B20","v":"Yee"}]
[null,null,"Senior",{"$f":"'Build Your Schedule'!B21","v":"Zamora"}]
[]
[null,null,null,null,"EM's and FP's Can't Work Wednesdays",null,null,"==",0]
[null,null,null,null,"Mon",null,null,null,null,null,null,"Tue",null,null,null,null,null,null,"Wed",null,null,null,null,null,null,"Thu",null,null,null,null,null,null,"Fri",null,null,null,null,null,null,"Sat",null,null,null,null,null,null,"Sun",null,null,null,null,null,null,"Mon",null,null,null,null,null,null,"Tue",null,null,null,null,null,null,"Wed",null,null,null,null,null,null,"Thu",null,null,null,null,null,null,"Fri",null,null,null,null,null,null,"Sat",null,null,null,null,null,null,"Sun",null,null,null,null,null,null,"Mon",null,null,null,null,null,null,"Tue",null,null,null,null,null,null,"Wed",null,null,null,null,null,null,"Thu",null,null,null,null,null,null,"Fri",null,null,null,null,null,null,"Sat",null,null,null,null,null,null,"Sun",null,null,null,null,null,null,"Mon",null,null,null,null,null,null,"Tue",null,null,null,null,null,null,"Wed",null,null,null,null,null,null,"Thu",null,null,null,null,null,null,"Fri",null,null,null,null,null,null,"Sat",null,null,null,null,null,null,"Sun",null,null,null,null,null,null,"Mon",null,null,null,null,null,null,"Tue"]
[null,null,"FP",{"$f":"'Build Your Schedule'!B6","v":"Adamson"},null,null,null,null,null,null,null,null,null,null,null,null,null,null,{"$f":"S19","v":0},{"$f":"T19","v":0},0,0,0,0,0,null,null,null,null,null,null,null,null,null,null,null,null,null,null,null,null,null,null,null,null,null,null,null,null,null,null,null,null,null,null,null,null,null,null,null,null,null,null,null,null,null,null,{"$f":"BP19","v":0},0,0,0,0,0,0,null,null,null,null,null,null,null,null,null,null,null,null,null,null,null,null,null,null,null,null,null,null,null,null,null,null,null,null,null,null,null,null,null,null,null,null,null,null,null,null,null,null,{"$f":"DM19","v":0},0,0,0,0,0,0,null,null,null,null,null,null,null,null,null,null,null,null,null,null,null,null,null,null,null,null,null,null,null,null,null,null,null,null,null,null,null,null,null,null,null,null,null,null,null,null,null,null,{"$f":"FJ19","v":0},0,0,0,0,0,0]
[null,null,"PED",{"$f":"'Build Your Schedule'!B7","v":"Almanza"}]
[null,null,"PED",{"$f":"'Build Your Schedule'!B8","v":"Chase"}]
[null,null,"EM",{"$f":"'Build Your Schedule'!B9","v":"Dunn"},null,null,null,null,null,null,null,null,null,null,null,null,null,null,0,0,0,0,0,0,0,null,null,null,null,null,null,null,null,null,null,null,null,null,null,null,null,null,null,null,null,null,null,null,null,null,null,null,null,null,null,null,null,null,null,null,null,null,null,null,null,null,null,0,0,0,0,0,0,0,null,null,null,null,null,null,null,null,null,null,null,null,null,null,null,null,null,null,null,null,null,null,null,null,null,null,null,null,null,null,null,null,null,null,null,null,null,null,null,null,null,null,0,0,0,0,0,0,0,null,null,null,null,null,null,null,null,null,null,null,null,null,null,null,null,null,null,null,null,null,null,null,null,null,null,null,null,null,null,null,null,null,null,null,null,null,null,null,null,null,null,0,0,0,0,0,0,0]
[null,null,"PED",{"$f":"'Build Your Schedule'!B10","v":"Elder"}]
[null,null,"EM",{"$f":"'Build Your Schedule'!B11","v":"Ellington"},null,null,null,null,null,null,null,null,null,null,null,null,null,null,0,0,0,0,0,0,0,null,null,null,null,null,null,null,null,null,null,null,null,null,null,null,null,null,null,null,null,null,null,null,null,null,null,null,null,null,null,null,null,null,null,null,null,null,null,null,null,null,null,0,0,0,0,0,0,0,null,null,null,null,null,null,null,null,null,null,null,null,null,null,null,null,null,null,null,null,null,null,null,null,null,null,null,null,null,null,null,null,null,null,null,null,null,null,null,null,null,null,0,0,0,0,0,0,0,null,null,null,null,null,null,null,null,null,null,null,null,null,null,null,null,null,null,null,null,null,null,null,null,null,null,null,null,null,null,null,null,null,null,null,null,null,null,null,null,null,null,0,0,0,0,0,0,0]
[null,null,"PED",{"$f":"'Build Your Schedule'!B12","v":"Haynes"}]
[null,null,"PED",{"$f":"'Build Your Schedule'!B13","v":"Kahn"}]
[null,null,"PED",{"$f":"'Build Your Schedule'!B14","v":"Mollison"}]
[null,null,"EM",{"$f":"'Build Your Schedule'!B15","v":"Quick"},null,null,null,null,null,null,null,null,null,null,null,null,null,null,{"$f":"S28","v":0},{"$f":"T28","v":0},0,0,0,0,0,null,null,null,null,null,null,null,null,null,null,null,null,null,null,null,null,null,null,null,null,null,null,null,null,null,null,null,null,null,null,null,null,null,null,null,null,null,null,null,null,null,null,0,0,0,0,0,0,0,null,null,null,null,null,null,null,null,null,null,null,null,null,null,null,null,null,null,null,null,null,null,null,null,null,null,null,null,null,null,null,null,null,null,null,null,null,null,null,null,null,null,{"$f":"DM28","v":0},0,0,0,0,0,0,null,null,null,null,null,null,null,null,null,null,null,null,null,null,null,null,null,null,null,null,null,null,null,null,null,null,null,null,null,null,null,null,null,null,null,null,null,null,null,null,null,null,{"$f":"FJ28","v":0},0,0,0,0,0,0]
[null,null,"PED",{"$f":"'Build Your Schedule'!B16","v":"Stumpos"}]
[null,null,"FP",{"$f":"'Build Your Schedule'!B17","v":"Vidal"},null,null,null,null,null,null,null,null,null,null,null,null,null,null,{"$f":"S30","v":0},{"$f":"T30","v":0},0,0,0,0,0,null,null,null,null,null,null,null,null,null,null,null,null,null,null,null,null,null,null,null,null,null,null,null,null,null,null,null,null,null,null,null,null,null,null,null,null,null,null,null,null,null,null,0,0,0,0,0,0,0,null,null,null,null,null,null,null,null,null,null,null,null,null,null,null,null,null,null,null,null,null,null,null,null,null,null,null,null,null,null,null,null,null,null,null,null,null,null,null,null,null,null,{"$f":"DM30","v":0},0,0,0,0,0,0,null,null,null,null,null,null,null,null,null,null,null,null,null,null,null,null,null,null,null,null,null,null,null,null,null,null,null,null,null,null,null,null,null,null,null,null,null,null,null,null,null,null,{"$f":"FJ30","v":0},0,0,0,0,0,0]
[null,null,"PED",{"$f":"'Build Your Schedule'!B18","v":"West"}]
[null,null,"PED",{"$f":"'Build Your Schedule'!B19","v":"Xiong"}]
[null,null,"EM",{"$f":"'Build Your Schedule'!B20","v":"Yee"},null,null,null,null,null,null,null,null,null,null,null,null,null,null,{"$f":"S33","v":0},{"$f":"T33","v":0},0,0,0,0,0,null,null,null,null,null,null,null,null,null,null,null,null,null,null,null,null,null,null,null,null,null,null,null,null,null,null,null,null,null,null,null,null,null,null,null,null,null,null,null,null,null,null,0,0,0,0,0,0,0,null,null,null,null,null,null,null,null,null,null,null,null,null,null,null,null,null,null,null,null,null,null,null,null,null,null,null,null,null,null,null,null,null,null,null,null,null,null,null,null,null,null,{"$f":"DM33","v":0},0,0,0,0,0,0,null,null,null,null,null,null,null,null,null,null,null,null,null,null,null,null,null,null,null,null,null,null,null,null,null,null,null,null,null,null,null,null,null,null,null,null,null,null,null,null,null,null,{"$f":"FJ33","v":0},0,0,0,0,0,0]
[null,null,"PED",{"$f":"'Build Your Schedule'!B21","v":"Zamora"}]
[]
[null,null,null,null,"PED's Can't Work on Days they have conferences",null,null,null,"==",0]
[null,null,null,null,"Mon",null,null,null,null,null,null,"Tue",null,null,null,null,null,null,"Wed",null,null,null,null,null,null,"Thu",null,null,null,null,null,null,"Fri",null,null,null,null,null,null,"Sat",null,null,null,null,null,null,"Sun",null,null,null,null,null,null,"Mon",null,null,null,null,null,null,"Tue",null,null,null,null,null,null,"Wed",null,null,null,null,null,null,"Thu",null,null,null,null,null,null,"Fri",null,null,null,null,null,null,"Sat",null,null,null,null,null,null,"Sun",null,null,null,null,null,null,"Mon",null,null,null,null,null,null,"Tue",null,null,null,null,null,null,"Wed",null,null,null,null,null,null,"Thu",null,null,null,null,null,null,"Fri",null,null,null,null,null,null,"Sat",null,null,null,null,null,null,"Sun",null,null,null,null,null,null,"Mon",null,null,null,null,null,null,"Tue",null,null,null,null,null,null,"Wed",null,null,null,null,null,null,"Thu",null,null,null,null,null,null,"Fri",null,null,null,null,null,null,"Sat",null,null,null,null,null,null,"Sun",null,null,null,null,null,null,"Mon",null,null,null,null,null,null,"Tue"]
[null,"Wednesday",null,{"$f":"'Build Your Schedule'!B6","v":"Adamson"}]
[null,"Thursday",null,{"$f":"'Build Your Schedule'!B7","v":"Almanza"},null,null,null,null,null,null,null,null,null,null,null,null,null,null,null,null,null,null,null,null,null,{"$f":"Z20","v":0},{"$f":"AA20","v":0},0,0,0,0,0,null,null,null,null,null,null,null,null,null,null,null,null,null,null,null,null,null,null,null,null,null,null,null,null,null,null,null,null,null,null,null,null,null,null,null,null,null,null,null,null,null,null,0,0,0,0,0,0,0,null,null,null,null,null,null,null,null,null,null,null,null,null,null,null,null,null,null,null,null,null,null,null,null,null,null,null,null,null,null,null,null,null,null,null,null,null,null,null,null,null,null,{"$f":"DT20","v":0},0,0,0,0,0,0,null,null,null,null,null,null,null,null,null,null,null,null,null,null,null,null,null,null,null,null,null,null,null,null,null,null,null,null,null,null,null,null,null,null,null,null,null,null,null,null,null,null,{"$f":"FQ20","v":0},0,0,0,0,0,0]
[null,"Monday",null,{"$f":"'Build Your Schedule'!B8","v":"Chase"},{"$f":"E21","v":0},{"$f":"F21","v":0},0,0,0,0,0,null,null,null,null,null,null,null,null,null,null,null,null,null,null,null,null,null,null,null,null,null,null,null,null,null,null,null,null,null,null,null,null,null,null,null,null,null,null,null,null,null,null,0,0,0,0,0,0,0,null,null,null,null,null,null,null,null,null,null,null,null,null,null,null,null,null,null,null,null,null,null,null,null,null,null,null,null,null,null,null,null,null,null,null,null,null,null,null,null,null,null,{"$f":"CY21","v":0},0,0,0,0,0,0,null,null,null,null,null,null,null,null,null,null,null,null,null,null,null,null,null,null,null,null,null,null,null,null,null,null,null,null,null,null,null,null,null,null,null,null,null,null,null,null,null,null,{"$f":"EV21","v":0},0,0,0,0,0,0,null,null,null,null,null,null,null,null,null,null,null,null,null,null,null,null,null,null,null,null,null,null,null,null,null,null,null,null,null,null,null,null,null,null,null,null,null,null,null,null,null,null,{"$f":"GS21","v":0},0,0,0,0,0,0]
[null,"Wednesday",null,{"$f":"'Build Your Schedule'!B9","v":"Dunn"}]
[null,"Saturday",null,{"$f":"'Build Your Schedule'!B10","v":"Elder"},null,null,null,null,null,null,null,null,null,null,null,null,null,null,null,null,null,null,null,null,null,null,null,null,null,null,null,null,null,null,null,null,null,null,null,{"$f":"AN23","v":0},{"$f":"AO23","v":0},0,0,0,0,0,null,null,null,null,null,null,null,null,null,null,null,null,null,null,null,null,null,null,null,null,null,null,null,null,null,null,null,null,null,null,null,null,null,null,null,null,null,null,null,null,null,null,0,0,0,0,0,0,0,null,null,null,null,null,null,null,null,null,null,null,null,null,null,null,null,null,null,null,null,null,null,null,null,null,null,null,null,null,null,null,null,null,null,null,null,null,null,null,null,null,null,{"$f":"EH23","v":0},0,0,0,0,0,0,null,null,null,null,null,null,null,null,null,null,null,null,null,null,null,null,null,null,null,null,null,null,null,null,null,null,null,null,null,null,null,null,null,null,null,null,null,null,null,null,null,null,{"$f":"GE23","v":0},0,0,0,0,0,0]
[null,"Wednesday",null,{"$f":"'Build Your Schedule'!B11","v":"Ellington"}]
[null,"Friday",null,{"$f":"'Build Your Schedule'!B12","v":"Haynes"},null,null,null,null,null,null,null,null,null,null,null,null,null,null,null,null,null,null,null,null,null,null,null,null,null,null,null,null,{"$f":"AG25","v":0},0,0,0,0,0,0,null,null,null,null,null,null,null,null,null,null,null,null,null,null,null,null,null,null,null,null,null,null,null,null,null,null,null,null,null,null,null,null,null,null,null,null,null,null,null,null,null,null,{"$f":"CD25","v":0},0,0,0,0,0,0,null,null,null,null,null,null,null,null,null,null,null,null,null,null,null,null,null,null,null,null,null,null,null,null,null,null,null,null,null,null,null,null,null,null,null,null,null,null,null,null,null,null,{"$f":"EA25","v":0},0,0,0,0,0,0,null,null,null,null,null,null,null,null,null,null,null,null,null,null,null,null,null,null,null,null,null,null,null,null,null,null,null,null,null,null,null,null,null,null,null,null,null,null,null,null,null,null,{"$f":"FX25","v":0},0,0,0,0,0,0]
[null,"Wednesday",null,{"$f":"'Build Your Schedule'!B13","v":"Kahn"},null,null,null,null,null,null,null,null,null,null,null,null,null,null,{"$f":"S26","v":0},0,0,0,0,0,0,null,null,null,null,null,null,null,null,null,null,null,null,null,null,null,null,null,null,null,null,null,null,null,null,null,null,null,null,null,null,null,null,null,null,null,null,null,null,null,null,null,null,{"$f":"BP26","v":0},0,0,0,0,0,0,null,null,null,null,null,null,null,null,null,null,null,null,null,null,null,null,null,null,null,null,null,null,null,null,null,null,null,null,null,null,null,null,null,null,null,null,null,null,null,null,null,null,{"$f":"DM26","v":0},0,0,0,0,0,0,null,null,null,null,null,null,null,null,null,null,null,null,null,null,null,null,null,null,null,null,null,null,null,null,null,null,null,null,null,null,null,null,null,null,null,null,null,null,null,null,null,null,{"$f":"FJ26","v":0},0,0,0,0,0,0]
[null,"Tuesday",null,{"$f":"'Build Your Schedule'!B14","v":"Mollison"},null,null,null,null,null,null,null,{"$f":"L27","v":0},0,0,0,0,0,0,null,null,null,null,null,null,null,null,null,null,null,null,null,null,null,null,null,null,null,null,null,null,null,null,null,null,null,null,null,null,null,null,null,null,null,null,null,null,null,null,null,null,{"$f":"BI27","v":0},0,0,0,0,0,0,null,null,null,null,null,null,null,null,null,null,null,null,null,null,null,null,null,null,null,null,null,null,null,null,null,null,null,null,null,null,null,null,null,null,null,null,null,null,null,null,null,null,{"$f":"DF27","v":0},0,0,0,0,0,0,null,null,null,null,null,null,null,null,null,null,null,null,null,null,null,null,null,null,null,null,null,null,null,null,null,null,null,null,null,null,null,null,null,null,null,null,null,null,null,null,null,null,{"$f":"FC27","v":0},0,0,0,0,0,0,null,null,null,null,null,null,null,null,null,null,null,null,null,null,null,null,null,null,null,null,null,null,null,null,null,null,null,null,null,null,null,null,null,null,null,null,null,null,null,null,null,null,{"$f":"GZ27","v":0},0,0,0,0,0,0]
[null,"Wednesday",null,{"$f":"'Build Your Schedule'!B15","v":"Quick"}]
[null,"Tuesday",null,{"$f":"'Build Your Schedule'!B16","v":"Stumpos"},null,null,null,null,null,null,null,{"$f":"L29","v":0},{"$f":"M29","v":0},0,0,0,0,0,null,null,null,null,null,null,null,null,null,null,null,null,null,null,null,null,null,null,null,null,null,null,null,null,null,null,null,null,null,null,null,null,null,null,null,null,null,null,null,null,null,null,{"$f":"BI29","v":0},0,0,0,0,0,0,null,null,null,null,null,null,null,null,null,null,null,null,null,null,null,null,null,null,null,null,null,null,null,null,null,null,null,null,null,null,null,null,null,null,null,null,null,null,null,null,null,null,{"$f":"DF29","v":0},0,0,0,0,0,0,null,null,null,null,null,null,null,null,null,null,null,null,null,null,null,null,null,null,null,null,null,null,null,null,null,null,null,null,null,null,null,null,null,null,null,null,null,null,null,null,null,null,{"$f":"FC29","v":0},0,0,0,0,0,0,null,null,null,null,null,null,null,null,null,null,null,null,null,null,null,null,null,null,null,null,null,null,null,null,null,null,null,null,null,null,null,null,null,null,null,null,null,null,null,null,null,null,{"$f":"GZ29","v":0},0,0,0,0,0,0]
[null,"Wednesday",null,{"$f":"'Build Your Schedule'!B17","v":"Vidal"}]
[null,"Friday",null,{"$f":"'Build Your Schedule'!B18","v":"West"},null,null,null,null,null,null,null,null,null,null,null,null,null,null,null,null,null,null,null,null,null,null,null,null,null,null,null,null,{"$f":"AG31","v":0},0,0,0,0,0,0,null,null,null,null,null,null,null,null,null,null,null,null,null,null,null,null,null,null,null,null,null,null,null,null,null,null,null,null,null,null,null,null,null,null,null,null,null,null,null,null,null,null,{"$f":"CD31","v":0},0,0,0,0,0,0,null,null,null,null,null,null,null,null,null,null,null,null,null,null,null,null,null,null,null,null,null,null,null,null,null,null,null,null,null,null,null,null,null,null,null,null,null,null,null,null,null,null,{"$f":"EA31","v":0},0,0,0,0,0,0,null,null,null,null,null,null,null,null,null,null,null,null,null,null,null,null,null,null,null,null,null,null,null,null,null,null,null,null,null,null,null,null,null,null,null,null,null,null,null,null,null,null,{"$f":"FX31","v":0},0,0,0,0,0,0]
[null,"Tuesday",null,{"$f":"'Build Your Schedule'!B19","v":"Xiong"},null,null,null,null,null,null,null,{"$f":"L32","v":0},0,0,0,0,0,0,null,null,null,null,null,null,null,null,null,null,null,null,null,null,null,null,null,null,null,null,null,null,null,null,null,null,null,null,null,null,null,null,null,null,null,null,null,null,null,null,null,null,{"$f":"BI32","v":0},0,0,0,0,0,0,null,null,null,null,null,null,null,null,null,null,null,null,null,null,null,null,null,null,null,null,null,null,null,null,null,null,null,null,null,null,null,null,null,null,null,null,null,null,null,null,null,null,{"$f":"DF32","v":0},0,0,0,0,0,0,null,null,null,null,null,null,null,null,null,null,null,null,null,null,null,null,null,null,null,null,null,null,null,null,null,null,null,null,null,null,null,null,null,null,null,null,null,null,null,null,null,null,{"$f":"FC32","v":0},0,0,0,0,0,0,null,null,null,null,null,null,null,null,null,null,null,null,null,null,null,null,null,null,null,null,null,null,null,null,null,null,null,null,null,null,null,null,null,null,null,null,null,null,null,null,null,null,{"$f":"GZ32","v":0},0,0,0,0,0,0]
[null,"Wednesday",null,{"$f":"'Build Your Schedule'!B20","v":"Yee"}]
[null,"Thursday",null,{"$f":"'Build Your Schedule'!B21","v":"Zamora"},null,null,null,null,null,null,null,null,null,null,null,null,null,null,null,null,null,null,null,null,null,{"$f":"Z34","v":0},0,0,0,0,0,0,null,null,null,null,null,null,null,null,null,null,null,null,null,null,null,null,null,null,null,null,null,null,null,null,null,null,null,null,null,null,null,null,null,null,null,null,null,null,null,null,null,null,{"$f":"BW34","v":0},0,0,0,0,0,0,null,null,null,null,null,null,null,null,null,null,null,null,null,null,null,null,null,null,null,null,null,null,null,null,null,null,null,null,null,null,null,null,null,null,null,null,null,null,null,null,null,null,{"$f":"DT34","v":0},0,0,0,0,0,0,null,null,null,null,null,null,null,null,null,null,null,null,null,null,null,null,null,null,null,null,null,null,null,null,null,null,null,null,null,null,null,null,null,null,null,null,null,null,null,null,null,null,{"$f":"FQ34","v":0},0,0,0,0,0,0]

{"sheet":"OS Statistics","index":7,"n_rows":19,"n_cols":22,"rows_kept":19,"cut":false,"hidden":true,"merged":[[3,1,3,2],[3,3,3,4],[3,5,3,6],[3,7,3,8],[3,9,3,10],[2,1,2,2],[2,3,2,4],[2,5,2,6],[2,7,2,8],[2,9,2,10],[3,11,3,12],[3,13,3,14],[3,15,3,16],[3,17,3,18],[3,19,3,20],[3,21,3,22],[2,13,2,14],[2,15,2,16],[2,17,2,18],[2,19,2,20],[2,21,2,22],[2,11,2,12],[5,1,5,2],[5,3,5,4],[5,5,5,6],[5,7,5,8],[5,9,5,10],[4,1,4,2],[4,3,4,4],[4,5,4,6],[4,7,4,8],[4,9,4,10],[5,11,5,12],[5,13,5,14],[5,15,5,16],[5,17,5,18],[5,19,5,20],[5,21,5,22],[4,13,4,14],[4,15,4,16],[4,17,4,18],[4,19,4,20],[4,21,4,22],[4,11,4,12],[7,1,7,2],[7,3,7,4],[7,5,7,6],[7,7,7,8],[7,9,7,10],[6,1,6,2],[6,3,6,4],[6,5,6,6],[6,7,6,8],[6,9,6,10],[7,11,7,12],[7,13,7,14],[7,15,7,16],[7,17,7,18],[7,19,7,20],[7,21,7,22],[6,13,6,14],[6,15,6,16],[6,17,6,18],[6,19,6,20],[6,21,6,22],[6,11,6,12],[9,1,9,2],[9,3,9,4],[9,5,9,6],[9,7,9,8],[9,9,9,10],[8,1,8,2],[8,3,8,4],[8,5,8,6],[8,7,8,8],[8,9,8,10],[9,11,9,12],[9,13,9,14],[9,15,9,16],[9,17,9,18],[9,19,9,20],[9,21,9,22],[8,13,8,14],[8,15,8,16],[8,17,8,18],[8,19,8,20],[8,21,8,22],[8,11,8,12],[11,1,11,2],[11,3,11,4],[11,5,11,6],[11,7,11,8],[11,9,11,10],[10,1,10,2],[10,3,10,4],[10,5,10,6],[10,7,10,8],[10,9,10,10],[11,11,11,12],[11,13,11,14],[11,15,11,16],[11,17,11,18],[11,19,11,20],[11,21,11,22],[10,13,10,14],[10,15,10,16],[10,17,10,18],[10,19,10,20],[10,21,10,22],[10,11,10,12],[13,1,13,2],[13,3,13,4],[13,5,13,6],[13,7,13,8],[13,9,13,10],[12,1,12,2],[12,3,12,4],[12,5,12,6],[12,7,12,8],[12,9,12,10],[13,11,13,12],[13,13,13,14],[13,15,13,16],[13,17,13,18],[13,19,13,20],[13,21,13,22],[12,13,12,14],[12,15,12,16],[12,17,12,18],[12,19,12,20],[12,21,12,22],[12,11,12,12],[15,1,15,2],[15,3,15,4],[15,5,15,6],[15,7,15,8],[15,9,15,10],[14,1,14,2],[14,3,14,4],[14,5,14,6],[14,7,14,8],[14,9,14,10],[16,11,16,12],[15,11,15,12],[15,13,15,14],[15,15,15,16],[15,17,15,18],[15,19,15,20],[15,21,15,22],[14,13,14,14],[14,15,14,16],[14,17,14,18],[14,19,14,20],[14,21,14,22],[14,11,14,12],[17,3,17,4],[17,5,17,6],[17,7,17,8],[17,9,17,10],[16,1,16,2],[16,3,16,4],[16,5,16,6],[16,7,16,8],[16,9,16,10],[1,1,1,4],[18,13,18,14],[18,15,18,16],[18,17,18,18],[18,19,18,20],[18,21,18,22],[18,1,18,2],[18,3,18,4],[18,5,18,6],[18,7,18,8],[18,9,18,10],[18,11,18,12],[17,11,17,12],[17,13,17,14],[17,15,17,16],[17,17,17,18],[17,19,17,20],[17,21,17,22],[16,13,16,14],[16,15,16,16],[16,17,16,18],[16,19,16,20],[16,21,16,22],[17,1,17,2]]}
[]
[null,"Optimized Schedule Statistics"]
[null,"Resident Name",null,"Number of Shifts",null,"Number of Shifts Under the Minimum",null,"Number of Shifts Exceeding the Maximum",null,"Number of Night Shifts",null,"Number of Night Shifts Under the Minimum",null,"Number of Night Shifts Exceeding Maximum",null,"Number of 7a-4p Shifts (Applies to Interns Only)",null,"Number of 11p-8a Shifts (Applies to Interns Only)",null,"Number of Shifts on Required Day Off",null,"Required Day Off"]
[null,{"$f":"'Build Your Schedule'!B6","v":"Adamson"},null,{"$f":"COUNTIF('Optimization Approach'!$C$5:$AF$11,B4)","v":0},null,{"$f":"IF($D4<12,12-D4,0)","v":12},null,{"$f":"IF($D4>16,D4-16,0)","v":0},null,{"$f":"COUNTIF('Optimization Approach'!$C$10:$AF$11,'OS Statistics'!B4)","v":0},null,{"$f":"IF(J4<2,2-J4,0)","v":2},null,{"$f":"IF(J4>5,J4-5,0)","v":0},null,{"$f":"COUNTIF('Optimization Approach'!$C$5:$AF$5,B4)","v":0},null,{"$f":"COUNTIF('Optimization Approach'!$C$11:$AF$11,B4)","v":0},null,{"$f":"COUNTIF('Optimization Approach'!$E$5:$E$11,B4)+COUNTIF('Optimization Approach'!$L$5:$L$11,B4)+COUNTIF('Optimization Approach'!$S$5:$S$11,B4)+COUNTIF('Optimization Approach'!$Z$5:$Z$11,B4)","v":0},null,{"$f":"'Build Your Schedule'!E6","v":"Wednesdays"}]
[null,{"$f":"'Build Your Schedule'!B7","v":"Almanza"},null,{"$f":"COUNTIF('Optimization Approach'!$C$5:$AF$11,B5)","v":0},null,{"$f":"IF($D5<12,12-D5,0)","v":12},null,{"$f":"IF($D5>16,D5-16,0)","v":0},null,{"$f":"COUNTIF('Optimization Approach'!$C$10:$AF$11,'OS Statistics'!B5)","v":0},null,{"$f":"IF(J5<2,2-J5,0)","v":2},null,{"$f":"IF(J5>5,J5-5,0)","v":0},null,"N/A",null,"N/A",null,{"$f":"COUNTIF('Optimization Approach'!$F$5:$F$11,B5)+COUNTIF('Optimization Approach'!$M$5:$M$11,B5)+COUNTIF('Optimization Approach'!$T$5:$T$11,B5)+COUNTIF('Optimization Approach'!$AA$5:$AA$11,B5)","v":0},null,{"$f":"'Build Your Schedule'!E7","v":"Thursdays"}]
[null,{"$f":"'Build Your Schedule'!B8","v":"Chase"},null,{"$f":"COUNTIF('Optimization Approach'!$C$5:$AF$11,B6)","v":0},null,{"$f":"IF($D6<12,12-D6,0)","v":12},null,{"$f":"IF($D6>16,D6-16,0)","v":0},null,{"$f":"COUNTIF('Optimization Approach'!$C$10:$AF$11,'OS Statistics'!B6)","v":0},null,{"$f":"IF(J6<2,2-J6,0)","v":2},null,{"$f":"IF(J6>5,J6-5,0)","v":0},null,{"$f":"COUNTIF('Optimization Approach'!$C$5:$AF$5,B6)","v":0},null,{"$f":"COUNTIF('Optimization Approach'!$C$11:$AF$11,B6)","v":0},null,{"$f":"COUNTIF('Optimization Approach'!$C$5:$C$11,B6)+COUNTIF('Optimization Approach'!$J$5:$J$11,B6)+COUNTIF('Optimization Approach'!$Q$5:$Q$11,B6)+COUNTIF('Optimization Approach'!$X$5:$X$11,B6)+COUNTIF('Optimization Approach'!$AE$5:$AE$11,B6)","v":0},null,{"$f":"'Build Your Schedule'!E8","v":"Mondays"}]
[null,{"$f":"'Build Your Schedule'!B9","v":"Dunn"},null,{"$f":"COUNTIF('Optimization Approach'!$C$5:$AF$11,B7)","v":0},null,12,null,0,null,{"$f":"COUNTIF('Optimization Approach'!$C$10:$AF$11,'OS Statistics'!B7)","v":0},null,2,null,0,null,{"$f":"COUNTIF('Optimization Approach'!$C$5:$AF$5,B7)","v":0},null,{"$f":"COUNTIF('Optimization Approach'!$C$11:$AF$11,B7)","v":0},null,{"$f":"COUNTIF('Optimization Approach'!$E$5:$E$11,B7)+COUNTIF('Optimization Approach'!$L$5:$L$11,B7)+COUNTIF('Optimization Approach'!$S$5:$S$11,B7)+COUNTIF('Optimization Approach'!$Z$5:$Z$11,B7)","v":0},null,{"$f":"'Build Your Schedule'!E9","v":"Wednesdays"}]
[null,{"$f":"'Build Your Schedule'!B10","v":"Elder"},null,{"$f":"COUNTIF('Optimization Approach'!$C$5:$AF$11,B8)","v":0},null,12,null,0,null,{"$f":"COUNTIF('Optimization Approach'!$C$10:$AF$11,'OS Statistics'!B8)","v":0},null,2,null,0,null,"N/A",null,"N/A",null,{"$f":"COUNTIF('Optimization Approach'!$H$5:$H$11,B8)+COUNTIF('Optimization Approach'!$O$5:$O$11,B8)+COUNTIF('Optimization Approach'!$V$5:$V$11,B8)+COUNTIF('Optimization Approach'!$AC$5:$AC$11,B8)","v":0},null,{"$f":"'Build Your Schedule'!E10","v":"Saturdays"}]
[null,{"$f":"'Build Your Schedule'!B11","v":"Ellington"},null,{"$f":"COUNTIF('Optimization Approach'!$C$5:$AF$11,B9)","v":0},null,12,null,0,null,{"$f":"COUNTIF('Optimization Approach'!$C$10:$AF$11,'OS Statistics'!B9)","v":0},null,2,null,0,null,"N/A",null,"N/A",null,{"$f":"COUNTIF('Optimization Approach'!$E$5:$E$11,B9)+COUNTIF('Optimization Approach'!$L$5:$L$11,B9)+COUNTIF('Optimization Approach'!$S$5:$S$11,B9)+COUNTIF('Optimization Approach'!$Z$5:$Z$11,B9)","v":0},null,{"$f":"'Build Your Schedule'!E11","v":"Wednesdays"}]
[null,{"$f":"'Build Your Schedule'!B12","v":"Haynes"},null,{"$f":"COUNTIF('Optimization Approach'!$C$5:$AF$11,B10)","v":0},null,12,null,0,null,{"$f":"COUNTIF('Optimization Approach'!$C$10:$AF$11,'OS Statistics'!B10)","v":0},null,2,null,0,null,{"$f":"COUNTIF('Optimization Approach'!$C$5:$AF$5,B10)","v":0},null,{"$f":"COUNTIF('Optimization Approach'!$C$11:$AF$11,B10)","v":0},null,{"$f":"COUNTIF('Optimization Approach'!$G$5:$G$11,B10)+COUNTIF('Optimization Approach'!$N$5:$N$11,B10)+COUNTIF('Optimization Approach'!$U$5:$U$11,B10)+COUNTIF('Optimization Approach'!$AB$5:$AB$11,B10)","v":0},null,{"$f":"'Build Your Schedule'!E12","v":"Fridays"}]
[null,{"$f":"'Build Your Schedule'!B13","v":"Kahn"},null,{"$f":"COUNTIF('Optimization Approach'!$C$5:$AF$11,B11)","v":0},null,12,null,0,null,{"$f":"COUNTIF('Optimization Approach'!$C$10:$AF$11,'OS Statistics'!B11)","v":0},null,2,null,0,null,{"$f":"COUNTIF('Optimization Approach'!$C$5:$AF$5,B11)","v":0},null,{"$f":"COUNTIF('Optimization Approach'!$C$11:$AF$11,B11)","v":0},null,{"$f":"COUNTIF('Optimization Approach'!$E$5:$E$11,B11)+COUNTIF('Optimization Approach'!$L$5:$L$11,B11)+COUNTIF('Optimization Approach'!$S$5:$S$11,B11)+COUNTIF('Optimization Approach'!$Z$5:$Z$11,B11)","v":0},null,{"$f":"'Build Your Schedule'!E13","v":"Wednesdays"}]
[null,{"$f":"'Build Your Schedule'!B14","v":"Mollison"},null,{"$f":"COUNTIF('Optimization Approach'!$C$5:$AF$11,B12)","v":0},null,12,null,0,null,{"$f":"COUNTIF('Optimization Approach'!$C$10:$AF$11,'OS Statistics'!B12)","v":0},null,2,null,0,null,{"$f":"COUNTIF('Optimization Approach'!$C$5:$AF$5,B12)","v":0},null,{"$f":"COUNTIF('Optimization Approach'!$C$11:$AF$11,B12)","v":0},null,{"$f":"COUNTIF('Optimization Approach'!$D$5:$D$11,B12)+COUNTIF('Optimization Approach'!$K$5:$K$11,B12)+COUNTIF('Optimization Approach'!$R$5:$R$11,B12)+COUNTIF('Optimization Approach'!$Y$5:$Y$11,B12)+COUNTIF('Optimization Approach'!$AF$5:$AF$11,B12)","v":0},null,{"$f":"'Build Your Schedule'!E14","v":"Tuesdays"}]
[null,{"$f":"'Build Your Schedule'!B15","v":"Quick"},null,{"$f":"COUNTIF('Optimization Approach'!$C$5:$AF$11,B13)","v":0},null,12,null,0,null,{"$f":"COUNTIF('Optimization Approach'!$C$10:$AF$11,'OS Statistics'!B13)","v":0},null,2,null,0,null,{"$f":"COUNTIF('Optimization Approach'!$C$5:$AF$5,B13)","v":0},null,{"$f":"COUNTIF('Optimization Approach'!$C$11:$AF$11,B13)","v":0},null,{"$f":"COUNTIF('Optimization Approach'!$E$5:$E$11,B13)+COUNTIF('Optimization Approach'!$L$5:$L$11,B13)+COUNTIF('Optimization Approach'!$S$5:$S$11,B13)+COUNTIF('Optimization Approach'!$Z$5:$Z$11,B13)","v":0},null,{"$f":"'Build Your Schedule'!E15","v":"Wednesdays"}]
[null,{"$f":"'Build Your Schedule'!B16","v":"Stumpos"},null,{"$f":"COUNTIF('Optimization Approach'!$C$5:$AF$11,B14)","v":0},null,12,null,0,null,{"$f":"COUNTIF('Optimization Approach'!$C$10:$AF$11,'OS Statistics'!B14)","v":0},null,2,null,0,null,{"$f":"COUNTIF('Optimization Approach'!$C$5:$AF$5,B14)","v":0},null,{"$f":"COUNTIF('Optimization Approach'!$C$11:$AF$11,B14)","v":0},null,{"$f":"COUNTIF('Optimization Approach'!$D$5:$D$11,B14)+COUNTIF('Optimization Approach'!$K$5:$K$11,B14)+COUNTIF('Optimization Approach'!$R$5:$R$11,B14)+COUNTIF('Optimization Approach'!$Y$5:$Y$11,B14)+COUNTIF('Optimization Approach'!$AF$5:$AF$11,B14)","v":0},null,{"$f":"'Build Your Schedule'!E16","v":"Tuesdays"}]
[null,{"$f":"'Build Your Schedule'!B17","v":"Vidal"},null,{"$f":"COUNTIF('Optimization Approach'!$C$5:$AF$11,B15)","v":0},null,12,null,0,null,{"$f":"COUNTIF('Optimization Approach'!$C$10:$AF$11,'OS Statistics'!B15)","v":0},null,2,null,0,null,"N/A",null,"N/A",null,{"$f":"COUNTIF('Optimization Approach'!$E$5:$E$11,B15)+COUNTIF('Optimization Approach'!$L$5:$L$11,B15)+COUNTIF('Optimization Approach'!$S$5:$S$11,B15)+COUNTIF('Optimization Approach'!$Z$5:$Z$11,B15)","v":0},null,{"$f":"'Build Your Schedule'!E17","v":"Wednesdays"}]
[null,{"$f":"'Build Your Schedule'!B18","v":"West"},null,{"$f":"COUNTIF('Optimization Approach'!$C$5:$AF$11,B16)","v":0},null,12,null,0,null,{"$f":"COUNTIF('Optimization Approach'!$C$10:$AF$11,'OS Statistics'!B16)","v":0},null,2,null,0,null,"N/A",null,"N/A",null,{"$f":"COUNTIF('Optimization Approach'!$G$5:$G$11,B16)+COUNTIF('Optimization Approach'!$N$5:$N$11,B16)+COUNTIF('Optimization Approach'!$U$5:$U$11,B16)+COUNTIF('Optimization Approach'!$AB$5:$AB$11,B16)","v":0},null,{"$f":"'Build Your Schedule'!E18","v":"Fridays"}]
[null,{"$f":"'Build Your Schedule'!B19","v":"Xiong"},null,{"$f":"COUNTIF('Optimization Approach'!$C$5:$AF$11,B17)","v":0},null,12,null,0,null,{"$f":"COUNTIF('Optimization Approach'!$C$10:$AF$11,'OS Statistics'!B17)","v":0},null,2,null,0,null,"N/A",null,"N/A",null,{"$f":"COUNTIF('Optimization Approach'!$D$5:$D$11,B17)+COUNTIF('Optimization Approach'!$K$5:$K$11,B17)+COUNTIF('Optimization Approach'!$R$5:$R$11,B17)+COUNTIF('Optimization Approach'!$Y$5:$Y$11,B17)+COUNTIF('Optimization Approach'!$AF$5:$AF$11,B17)","v":0},null,{"$f":"'Build Your Schedule'!E19","v":"Tuesdays"}]
[null,{"$f":"'Build Your Schedule'!B20","v":"Yee"},null,{"$f":"COUNTIF('Optimization Approach'!$C$5:$AF$11,B18)","v":0},null,12,null,0,null,{"$f":"COUNTIF('Optimization Approach'!$C$10:$AF$11,'OS Statistics'!B18)","v":0},null,2,null,0,null,"N/A",null,"N/A",null,{"$f":"COUNTIF('Optimization Approach'!$E$5:$E$11,B18)+COUNTIF('Optimization Approach'!$L$5:$L$11,B18)+COUNTIF('Optimization Approach'!$S$5:$S$11,B18)+COUNTIF('Optimization Approach'!$Z$5:$Z$11,B18)","v":0},null,{"$f":"'Build Your Schedule'!E20","v":"Wednesdays"}]
[null,{"$f":"'Build Your Schedule'!B21","v":"Zamora"},null,{"$f":"COUNTIF('Optimization Approach'!$C$5:$AF$11,B19)","v":0},null,12,null,0,null,{"$f":"COUNTIF('Optimization Approach'!$C$10:$AF$11,'OS Statistics'!B19)","v":0},null,2,null,0,null,"N/A",null,"N/A",null,{"$f":"COUNTIF('Optimization Approach'!$F$5:$F$11,B19)+COUNTIF('Optimization Approach'!$M$5:$M$11,B19)+COUNTIF('Optimization Approach'!$T$5:$T$11,B19)+COUNTIF('Optimization Approach'!$AA$5:$AA$11,B19)","v":0},null,{"$f":"'Build Your Schedule'!E21","v":"Thursdays"}]

{"sheet":"checker","index":8,"n_rows":13,"n_cols":32,"rows_kept":13,"cut":false,"hidden":true,"merged":[[3,2,3,11]]}
[0," = number of checks"]
[]
[]
[null,null,"Your Original June Schedule"]
[null,null,"Mon","Tue","Wed","Thu","Fri","Sat","Sun","Mon","Tue","Wed","Thu","Fri","Sat","Sun","Mon","Tue","Wed","Thu","Fri","Sat","Sun","Mon","Tue","Wed","Thu","Fri","Sat","Sun","Mon","Tue"]
[null,null,"2015-06-01","2015-06-02","2015-06-03","2015-06-04","2015-06-05","2015-06-06","2015-06-07","2015-06-08","2015-06-09","2015-06-10","2015-06-11","2015-06-12","2015-06-13","2015-06-14","2015-06-15","2015-06-16","2015-06-17","2015-06-18","2015-06-19","2015-06-20","2015-06-21","2015-06-22","2015-06-23","2015-06-24","2015-06-25","2015-06-26","2015-06-27","2015-06-28","2015-06-29","2015-06-30"]
[null,"7a-4p"]
[null,"9a-6p"]
[null,"12p-9p"]
[null,"4p-1a"]
[null,"5p-2a"]
[null,"8p-5a"]
[null,"11p-8a"]